Workbook
Name company: [1]Information!$M$24
Name list_all: '[2]רשימת גופים 2009'!$A$1:$C$139
Name list_all: '[2]רשימת גופים 2009'!$A$1:$C$139
Name list_all: '[2]רשימת גופים 2009'!$A$1:$C$139
Name list_all: '[2]רשימת גופים 2009'!$A$1:$C$139
Name list_all: '[2]רשימת גופים 2009'!$A$1:$C$139
Name list_all: '[2]רשימת גופים 2009'!$A$1:$C$139
Name list_all: '[2]רשימת גופים 2009'!$A$1:$C$139
Name list_all: '[2]רשימת גופים 2009'!$A$1:$C$139
Name list_all: '[2]רשימת גופים 2009'!$A$1:$C$139
Name list_all: '[2]רשימת גופים 2009'!$A$1:$C$139
Name list_all: '[2]רשימת גופים 2009'!$A$1:$C$139
Name list_all: '[2]רשימת גופים 2009'!$A$1:$C$139
Name List_All: '[3]רשימות מערכת'!$A$2:$C$208
Name List_All_Periods: #REF!
Name List_All_Periods: #REF!
Name List_All_Periods: #REF!
Name List_All_Periods: #REF!
Name List_All_Periods: #REF!
Name List_All_Periods: #REF!
Name List_All_Periods: #REF!
Name List_All_Periods: #REF!
Name List_All_Periods: #REF!
Name List_All_Periods: #REF!
Name List_All_Periods: #REF!
Name List_All_Periods: #REF!
Name list_name: '[2]רשימת גופים 2009'!$A$1:$A$139
Name list_name: '[2]רשימת גופים 2009'!$A$1:$A$139
Name list_name: '[2]רשימת גופים 2009'!$A$1:$A$139
Name list_name: '[2]רשימת גופים 2009'!$A$1:$A$139
Name list_name: '[2]רשימת גופים 2009'!$A$1:$A$139
Name list_name: '[2]רשימת גופים 2009'!$A$1:$A$139
Name list_name: '[2]רשימת גופים 2009'!$A$1:$A$139
Name list_name: '[2]רשימת גופים 2009'!$A$1:$A$139
Name list_name: '[2]רשימת גופים 2009'!$A$1:$A$139
Name list_name: '[2]רשימת גופים 2009'!$A$1:$A$139
Name list_name: '[2]רשימת גופים 2009'!$A$1:$A$139
Name list_name: '[2]רשימת גופים 2009'!$A$1:$A$139
Name List_Name: '[4]רשימות מערכת'!$A$2:$A$201
Name List_Names: 'רשימת גופים'!$A$3:$A$230
Name List_Period: #REF!
Name List_Period: #REF!
Name List_Period: #REF!
Name List_Period: #REF!
Name List_Period: #REF!
Name List_Period: #REF!
Name List_Period: #REF!
Name List_Period: #REF!
Name List_Period: #REF!
Name List_Period: #REF!
Name List_Period: #REF!
Name List_Period: #REF!
Name list_type: #REF!
Name list_type: #REF!
Name list_type: #REF!
Name list_type: #REF!
Name list_type: #REF!
Name list_type: #REF!
Name list_type: #REF!
Name list_type: #REF!

Sheet הסבר למילוי
B2: הסבר למילוי השורות בנספחים א1 - א3:
B3: א. | C3: שורה א1, "תביעות פתוחות לתחילת השנה" - מספרן יהיה שווה ליתרת הסגירה של השנה הקודמת, כאשר בשנת הדיווח הראשונה מספר התביעות יהיה שווה לאפס;
B4: ב. | C4: שורה א2, "תביעות שהוגשו במהלך השנה" - לרבות תביעות שלא הגיעו לידי בירור (כגון בשל אי שליחת מסמכים על ידי התובע). לעניין סעיף זה, תביעה שנסגרה ונפתחה מחדש תיחשב כתביעה אחת;
B5: ג. | C5: שורה א3, "תביעות ששולמו" - תביעות בהן מסר הגוף המוסדי לתובע הודעת תשלום;
C6: שורה א3א, "תביעות ששולמו חלקית" - תביעות בהן מסר הגוף המוסדי לתובע הודעת תשלום חלקי;
B7: ד. | C7: שורה א5, "תביעות שנדחו" - תביעות בהן מסר הגוף המוסדי לתובע הודעת דחייה;
B8: ה. | C8: שורה א6, "תביעות שנסגרו בפשרה" - תביעות בהן אישר התובע את הודעת הפשרה שמסר לו הגוף המוסדי;
B9: ו. | C9: שורה א7, "תביעות שבוטלו" - תביעות שנסגרו למעט תביעות שאושרו, נדחו או נסגרו בפשרה;
B10: ז. | C10: שורה א8, "תביעות שנסגרו" - סכום שורות א3 - א7;
B11: ח. | C11: שורה א9, "תביעות פתוחות לסוף השנה" - שורה א1 בתוספת שורה א2 בניכוי שורה א8;
B12: ט. | C12: שורה ב1, "תביעות שנסגרו בבוררות" - תביעות שאושרו;
B13: י. | C13: שורה ב2, "תביעות שנסגרו בבוררות" - תביעות שנדחו;
B14: יא. | C14: שורה ג1, "תביעות שנסגרו בבית משפט" - תביעות שאושרו;
B15: יב. | C15: שורה ג2, "תביעות שנסגרו בבית משפט" - תביעות שנדחו;
B16: יג. | C16: שורה ג3, "תביעות שנסגרו בבית משפט" - פשרה;
B17: יד. | C17: שורה ג4, "תביעות שנסגרו בבית משפט" - אחר.
B21: הסבר למילוי השורות בנספחים א4 ו-א5
B22: א. | C22: שורה א1, "בקשות פתוחות לתחילת השנה" – מספרן יהיה שווה ליתרת הסגירה של השנה הקודמת;
B23: ב. | C23: שורה א2, "בקשות שהוגשו במהלך השנה" – לרבות בקשות שלא הגיעו לידי סיום טיפול במהלך השנה;
B24: ג. | C24: שורה א3, "בקשות שבוטלו במהלך השנה" – בקשות שביטל העמית או בקשות שדחה הגוף המוסדי כיוון שלא ניתן לבצען לפי הוראות הדין;
B25: ד. | C25: שורה א4, "בקשות שהגיעו לידי סיום טיפול במהלך השנה" – סיום טיפול ייחשב כתשלום לעמית, העברת כספים או שליחת הודעה, לפי העניין, כאמור בהגדרת "משך זמן הטיפול בבקשה" לחוזר;
B26: ה. | C26: שורה א5, "בקשות פתוחות לסוף השנה" – שורה א1 בתוספת שורה א2 ובהפחתת שורות א3 ו-א4.

Sheet הוראות
A2: אופן הדיווח
A3: (1 | B3: את גיליון העבודה, לאחר מילוי הנתונים, יש לשלוח לדואר אלקטרוני: | F3: dnetunim@mof.gov.il
A4: 2) | B4: שם הקובץ יהיה עפ"י הוראות החוזר בלבד (לפי התא המסומן בצהוב - "שם קובץ לשמירה"). קובץ בשם לא תקין, לא יתקבל ויחשב כאי הגשת הדוח.
A5: 3) | B5: יש למלא את נתוני החברה ונתוני איש הקשר, בתאים המיועדים לכך להלן.
A6: 4) | B6: הנתונים המדווחים עבור חברה מסוימת (חברת ביטוח או חברה מנהלת).
A7: 5) | B7: הקובץ המדווח יהיה הקובץ המקורי אותו הורדתם מאתר האינטרנט של אגף שוק ההון, ביטוח וחיסכון. לא יתקבל קובץ סרוק או מועתק משנה אחרת, קובץ שנבנה בצורה עצמאית או קובץ PDF.
A9: 6) | B9: כל שינוי בשם הגוף המוסדי או הוספת גוף מוסדי חדש, יש לעדכן את שם הגוף המוסדי ואת הח.פ בגיליון רשימת גופים.
B12: שם הגוף המוסדי | C12: מספר זיהוי - מס. ח.פ | D12: שם איש קשר | E12: טלפון | F12: שנה | G12: תקופת הדו"ח | H12: שם הקובץ לשמירה
B13: ק.ה.ר הקרן השתלמות לרוקחים בע"מ | C13: =VLOOKUP(B13,'רשימת גופים'!A3:B230,2,0) -> 520030198 | D13: יאיר חן | E13: 09-9576000 | F13: 2020 | G13: שנתי | H13: =CONCATENATE("netunim","_",C13,"_",F13,".xlsx") -> netunim_520030198_2020.xlsx | Z13: הנתונים ביחידות בודדות לשנת
B15: חזרה
B16: תוכן עניינים:
B17: רשימת גופים
B18: נספח א1 מספרי תביעות בביטוח כללי | D18: כללי א1
B19: נספח א2 מספרי תביעות בביטוח בריאות | D19: בריאות א2
B20: נספח א3 מספרי תביעות בקצבת נכות (א.כ.ע), ריסק מוות וקצבת שארים | D20: פנסיוני א3
B21: נספח א4 - מספרי בקשות למשיכת כספים או לקבלת קצבת זקנה (גמל) | D21: נספח א4 (G)
B22: נספח א4 - מספרי בקשות למשיכת כספים או לקבלת קצבת זקנה (פנסיה) | D22: נספח א4 (P)
B23: נספח א4 - מספרי בקשות למשיכת כספים או לקבלת קצבת זקנה (ביטוח) | D23: נספח א4 (B)
B24: נספח א5 - מספרי בקשות להעברת כספים בין קופות גמל או בין מסלולי השקעה (גמל) | D24: נספח א5 (G)
B25: נספח א5 - מספרי בקשות להעברת כספים בין קופות גמל או בין מסלולי השקעה (פנסיה) | D25: נספח א5 (P)
B26: נספח א5 - מספרי בקשות להעברת כספים בין קופות גמל או בין מסלולי השקעה (ביטוח) | D26: נספח א5 (B)
B27: נספח ב1 מדדי תביעות בביטוח כללי | D27: כללי ב1
B28: נספח ב2 מדדי תביעות בביטוח בריאות | D28: בריאות ב2
B29: נספח ב3 מדדי תביעות בקצבת נכות (א.כ.ע), ריסק מוות וקצבת שארים | D29: פנסיוני ב3
... B35: נספח ב5 - מדדי בקשות להעברת כספים בין קופות גמל או בין מסלולי השקעה (ביטוח) | D35: נספח ב5 (B)

Sheet רשימת גופים
A1: חזרה
A3: חברה מדווחת _______ | B3: 123456789
A4: איי אי ג'י ישראל חברה לביטוח בע"מ | B4: 512304882 | D4: להוספת שם גוף מוסדי חדש, יש להוסיף את השם ואת הח.פ בסוף הרשימה
A5: איילון חברה לביטוח בע"מ | B5: 520042169
A6: אליהו חברה לביטוח בע"מ | B6: 520029851
A7: אקסלנס נשואה פנסיה (אחדות) בע"מ | B7: 512401449
A8: ביטוח חקלאי אגודה שיתופית מרכזית בע"מ | B8: 570003152
A9: גילעד גמלאות לעובדים דתיים בע"מ | B9: 520023094
A10: גלעד קרן פנסיה מקיפה בע"מ | B10: 512242215
A11: דקלה חברה לביטוח בע"מ | B11: 520030503
A12: הכשרה חברה לביטוח בע"מ | B12: 520042177
A13: הלמן - אלדובי קרנות פנסיה בע"מ | B13: 513465203
A14: הפניקס בריאות חברה לביטוח בע"מ | B14: 513929091
A15: הפניקס חברה לביטוח בע"מ | B15: 520023185
A16: הפניקס קרנות פנסיה מאוזנות וותיקות בע"מ | B16: 511751513
... A198: מגדל מקפת קרנות פנסיה וקופות גמל בע"מ | B198: 512237744

Sheet כללי א1
B1: =הוראות!B18 -> נספח א1 מספרי תביעות בביטוח כללי
B2: =הוראות!B13 -> ק.ה.ר הקרן השתלמות לרוקחים בע"מ
B3: =CONCATENATE(הוראות!Z13,הוראות!F13) -> הנתונים ביחידות בודדות לשנת 2020
B4: חזרה | C4: רכב חובה | J4: רכב רכוש | X4: דירות (למעט נזקי מים) | AL4: דירות (נזקי מים בלבד)
J5: נזק עצמי | Q5: צד שלישי | X5: נזק למבנה | AE5: נזק לתכולה | AL5: נזק למבנה | AS5: נזק לתכולה
C6: סה"כ מספר תביעות | E6: מספר התביעות שנסגרו במהלך השנה | J6: =C6 -> סה"כ מספר תביעות | K6: מספר התביעות שנסגרו במהלך השנה | Q6: =C6 -> סה"כ מספר תביעות | R6: מספר התביעות שנסגרו במהלך השנה | X6: =C6 -> סה"כ מספר תביעות | Y6: מספר התביעות שנסגרו במהלך השנה | AE6: =J6 -> סה"כ מספר תביעות | AF6: מספר התביעות שנסגרו במהלך השנה | AL6: =Q6 -> סה"כ מספר תביעות | AM6: מספר התביעות שנסגרו במהלך השנה | AS6: =X6 -> סה"כ מספר תביעות | AT6: מספר התביעות שנסגרו במהלך השנה
B7: מספרי התביעות (בערכים) | D7: עד 60 יום | E7: 61 -120 יום | F7: 121 -360 יום | G7: 361 - 730 יום | H7: 731 - 1276 יום | I7: מעל 1277 יום | K7: עד 14 יום | L7: 15-30 יום | M7: 31-60 יום | N7: 61-120 יום | O7: 121-180 יום | P7: 181 יום ומעלה | R7: עד 14 יום | S7: 15-30 יום | T7: 31-60 יום | U7: 61-120 יום | V7: 121-180 יום | W7: 181 יום ומעלה | Y7: עד 14 יום | Z7: 15-30 יום | AA7: 31-60 יום | AB7: 61-120 יום | AC7: 121-180 יום | AD7: 181 יום ומעלה | AF7: עד 14 יום | AG7: 15-30 יום | AH7: 31-60 יום | AI7: 61-120 יום | AJ7: 121-180 יום | AK7: 181 יום ומעלה | AM7: עד 14 יום | AN7: 15-30 יום | AO7: 31-60 יום | AP7: 61-120 יום | AQ7: 121-180 יום | AR7: 181 יום ומעלה | AT7: עד 14 יום | AU7: 15-30 יום | AV7: 31-60 יום | AW7: 61-120 יום | AX7: 121-180 יום | AY7: 181 יום ומעלה
C8: (1) | D8: (2) | E8: (3) | F8: (4) | G8: (5) | H8: (6) | I8: (7) | J8: (8) | K8: (9) | L8: (10) | M8: (11) | N8: (12) | O8: (13) | P8: (14) | Q8: (15) | R8: (16) | S8: (17) | T8: (18) | U8: (19) | V8: (20) | W8: (21) | X8: (22) | Y8: (23) | Z8: (24) | AA8: (25) | AB8: (26) | AC8: (27) | AD8: (28) | AE8: (29) | AF8: (30) | AG8: (31) | AH8: (32) | AI8: (33) | AJ8: (34) | AK8: (35) | AL8: (36) | AM8: (37) | AN8: (38) | AO8: (39) | AP8: (40) | AQ8: (41) | AR8: (42) | AS8: (43) | AT8: (44) | AU8: (45) | AV8: (46) | AW8: (47) | AX8: (48) | AY8: (49)
A9: א | B9: תביעות:
A10: 1 | B10: תביעות פתוחות לתחילת השנה
A11: =A10+1 -> 2 | B11: תביעות שהוגשו במהלך השנה
A12: 3 | B12: תביעות ששולמו | C12: =SUM(D12:I12) -> 0 | J12: =SUM(K12:P12) -> 0 | Q12: =SUM(R12:W12) -> 0 | X12: =SUM(Y12:AD12) -> 0 | AE12: =SUM(AF12:AK12) -> 0 | AL12: =SUM(AM12:AR12) -> 0 | AS12: =SUM(AT12:AY12) -> 0
A13: 3א | B13: תביעות ששולמו חלקית | C13: =SUM(D13:I13) -> 0 | J13: =SUM(K13:P13) -> 0 | Q13: =SUM(R13:W13) -> 0 | X13: =SUM(Y13:AD13) -> 0 | AE13: =SUM(AF13:AK13) -> 0 | AL13: =SUM(AM13:AR13) -> 0 | AS13: =SUM(AT13:AY13) -> 0
A14: 4 | B14: תביעות שנדחו | C14: =SUM(D14:I14) -> 0 | J14: =SUM(K14:P14) -> 0 | Q14: =SUM(R14:W14) -> 0 | X14: =SUM(Y14:AD14) -> 0 | AE14: =SUM(AF14:AK14) -> 0 | AL14: =SUM(AM14:AR14) -> 0 | AS14: =SUM(AT14:AY14) -> 0
A15: 5 | B15: תביעות שנסגרו בפשרה | C15: =SUM(D15:I15) -> 0 | J15: =SUM(K15:P15) -> 0 | Q15: =SUM(R15:W15) -> 0 | X15: =SUM(Y15:AD15) -> 0 | AE15: =SUM(AF15:AK15) -> 0 | AL15: =SUM(AM15:AR15) -> 0 | AS15: =SUM(AT15:AY15) -> 0
A16: 6 | B16: תביעות שבוטלו | C16: =SUM(D16:I16) -> 0 | J16: =SUM(K16:P16) -> 0 | Q16: =SUM(R16:W16) -> 0 | X16: =SUM(Y16:AD16) -> 0 | AE16: =SUM(AF16:AK16) -> 0 | AL16: =SUM(AM16:AR16) -> 0 | AS16: =SUM(AT16:AY16) -> 0
A17: 7 | B17: תביעות שנסגרו (א3+א3א+א4+א5+א6) | C17: =SUM(C12:C16) -> 0 | D17: =SUM(D12:D16) -> 0 | E17: =SUM(E12:E16) -> 0 | F17: =SUM(F12:F16) -> 0 | G17: =SUM(G12:G16) -> 0 | H17: =SUM(H12:H16) -> 0 | I17: =SUM(I12:I16) -> 0 | J17: =SUM(J12:J16) -> 0 | ... AY17: =SUM(AY12:AY16) -> 0
A18: 8 | B18: תביעות פתוחות לסוף השנה (א1+א2-א7) | C18: =IF(C10+C11-C17=0,0,C10+C11-C17) -> 0 | J18: =IF(J10+J11-J17=0,0,J10+J11-J17) -> 0 | Q18: =IF(Q10+Q11-Q17=0,0,Q10+Q11-Q17) -> 0 | X18: =IF(X10+X11-X17=0,0,X10+X11-X17) -> 0 | AE18: =IF(AE10+AE11-AE17=0,0,AE10+AE11-AE17) -> 0 | AL18: =IF(AL10+AL11-AL17=0,0,AL10+AL11-AL17) -> 0 | AS18: =IF(AS10+AS11-AS17=0,0,AS10+AS11-AS17) -> 0
A19: ב | B19: תביעות שנסגרו בבוררות:
A20: 1 | B20: תביעות שאושרו | C20: =SUM(D20:I20) -> 0 | J20: =SUM(K20:P20) -> 0 | Q20: =SUM(R20:W20) -> 0 | X20: =SUM(Y20:AD20) -> 0 | AE20: =SUM(AF20:AK20) -> 0 | AL20: =SUM(AM20:AR20) -> 0 | AS20: =SUM(AT20:AY20) -> 0
A21: 2 | B21: תביעות שנדחו | C21: =SUM(D21:I21) -> 0 | J21: =SUM(K21:P21) -> 0 | Q21: =SUM(R21:W21) -> 0 | X21: =SUM(Y21:AD21) -> 0 | AE21: =SUM(AF21:AK21) -> 0 | AL21: =SUM(AM21:AR21) -> 0 | AS21: =SUM(AT21:AY21) -> 0
A22: 3 | B22: סה"כ (ב1+ב2) | C22: =SUM(C20:C21) -> 0 | D22: =SUM(D20:D21) -> 0 | E22: =SUM(E20:E21) -> 0 | F22: =SUM(F20:F21) -> 0 | G22: =SUM(G20:G21) -> 0 | H22: =SUM(H20:H21) -> 0 | I22: =SUM(I20:I21) -> 0 | J22: =SUM(J20:J21) -> 0 | ... AY22: =SUM(AY20:AY21) -> 0
A23: ג | B23: תביעות שנסגרו בבית משפט:
A24: 1 | B24: תביעות שאושרו | C24: =SUM(D24:I24) -> 0 | J24: =SUM(K24:P24) -> 0 | Q24: =SUM(R24:W24) -> 0 | X24: =SUM(Y24:AD24) -> 0 | AE24: =SUM(AF24:AK24) -> 0 | AL24: =SUM(AM24:AR24) -> 0 | AS24: =SUM(AT24:AY24) -> 0
A25: 2 | B25: תביעות שנדחו | C25: =SUM(D25:I25) -> 0 | J25: =SUM(K25:P25) -> 0 | Q25: =SUM(R25:W25) -> 0 | X25: =SUM(Y25:AD25) -> 0 | AE25: =SUM(AF25:AK25) -> 0 | AL25: =SUM(AM25:AR25) -> 0 | AS25: =SUM(AT25:AY25) -> 0
A26: 3 | B26: פשרה | C26: =SUM(D26:I26) -> 0 | J26: =SUM(K26:P26) -> 0 | Q26: =SUM(R26:W26) -> 0 | X26: =SUM(Y26:AD26) -> 0 | AE26: =SUM(AF26:AK26) -> 0 | AL26: =SUM(AM26:AR26) -> 0 | AS26: =SUM(AT26:AY26) -> 0
A27: 4 | B27: אחר | C27: =SUM(D27:I27) -> 0 | J27: =SUM(K27:P27) -> 0 | Q27: =SUM(R27:W27) -> 0 | X27: =SUM(Y27:AD27) -> 0 | AE27: =SUM(AF27:AK27) -> 0 | AL27: =SUM(AM27:AR27) -> 0 | AS27: =SUM(AT27:AY27) -> 0
A28: =A27+1 -> 5 | B28: סה"כ (ג1+ג2+ג3+ג4) | C28: =SUM(C24:C27) -> 0 | D28: =SUM(D24:D27) -> 0 | E28: =SUM(E24:E27) -> 0 | F28: =SUM(F24:F27) -> 0 | G28: =SUM(G24:G27) -> 0 | H28: =SUM(H24:H27) -> 0 | I28: =SUM(I24:I27) -> 0 | J28: =SUM(J24:J27) -> 0 | ... AY28: =SUM(AY24:AY27) -> 0
B31: מדדי התביעות (באחוזים) | C31: רכב חובה | J31: רכב רכוש | X31: דירות
J32: נזק עצמי | Q32: צד שלישי | X32: נזק למבנה | AE32: נזק לתכולה
C33: סה"כ | D33: עד 60 יום | E33: 61 -120 יום | F33: 121 -360 יום | G33: 361 - 730 יום | H33: 731 - 1276 יום | I33: מעל 1277 יום | J33: סה"כ | K33: עד 14 יום | L33: 15-30 יום | M33: 31-60 יום | N33: 61-120 יום | O33: 121-180 יום | P33: 181 יום ומעלה | Q33: סה"כ | R33: עד 14 יום | S33: 15-30 יום | T33: 31-60 יום | U33: 61-120 יום | V33: 121-180 יום | W33: 181 יום ומעלה | X33: סה"כ | Y33: עד 14 יום | Z33: 15-30 יום | AA33: 31-60 יום | AB33: 61-120 יום | AC33: 121-180 יום | AD33: 181 יום ומעלה | AE33: סה"כ | AF33: עד 14 יום | AG33: 15-30 יום | AH33: 31-60 יום | AI33: 61-120 יום | AJ33: 121-180 יום | AK33: 181 יום ומעלה
C34: (1) | D34: (2) | E34: (3) | F34: (4) | G34: (5) | H34: (6) | I34: (7) | J34: (8) | K34: (9) | L34: (10) | M34: (11) | N34: (12) | O34: (13) | P34: (14) | Q34: (15) | R34: (16) | S34: (17) | T34: (18) | U34: (19) | V34: (20) | W34: (21) | X34: (22) | Y34: (23) | Z34: (24) | AA34: (25) | AB34: (26) | AC34: (27) | AD34: (28) | AE34: (29) | AF34: (30) | AG34: (31) | AH34: (32) | AI34: (33) | AJ34: (34) | AK34: (35)
A35: א | B35: תביעות:
A36: 3 | B36: תביעות ששולמו | C36: =SUM(D36:I36) -> 0 | D36: =IF('כללי א1'!D12=0,0,'כללי א1'!D12/'כללי א1'!$C$17) -> 0 | E36: =IF('כללי א1'!E12=0,0,'כללי א1'!E12/'כללי א1'!$C$17) -> 0 | F36: =IF('כללי א1'!F12=0,0,'כללי א1'!F12/'כללי א1'!$C$17) -> 0 | G36: =IF('כללי א1'!G12=0,0,'כללי א1'!G12/'כללי א1'!$C$17) -> 0 | H36: =IF('כללי א1'!H12=0,0,'כללי א1'!H12/'כללי א1'!$C$17) -> 0 | I36: =IF('כללי א1'!I12=0,0,'כללי א1'!I12/'כללי א1'!$C$17) -> 0 | J36: =SUM(K36:P36) -> 0 | K36: =IF('כללי א1'!K12=0,0,'כללי א1'!K12/'כללי א1'!$C$17) -> 0 | L36: =IF('כללי א1'!L12=0,0,'כללי א1'!L12/'כללי א1'!$C$17) -> 0 | M36: =IF('כללי א1'!M12=0,0,'כללי א1'!M12/'כללי א1'!$C$17) -> 0 | N36: =IF('כללי א1'!N12=0,0,'כללי א1'!N12/'כללי א1'!$C$17) -> 0 | O36: =IF('כללי א1'!O12=0,0,'כללי א1'!O12/'כללי א1'!$C$17) -> 0 | P36: =IF('כללי א1'!P12=0,0,'כללי א1'!P12/'כללי א1'!$C$17) -> 0 | Q36: =SUM(R36:W36) -> 0 | R36: =IF('כללי א1'!R12=0,0,'כללי א1'!R12/'כללי א1'!$C$17) -> 0 | S36: =IF('כללי א1'!S12=0,0,'כללי א1'!S12/'כללי א1'!$C$17) -> 0 | T36: =IF('כללי א1'!T12=0,0,'כללי א1'!T12/'כללי א1'!$C$17) -> 0 | U36: =IF('כללי א1'!U12=0,0,'כללי א1'!U12/'כללי א1'!$C$17) -> 0 | V36: =IF('כללי א1'!V12=0,0,'כללי א1'!V12/'כללי א1'!$C$17) -> 0 | W36: =IF('כללי א1'!W12=0,0,'כללי א1'!W12/'כללי א1'!$C$17) -> 0 | X36: =SUM(Y36:AD36) -> 0 | Y36: =IF('כללי א1'!Y12=0,0,'כללי א1'!Y12/'כללי א1'!$C$17) -> 0 | Z36: =IF('כללי א1'!Z12=0,0,'כללי א1'!Z12/'כללי א1'!$C$17) -> 0 | AA36: =IF('כללי א1'!AA12=0,0,'כללי א1'!AA12/'כללי א1'!$C$17) -> 0 | AB36: =IF('כללי א1'!AB12=0,0,'כללי א1'!AB12/'כללי א1'!$C$17) -> 0 | AC36: =IF('כללי א1'!AC12=0,0,'כללי א1'!AC12/'כללי א1'!$C$17) -> 0 | AD36: =IF('כללי א1'!AD12=0,0,'כללי א1'!AD12/'כללי א1'!$C$17) -> 0 | AE36: =SUM(AF36:AK36) -> 0 | AF36: =IF('כללי א1'!AF12=0,0,'כללי א1'!AF12/'כללי א1'!$C$17) -> 0 | AG36: =IF('כללי א1'!AG12=0,0,'כללי א1'!AG12/'כללי א1'!$C$17) -> 0 | AH36: =IF('כללי א1'!AH12=0,0,'כללי א1'!AH12/'כללי א1'!$C$17) -> 0 | AI36: =IF('כללי א1'!AI12=0,0,'כללי א1'!AI12/'כללי א1'!$C$17) -> 0 | AJ36: =IF('כללי א1'!AJ12=0,0,'כללי א1'!AJ12/'כללי א1'!$C$17) -> 0 | AK36: =IF('כללי א1'!AK12=0,0,'כללי א1'!AK12/'כללי א1'!$C$17) -> 0
A37: 3א | B37: תביעות ששולמו חלקית | C37: =SUM(D37:I37) -> 0 | D37: =IF('כללי א1'!D13=0,0,'כללי א1'!D13/'כללי א1'!$C$17) -> 0 | E37: =IF('כללי א1'!E13=0,0,'כללי א1'!E13/'כללי א1'!$C$17) -> 0 | F37: =IF('כללי א1'!F13=0,0,'כללי א1'!F13/'כללי א1'!$C$17) -> 0 | G37: =IF('כללי א1'!G13=0,0,'כללי א1'!G13/'כללי א1'!$C$17) -> 0 | H37: =IF('כללי א1'!H13=0,0,'כללי א1'!H13/'כללי א1'!$C$17) -> 0 | I37: =IF('כללי א1'!I13=0,0,'כללי א1'!I13/'כללי א1'!$C$17) -> 0 | J37: =SUM(K37:P37) -> 0 | K37: =IF('כללי א1'!K13=0,0,'כללי א1'!K13/'כללי א1'!$C$17) -> 0 | L37: =IF('כללי א1'!L13=0,0,'כללי א1'!L13/'כללי א1'!$C$17) -> 0 | M37: =IF('כללי א1'!M13=0,0,'כללי א1'!M13/'כללי א1'!$C$17) -> 0 | N37: =IF('כללי א1'!N13=0,0,'כללי א1'!N13/'כללי א1'!$C$17) -> 0 | O37: =IF('כללי א1'!O13=0,0,'כללי א1'!O13/'כללי א1'!$C$17) -> 0 | P37: =IF('כללי א1'!P13=0,0,'כללי א1'!P13/'כללי א1'!$C$17) -> 0 | Q37: =SUM(R37:W37) -> 0 | R37: =IF('כללי א1'!R13=0,0,'כללי א1'!R13/'כללי א1'!$C$17) -> 0 | S37: =IF('כללי א1'!S13=0,0,'כללי א1'!S13/'כללי א1'!$C$17) -> 0 | T37: =IF('כללי א1'!T13=0,0,'כללי א1'!T13/'כללי א1'!$C$17) -> 0 | U37: =IF('כללי א1'!U13=0,0,'כללי א1'!U13/'כללי א1'!$C$17) -> 0 | V37: =IF('כללי א1'!V13=0,0,'כללי א1'!V13/'כללי א1'!$C$17) -> 0 | W37: =IF('כללי א1'!W13=0,0,'כללי א1'!W13/'כללי א1'!$C$17) -> 0 | X37: =SUM(Y37:AD37) -> 0 | Y37: =IF('כללי א1'!Y13=0,0,'כללי א1'!Y13/'כללי א1'!$C$17) -> 0 | Z37: =IF('כללי א1'!Z13=0,0,'כללי א1'!Z13/'כללי א1'!$C$17) -> 0 | AA37: =IF('כללי א1'!AA13=0,0,'כללי א1'!AA13/'כללי א1'!$C$17) -> 0 | AB37: =IF('כללי א1'!AB13=0,0,'כללי א1'!AB13/'כללי א1'!$C$17) -> 0 | AC37: =IF('כללי א1'!AC13=0,0,'כללי א1'!AC13/'כללי א1'!$C$17) -> 0 | AD37: =IF('כללי א1'!AD13=0,0,'כללי א1'!AD13/'כללי א1'!$C$17) -> 0 | AE37: =SUM(AF37:AK37) -> 0 | AF37: =IF('כללי א1'!AF13=0,0,'כללי א1'!AF13/'כללי א1'!$C$17) -> 0 | AG37: =IF('כללי א1'!AG13=0,0,'כללי א1'!AG13/'כללי א1'!$C$17) -> 0 | AH37: =IF('כללי א1'!AH13=0,0,'כללי א1'!AH13/'כללי א1'!$C$17) -> 0 | AI37: =IF('כללי א1'!AI13=0,0,'כללי א1'!AI13/'כללי א1'!$C$17) -> 0 | AJ37: =IF('כללי א1'!AJ13=0,0,'כללי א1'!AJ13/'כללי א1'!$C$17) -> 0 | AK37: =IF('כללי א1'!AK13=0,0,'כללי א1'!AK13/'כללי א1'!$C$17) -> 0
A38: 4 | B38: תביעות שנדחו | C38: =SUM(D38:I38) -> 0 | D38: =IF('כללי א1'!D14=0,0,'כללי א1'!D14/'כללי א1'!$C$17) -> 0 | E38: =IF('כללי א1'!E14=0,0,'כללי א1'!E14/'כללי א1'!$C$17) -> 0 | F38: =IF('כללי א1'!F14=0,0,'כללי א1'!F14/'כללי א1'!$C$17) -> 0 | G38: =IF('כללי א1'!G14=0,0,'כללי א1'!G14/'כללי א1'!$C$17) -> 0 | H38: =IF('כללי א1'!H14=0,0,'כללי א1'!H14/'כללי א1'!$C$17) -> 0 | I38: =IF('כללי א1'!I14=0,0,'כללי א1'!I14/'כללי א1'!$C$17) -> 0 | J38: =SUM(K38:P38) -> 0 | K38: =IF('כללי א1'!K14=0,0,'כללי א1'!K14/'כללי א1'!$C$17) -> 0 | L38: =IF('כללי א1'!L14=0,0,'כללי א1'!L14/'כללי א1'!$C$17) -> 0 | M38: =IF('כללי א1'!M14=0,0,'כללי א1'!M14/'כללי א1'!$C$17) -> 0 | N38: =IF('כללי א1'!N14=0,0,'כללי א1'!N14/'כללי א1'!$C$17) -> 0 | O38: =IF('כללי א1'!O14=0,0,'כללי א1'!O14/'כללי א1'!$C$17) -> 0 | P38: =IF('כללי א1'!P14=0,0,'כללי א1'!P14/'כללי א1'!$C$17) -> 0 | Q38: =SUM(R38:W38) -> 0 | R38: =IF('כללי א1'!R14=0,0,'כללי א1'!R14/'כללי א1'!$C$17) -> 0 | S38: =IF('כללי א1'!S14=0,0,'כללי א1'!S14/'כללי א1'!$C$17) -> 0 | T38: =IF('כללי א1'!T14=0,0,'כללי א1'!T14/'כללי א1'!$C$17) -> 0 | U38: =IF('כללי א1'!U14=0,0,'כללי א1'!U14/'כללי א1'!$C$17) -> 0 | V38: =IF('כללי א1'!V14=0,0,'כללי א1'!V14/'כללי א1'!$C$17) -> 0 | W38: =IF('כללי א1'!W14=0,0,'כללי א1'!W14/'כללי א1'!$C$17) -> 0 | X38: =SUM(Y38:AD38) -> 0 | Y38: =IF('כללי א1'!Y14=0,0,'כללי א1'!Y14/'כללי א1'!$C$17) -> 0 | Z38: =IF('כללי א1'!Z14=0,0,'כללי א1'!Z14/'כללי א1'!$C$17) -> 0 | AA38: =IF('כללי א1'!AA14=0,0,'כללי א1'!AA14/'כללי א1'!$C$17) -> 0 | AB38: =IF('כללי א1'!AB14=0,0,'כללי א1'!AB14/'כללי א1'!$C$17) -> 0 | AC38: =IF('כללי א1'!AC14=0,0,'כללי א1'!AC14/'כללי א1'!$C$17) -> 0 | AD38: =IF('כללי א1'!AD14=0,0,'כללי א1'!AD14/'כללי א1'!$C$17) -> 0 | AE38: =SUM(AF38:AK38) -> 0 | AF38: =IF('כללי א1'!AF14=0,0,'כללי א1'!AF14/'כללי א1'!$C$17) -> 0 | AG38: =IF('כללי א1'!AG14=0,0,'כללי א1'!AG14/'כללי א1'!$C$17) -> 0 | AH38: =IF('כללי א1'!AH14=0,0,'כללי א1'!AH14/'כללי א1'!$C$17) -> 0 | AI38: =IF('כללי א1'!AI14=0,0,'כללי א1'!AI14/'כללי א1'!$C$17) -> 0 | AJ38: =IF('כללי א1'!AJ14=0,0,'כללי א1'!AJ14/'כללי א1'!$C$17) -> 0 | AK38: =IF('כללי א1'!AK14=0,0,'כללי א1'!AK14/'כללי א1'!$C$17) -> 0
A39: 5 | B39: תביעות שנסגרו בפשרה | C39: =SUM(D39:I39) -> 0 | D39: =IF('כללי א1'!D15=0,0,'כללי א1'!D15/'כללי א1'!$C$17) -> 0 | E39: =IF('כללי א1'!E15=0,0,'כללי א1'!E15/'כללי א1'!$C$17) -> 0 | F39: =IF('כללי א1'!F15=0,0,'כללי א1'!F15/'כללי א1'!$C$17) -> 0 | G39: =IF('כללי א1'!G15=0,0,'כללי א1'!G15/'כללי א1'!$C$17) -> 0 | H39: =IF('כללי א1'!H15=0,0,'כללי א1'!H15/'כללי א1'!$C$17) -> 0 | I39: =IF('כללי א1'!I15=0,0,'כללי א1'!I15/'כללי א1'!$C$17) -> 0 | J39: =SUM(K39:P39) -> 0 | K39: =IF('כללי א1'!K15=0,0,'כללי א1'!K15/'כללי א1'!$C$17) -> 0 | L39: =IF('כללי א1'!L15=0,0,'כללי א1'!L15/'כללי א1'!$C$17) -> 0 | M39: =IF('כללי א1'!M15=0,0,'כללי א1'!M15/'כללי א1'!$C$17) -> 0 | N39: =IF('כללי א1'!N15=0,0,'כללי א1'!N15/'כללי א1'!$C$17) -> 0 | O39: =IF('כללי א1'!O15=0,0,'כללי א1'!O15/'כללי א1'!$C$17) -> 0 | P39: =IF('כללי א1'!P15=0,0,'כללי א1'!P15/'כללי א1'!$C$17) -> 0 | Q39: =SUM(R39:W39) -> 0 | R39: =IF('כללי א1'!R15=0,0,'כללי א1'!R15/'כללי א1'!$C$17) -> 0 | S39: =IF('כללי א1'!S15=0,0,'כללי א1'!S15/'כללי א1'!$C$17) -> 0 | T39: =IF('כללי א1'!T15=0,0,'כללי א1'!T15/'כללי א1'!$C$17) -> 0 | U39: =IF('כללי א1'!U15=0,0,'כללי א1'!U15/'כללי א1'!$C$17) -> 0 | V39: =IF('כללי א1'!V15=0,0,'כללי א1'!V15/'כללי א1'!$C$17) -> 0 | W39: =IF('כללי א1'!W15=0,0,'כללי א1'!W15/'כללי א1'!$C$17) -> 0 | X39: =SUM(Y39:AD39) -> 0 | Y39: =IF('כללי א1'!Y15=0,0,'כללי א1'!Y15/'כללי א1'!$C$17) -> 0 | Z39: =IF('כללי א1'!Z15=0,0,'כללי א1'!Z15/'כללי א1'!$C$17) -> 0 | AA39: =IF('כללי א1'!AA15=0,0,'כללי א1'!AA15/'כללי א1'!$C$17) -> 0 | AB39: =IF('כללי א1'!AB15=0,0,'כללי א1'!AB15/'כללי א1'!$C$17) -> 0 | AC39: =IF('כללי א1'!AC15=0,0,'כללי א1'!AC15/'כללי א1'!$C$17) -> 0 | AD39: =IF('כללי א1'!AD15=0,0,'כללי א1'!AD15/'כללי א1'!$C$17) -> 0 | AE39: =SUM(AF39:AK39) -> 0 | AF39: =IF('כללי א1'!AF15=0,0,'כללי א1'!AF15/'כללי א1'!$C$17) -> 0 | AG39: =IF('כללי א1'!AG15=0,0,'כללי א1'!AG15/'כללי א1'!$C$17) -> 0 | AH39: =IF('כללי א1'!AH15=0,0,'כללי א1'!AH15/'כללי א1'!$C$17) -> 0 | AI39: =IF('כללי א1'!AI15=0,0,'כללי א1'!AI15/'כללי א1'!$C$17) -> 0 | AJ39: =IF('כללי א1'!AJ15=0,0,'כללי א1'!AJ15/'כללי א1'!$C$17) -> 0 | AK39: =IF('כללי א1'!AK15=0,0,'כללי א1'!AK15/'כללי א1'!$C$17) -> 0
A40: 6 | B40: תביעות שבוטלו | C40: =SUM(D40:I40) -> 0 | D40: =IF('כללי א1'!D16=0,0,'כללי א1'!D16/'כללי א1'!$C$17) -> 0 | E40: =IF('כללי א1'!E16=0,0,'כללי א1'!E16/'כללי א1'!$C$17) -> 0 | F40: =IF('כללי א1'!F16=0,0,'כללי א1'!F16/'כללי א1'!$C$17) -> 0 | G40: =IF('כללי א1'!G16=0,0,'כללי א1'!G16/'כללי א1'!$C$17) -> 0 | H40: =IF('כללי א1'!H16=0,0,'כללי א1'!H16/'כללי א1'!$C$17) -> 0 | I40: =IF('כללי א1'!I16=0,0,'כללי א1'!I16/'כללי א1'!$C$17) -> 0 | J40: =SUM(K40:P40) -> 0 | K40: =IF('כללי א1'!K16=0,0,'כללי א1'!K16/'כללי א1'!$C$17) -> 0 | L40: =IF('כללי א1'!L16=0,0,'כללי א1'!L16/'כללי א1'!$C$17) -> 0 | M40: =IF('כללי א1'!M16=0,0,'כללי א1'!M16/'כללי א1'!$C$17) -> 0 | N40: =IF('כללי א1'!N16=0,0,'כללי א1'!N16/'כללי א1'!$C$17) -> 0 | O40: =IF('כללי א1'!O16=0,0,'כללי א1'!O16/'כללי א1'!$C$17) -> 0 | P40: =IF('כללי א1'!P16=0,0,'כללי א1'!P16/'כללי א1'!$C$17) -> 0 | Q40: =SUM(R40:W40) -> 0 | R40: =IF('כללי א1'!R16=0,0,'כללי א1'!R16/'כללי א1'!$C$17) -> 0 | S40: =IF('כללי א1'!S16=0,0,'כללי א1'!S16/'כללי א1'!$C$17) -> 0 | T40: =IF('כללי א1'!T16=0,0,'כללי א1'!T16/'כללי א1'!$C$17) -> 0 | U40: =IF('כללי א1'!U16=0,0,'כללי א1'!U16/'כללי א1'!$C$17) -> 0 | V40: =IF('כללי א1'!V16=0,0,'כללי א1'!V16/'כללי א1'!$C$17) -> 0 | W40: =IF('כללי א1'!W16=0,0,'כללי א1'!W16/'כללי א1'!$C$17) -> 0 | X40: =SUM(Y40:AD40) -> 0 | Y40: =IF('כללי א1'!Y16=0,0,'כללי א1'!Y16/'כללי א1'!$C$17) -> 0 | Z40: =IF('כללי א1'!Z16=0,0,'כללי א1'!Z16/'כללי א1'!$C$17) -> 0 | AA40: =IF('כללי א1'!AA16=0,0,'כללי א1'!AA16/'כללי א1'!$C$17) -> 0 | AB40: =IF('כללי א1'!AB16=0,0,'כללי א1'!AB16/'כללי א1'!$C$17) -> 0 | AC40: =IF('כללי א1'!AC16=0,0,'כללי א1'!AC16/'כללי א1'!$C$17) -> 0 | AD40: =IF('כללי א1'!AD16=0,0,'כללי א1'!AD16/'כללי א1'!$C$17) -> 0 | AE40: =SUM(AF40:AK40) -> 0 | AF40: =IF('כללי א1'!AF16=0,0,'כללי א1'!AF16/'כללי א1'!$C$17) -> 0 | AG40: =IF('כללי א1'!AG16=0,0,'כללי א1'!AG16/'כללי א1'!$C$17) -> 0 | AH40: =IF('כללי א1'!AH16=0,0,'כללי א1'!AH16/'כללי א1'!$C$17) -> 0 | AI40: =IF('כללי א1'!AI16=0,0,'כללי א1'!AI16/'כללי א1'!$C$17) -> 0 | AJ40: =IF('כללי א1'!AJ16=0,0,'כללי א1'!AJ16/'כללי א1'!$C$17) -> 0 | AK40: =IF('כללי א1'!AK16=0,0,'כללי א1'!AK16/'כללי א1'!$C$17) -> 0
A41: 7 | B41: תביעות שנסגרו (א3+א3א+א4+א5+א6) | C41: =SUM(C36:C40) -> 0 | D41: =SUM(D36:D40) -> 0 | E41: =SUM(E36:E40) -> 0 | F41: =SUM(F36:F40) -> 0 | G41: =SUM(G36:G40) -> 0 | H41: =SUM(H36:H40) -> 0 | I41: =SUM(I36:I40) -> 0 | J41: =SUM(J36:J40) -> 0 | ... AK41: =SUM(AK36:AK40) -> 0
A42: ב | B42: תביעות שנסגרו בבוררות:
...

Sheet כללי ג1
B1: =הוראות!B27 -> נספח ב1 מדדי תביעות בביטוח כללי
B2: =הוראות!B13 -> ק.ה.ר הקרן השתלמות לרוקחים בע"מ
B3: =CONCATENATE(הוראות!Z13,הוראות!F13) -> הנתונים ביחידות בודדות לשנת 2020
B4: חזרה
B6: מדדי התביעות (באחוזים) | E6: רכב חובה | L6: רכב רכוש | Z6: דירות
L7: נזק עצמי | S7: צד שלישי | Z7: נזק למבנה | AG7: נזק לתכולה
E8: סה"כ | F8: עד 60 יום | G8: 61 -120 יום | H8: 121 -360 יום | I8: 361 - 730 יום | J8: 731 - 1276 יום | K8: מעל 1277 יום | L8: סה"כ | M8: עד 14 יום | N8: 15-30 יום | O8: 31-60 יום | P8: 61-120 יום | Q8: 121-180 יום | R8: 181 יום ומעלה | S8: סה"כ | T8: עד 14 יום | U8: 15-30 יום | V8: 31-60 יום | W8: 61-120 יום | X8: 121-180 יום | Y8: 181 יום ומעלה | Z8: סה"כ | AA8: עד 14 יום | AB8: 15-30 יום | AC8: 31-60 יום | AD8: 61-120 יום | AE8: 121-180 יום | AF8: 181 יום ומעלה | AG8: סה"כ | AH8: עד 14 יום | AI8: 15-30 יום | AJ8: 31-60 יום | AK8: 61-120 יום | AL8: 121-180 יום | AM8: 181 יום ומעלה
E9: (1) | F9: (2) | G9: (3) | H9: (4) | I9: (5) | J9: (6) | K9: (7) | L9: (8) | M9: (9) | N9: (10) | O9: (11) | P9: (12) | Q9: (13) | R9: (14) | S9: (15) | T9: (16) | U9: (17) | V9: (18) | W9: (19) | X9: (20) | Y9: (21) | Z9: (22) | AA9: (23) | AB9: (24) | AC9: (25) | AD9: (26) | AE9: (27) | AF9: (28) | AG9: (29) | AH9: (30) | AI9: (31) | AJ9: (32) | AK9: (33) | AL9: (34) | AM9: (35)
A10: א | B10: תביעות:
A11: 3 | B11: תביעות ששולמו | E11: =SUM(F11:K11) -> 0 | F11: =IF('כללי א1'!D12=0,0,'כללי א1'!D12/'כללי א1'!$C$17) -> 0 | G11: =IF('כללי א1'!E12=0,0,'כללי א1'!E12/'כללי א1'!$C$17) -> 0 | H11: =IF('כללי א1'!F12=0,0,'כללי א1'!F12/'כללי א1'!$C$17) -> 0 | I11: =IF('כללי א1'!G12=0,0,'כללי א1'!G12/'כללי א1'!$C$17) -> 0 | J11: =IF('כללי א1'!H12=0,0,'כללי א1'!H12/'כללי א1'!$C$17) -> 0 | K11: =IF('כללי א1'!I12=0,0,'כללי א1'!I12/'כללי א1'!$C$17) -> 0 | L11: =SUM(M11:R11) -> 0 | M11: =IF('כללי א1'!K12=0,0,'כללי א1'!K12/'כללי א1'!$J$17) -> 0 | N11: =IF('כללי א1'!L12=0,0,'כללי א1'!L12/'כללי א1'!$J$17) -> 0 | O11: =IF('כללי א1'!M12=0,0,'כללי א1'!M12/'כללי א1'!$J$17) -> 0 | P11: =IF('כללי א1'!N12=0,0,'כללי א1'!N12/'כללי א1'!$J$17) -> 0 | Q11: =IF('כללי א1'!O12=0,0,'כללי א1'!O12/'כללי א1'!$J$17) -> 0 | R11: =IF('כללי א1'!P12=0,0,'כללי א1'!P12/'כללי א1'!$J$17) -> 0 | S11: =SUM(T11:Y11) -> 0 | T11: =IF('כללי א1'!R12=0,0,'כללי א1'!R12/'כללי א1'!$Q$17) -> 0 | U11: =IF('כללי א1'!S12=0,0,'כללי א1'!S12/'כללי א1'!$Q$17) -> 0 | V11: =IF('כללי א1'!T12=0,0,'כללי א1'!T12/'כללי א1'!$Q$17) -> 0 | W11: =IF('כללי א1'!U12=0,0,'כללי א1'!U12/'כללי א1'!$Q$17) -> 0 | X11: =IF('כללי א1'!V12=0,0,'כללי א1'!V12/'כללי א1'!$Q$17) -> 0 | Y11: =IF('כללי א1'!W12=0,0,'כללי א1'!W12/'כללי א1'!$Q$17) -> 0 | Z11: =SUM(AA11:AF11) -> 0 | AA11: =IF('כללי א1'!Y12=0,0,'כללי א1'!Y12/'כללי א1'!$X$17) -> 0 | AB11: =IF('כללי א1'!Z12=0,0,'כללי א1'!Z12/'כללי א1'!$X$17) -> 0 | AC11: =IF('כללי א1'!AA12=0,0,'כללי א1'!AA12/'כללי א1'!$X$17) -> 0 | AD11: =IF('כללי א1'!AB12=0,0,'כללי א1'!AB12/'כללי א1'!$X$17) -> 0 | AE11: =IF('כללי א1'!AC12=0,0,'כללי א1'!AC12/'כללי א1'!$X$17) -> 0 | AF11: =IF('כללי א1'!AD12=0,0,'כללי א1'!AD12/'כללי א1'!$X$17) -> 0 | AG11: =SUM(AH11:AM11) -> 0 | AH11: =IF('כללי א1'!AF12=0,0,'כללי א1'!AF12/'כללי א1'!$AE$17) -> 0 | AI11: =IF('כללי א1'!AG12=0,0,'כללי א1'!AG12/'כללי א1'!$AE$17) -> 0 | AJ11: =IF('כללי א1'!AH12=0,0,'כללי א1'!AH12/'כללי א1'!$AE$17) -> 0 | AK11: =IF('כללי א1'!AI12=0,0,'כללי א1'!AI12/'כללי א1'!$AE$17) -> 0 | AL11: =IF('כללי א1'!AJ12=0,0,'כללי א1'!AJ12/'כללי א1'!$AE$17) -> 0 | AM11: =IF('כללי א1'!AK12=0,0,'כללי א1'!AK12/'כללי א1'!$AE$17) -> 0
A12: 3א | B12: תביעות ששולמו חלקית | E12: =SUM(F12:K12) -> 0 | F12: =IF('כללי א1'!D13=0,0,'כללי א1'!D13/'כללי א1'!$C$17) -> 0 | G12: =IF('כללי א1'!E13=0,0,'כללי א1'!E13/'כללי א1'!$C$17) -> 0 | H12: =IF('כללי א1'!F13=0,0,'כללי א1'!F13/'כללי א1'!$C$17) -> 0 | I12: =IF('כללי א1'!G13=0,0,'כללי א1'!G13/'כללי א1'!$C$17) -> 0 | J12: =IF('כללי א1'!H13=0,0,'כללי א1'!H13/'כללי א1'!$C$17) -> 0 | K12: =IF('כללי א1'!I13=0,0,'כללי א1'!I13/'כללי א1'!$C$17) -> 0 | L12: =SUM(M12:R12) -> 0 | M12: =IF('כללי א1'!K13=0,0,'כללי א1'!K13/'כללי א1'!$J$17) -> 0 | N12: =IF('כללי א1'!L13=0,0,'כללי א1'!L13/'כללי א1'!$J$17) -> 0 | O12: =IF('כללי א1'!M13=0,0,'כללי א1'!M13/'כללי א1'!$J$17) -> 0 | P12: =IF('כללי א1'!N13=0,0,'כללי א1'!N13/'כללי א1'!$J$17) -> 0 | Q12: =IF('כללי א1'!O13=0,0,'כללי א1'!O13/'כללי א1'!$J$17) -> 0 | R12: =IF('כללי א1'!P13=0,0,'כללי א1'!P13/'כללי א1'!$J$17) -> 0 | S12: =SUM(T12:Y12) -> 0 | T12: =IF('כללי א1'!R13=0,0,'כללי א1'!R13/'כללי א1'!$C$17) -> 0 | U12: =IF('כללי א1'!S13=0,0,'כללי א1'!S13/'כללי א1'!$C$17) -> 0 | V12: =IF('כללי א1'!T13=0,0,'כללי א1'!T13/'כללי א1'!$C$17) -> 0 | W12: =IF('כללי א1'!U13=0,0,'כללי א1'!U13/'כללי א1'!$C$17) -> 0 | X12: =IF('כללי א1'!V13=0,0,'כללי א1'!V13/'כללי א1'!$C$17) -> 0 | Y12: =IF('כללי א1'!W13=0,0,'כללי א1'!W13/'כללי א1'!$C$17) -> 0 | Z12: =SUM(AA12:AF12) -> 0 | AA12: =IF('כללי א1'!Y13=0,0,'כללי א1'!Y13/'כללי א1'!$C$17) -> 0 | AB12: =IF('כללי א1'!Z13=0,0,'כללי א1'!Z13/'כללי א1'!$C$17) -> 0 | AC12: =IF('כללי א1'!AA13=0,0,'כללי א1'!AA13/'כללי א1'!$C$17) -> 0 | AD12: =IF('כללי א1'!AB13=0,0,'כללי א1'!AB13/'כללי א1'!$C$17) -> 0 | AE12: =IF('כללי א1'!AC13=0,0,'כללי א1'!AC13/'כללי א1'!$C$17) -> 0 | AF12: =IF('כללי א1'!AD13=0,0,'כללי א1'!AD13/'כללי א1'!$C$17) -> 0 | AG12: =SUM(AH12:AM12) -> 0 | AH12: =IF('כללי א1'!AF13=0,0,'כללי א1'!AF13/'כללי א1'!$C$17) -> 0 | AI12: =IF('כללי א1'!AG13=0,0,'כללי א1'!AG13/'כללי א1'!$C$17) -> 0 | AJ12: =IF('כללי א1'!AH13=0,0,'כללי א1'!AH13/'כללי א1'!$C$17) -> 0 | AK12: =IF('כללי א1'!AI13=0,0,'כללי א1'!AI13/'כללי א1'!$C$17) -> 0 | AL12: =IF('כללי א1'!AJ13=0,0,'כללי א1'!AJ13/'כללי א1'!$C$17) -> 0 | AM12: =IF('כללי א1'!AK13=0,0,'כללי א1'!AK13/'כללי א1'!$C$17) -> 0
A13: 4 | B13: תביעות שנדחו | E13: =SUM(F13:K13) -> 0 | F13: =IF('כללי א1'!D14=0,0,'כללי א1'!D14/'כללי א1'!$C$17) -> 0 | G13: =IF('כללי א1'!E14=0,0,'כללי א1'!E14/'כללי א1'!$C$17) -> 0 | H13: =IF('כללי א1'!F14=0,0,'כללי א1'!F14/'כללי א1'!$C$17) -> 0 | I13: =IF('כללי א1'!G14=0,0,'כללי א1'!G14/'כללי א1'!$C$17) -> 0 | J13: =IF('כללי א1'!H14=0,0,'כללי א1'!H14/'כללי א1'!$C$17) -> 0 | K13: =IF('כללי א1'!I14=0,0,'כללי א1'!I14/'כללי א1'!$C$17) -> 0 | L13: =SUM(M13:R13) -> 0 | M13: =IF('כללי א1'!K14=0,0,'כללי א1'!K14/'כללי א1'!$J$17) -> 0 | N13: =IF('כללי א1'!L14=0,0,'כללי א1'!L14/'כללי א1'!$J$17) -> 0 | O13: =IF('כללי א1'!M14=0,0,'כללי א1'!M14/'כללי א1'!$J$17) -> 0 | P13: =IF('כללי א1'!N14=0,0,'כללי א1'!N14/'כללי א1'!$J$17) -> 0 | Q13: =IF('כללי א1'!O14=0,0,'כללי א1'!O14/'כללי א1'!$J$17) -> 0 | R13: =IF('כללי א1'!P14=0,0,'כללי א1'!P14/'כללי א1'!$J$17) -> 0 | S13: =SUM(T13:Y13) -> 0 | T13: =IF('כללי א1'!R14=0,0,'כללי א1'!R14/'כללי א1'!$C$17) -> 0 | U13: =IF('כללי א1'!S14=0,0,'כללי א1'!S14/'כללי א1'!$C$17) -> 0 | V13: =IF('כללי א1'!T14=0,0,'כללי א1'!T14/'כללי א1'!$C$17) -> 0 | W13: =IF('כללי א1'!U14=0,0,'כללי א1'!U14/'כללי א1'!$C$17) -> 0 | X13: =IF('כללי א1'!V14=0,0,'כללי א1'!V14/'כללי א1'!$C$17) -> 0 | Y13: =IF('כללי א1'!W14=0,0,'כללי א1'!W14/'כללי א1'!$C$17) -> 0 | Z13: =SUM(AA13:AF13) -> 0 | AA13: =IF('כללי א1'!Y14=0,0,'כללי א1'!Y14/'כללי א1'!$C$17) -> 0 | AB13: =IF('כללי א1'!Z14=0,0,'כללי א1'!Z14/'כללי א1'!$C$17) -> 0 | AC13: =IF('כללי א1'!AA14=0,0,'כללי א1'!AA14/'כללי א1'!$C$17) -> 0 | AD13: =IF('כללי א1'!AB14=0,0,'כללי א1'!AB14/'כללי א1'!$C$17) -> 0 | AE13: =IF('כללי א1'!AC14=0,0,'כללי א1'!AC14/'כללי א1'!$C$17) -> 0 | AF13: =IF('כללי א1'!AD14=0,0,'כללי א1'!AD14/'כללי א1'!$C$17) -> 0 | AG13: =SUM(AH13:AM13) -> 0 | AH13: =IF('כללי א1'!AF14=0,0,'כללי א1'!AF14/'כללי א1'!$C$17) -> 0 | AI13: =IF('כללי א1'!AG14=0,0,'כללי א1'!AG14/'כללי א1'!$C$17) -> 0 | AJ13: =IF('כללי א1'!AH14=0,0,'כללי א1'!AH14/'כללי א1'!$C$17) -> 0 | AK13: =IF('כללי א1'!AI14=0,0,'כללי א1'!AI14/'כללי א1'!$C$17) -> 0 | AL13: =IF('כללי א1'!AJ14=0,0,'כללי א1'!AJ14/'כללי א1'!$C$17) -> 0 | AM13: =IF('כללי א1'!AK14=0,0,'כללי א1'!AK14/'כללי א1'!$C$17) -> 0
A14: 5 | B14: תביעות שנסגרו בפשרה | E14: =SUM(F14:K14) -> 0 | F14: =IF('כללי א1'!D15=0,0,'כללי א1'!D15/'כללי א1'!$C$17) -> 0 | G14: =IF('כללי א1'!E15=0,0,'כללי א1'!E15/'כללי א1'!$C$17) -> 0 | H14: =IF('כללי א1'!F15=0,0,'כללי א1'!F15/'כללי א1'!$C$17) -> 0 | I14: =IF('כללי א1'!G15=0,0,'כללי א1'!G15/'כללי א1'!$C$17) -> 0 | J14: =IF('כללי א1'!H15=0,0,'כללי א1'!H15/'כללי א1'!$C$17) -> 0 | K14: =IF('כללי א1'!I15=0,0,'כללי א1'!I15/'כללי א1'!$C$17) -> 0 | L14: =SUM(M14:R14) -> 0 | M14: =IF('כללי א1'!K15=0,0,'כללי א1'!K15/'כללי א1'!$J$17) -> 0 | N14: =IF('כללי א1'!L15=0,0,'כללי א1'!L15/'כללי א1'!$J$17) -> 0 | O14: =IF('כללי א1'!M15=0,0,'כללי א1'!M15/'כללי א1'!$J$17) -> 0 | P14: =IF('כללי א1'!N15=0,0,'כללי א1'!N15/'כללי א1'!$J$17) -> 0 | Q14: =IF('כללי א1'!O15=0,0,'כללי א1'!O15/'כללי א1'!$J$17) -> 0 | R14: =IF('כללי א1'!P15=0,0,'כללי א1'!P15/'כללי א1'!$J$17) -> 0 | S14: =SUM(T14:Y14) -> 0 | T14: =IF('כללי א1'!R15=0,0,'כללי א1'!R15/'כללי א1'!$C$17) -> 0 | U14: =IF('כללי א1'!S15=0,0,'כללי א1'!S15/'כללי א1'!$C$17) -> 0 | V14: =IF('כללי א1'!T15=0,0,'כללי א1'!T15/'כללי א1'!$C$17) -> 0 | W14: =IF('כללי א1'!U15=0,0,'כללי א1'!U15/'כללי א1'!$C$17) -> 0 | X14: =IF('כללי א1'!V15=0,0,'כללי א1'!V15/'כללי א1'!$C$17) -> 0 | Y14: =IF('כללי א1'!W15=0,0,'כללי א1'!W15/'כללי א1'!$C$17) -> 0 | Z14: =SUM(AA14:AF14) -> 0 | AA14: =IF('כללי א1'!Y15=0,0,'כללי א1'!Y15/'כללי א1'!$C$17) -> 0 | AB14: =IF('כללי א1'!Z15=0,0,'כללי א1'!Z15/'כללי א1'!$C$17) -> 0 | AC14: =IF('כללי א1'!AA15=0,0,'כללי א1'!AA15/'כללי א1'!$C$17) -> 0 | AD14: =IF('כללי א1'!AB15=0,0,'כללי א1'!AB15/'כללי א1'!$C$17) -> 0 | AE14: =IF('כללי א1'!AC15=0,0,'כללי א1'!AC15/'כללי א1'!$C$17) -> 0 | AF14: =IF('כללי א1'!AD15=0,0,'כללי א1'!AD15/'כללי א1'!$C$17) -> 0 | AG14: =SUM(AH14:AM14) -> 0 | AH14: =IF('כללי א1'!AF15=0,0,'כללי א1'!AF15/'כללי א1'!$C$17) -> 0 | AI14: =IF('כללי א1'!AG15=0,0,'כללי א1'!AG15/'כללי א1'!$C$17) -> 0 | AJ14: =IF('כללי א1'!AH15=0,0,'כללי א1'!AH15/'כללי א1'!$C$17) -> 0 | AK14: =IF('כללי א1'!AI15=0,0,'כללי א1'!AI15/'כללי א1'!$C$17) -> 0 | AL14: =IF('כללי א1'!AJ15=0,0,'כללי א1'!AJ15/'כללי א1'!$C$17) -> 0 | AM14: =IF('כללי א1'!AK15=0,0,'כללי א1'!AK15/'כללי א1'!$C$17) -> 0
A15: 6 | B15: תביעות שבוטלו | E15: =SUM(F15:K15) -> 0 | F15: =IF('כללי א1'!D16=0,0,'כללי א1'!D16/'כללי א1'!$C$17) -> 0 | G15: =IF('כללי א1'!E16=0,0,'כללי א1'!E16/'כללי א1'!$C$17) -> 0 | H15: =IF('כללי א1'!F16=0,0,'כללי א1'!F16/'כללי א1'!$C$17) -> 0 | I15: =IF('כללי א1'!G16=0,0,'כללי א1'!G16/'כללי א1'!$C$17) -> 0 | J15: =IF('כללי א1'!H16=0,0,'כללי א1'!H16/'כללי א1'!$C$17) -> 0 | K15: =IF('כללי א1'!I16=0,0,'כללי א1'!I16/'כללי א1'!$C$17) -> 0 | L15: =SUM(M15:R15) -> 0 | M15: =IF('כללי א1'!K16=0,0,'כללי א1'!K16/'כללי א1'!$J$17) -> 0 | N15: =IF('כללי א1'!L16=0,0,'כללי א1'!L16/'כללי א1'!$J$17) -> 0 | O15: =IF('כללי א1'!M16=0,0,'כללי א1'!M16/'כללי א1'!$J$17) -> 0 | P15: =IF('כללי א1'!N16=0,0,'כללי א1'!N16/'כללי א1'!$J$17) -> 0 | Q15: =IF('כללי א1'!O16=0,0,'כללי א1'!O16/'כללי א1'!$J$17) -> 0 | R15: =IF('כללי א1'!P16=0,0,'כללי א1'!P16/'כללי א1'!$J$17) -> 0 | S15: =SUM(T15:Y15) -> 0 | T15: =IF('כללי א1'!R16=0,0,'כללי א1'!R16/'כללי א1'!$C$17) -> 0 | U15: =IF('כללי א1'!S16=0,0,'כללי א1'!S16/'כללי א1'!$C$17) -> 0 | V15: =IF('כללי א1'!T16=0,0,'כללי א1'!T16/'כללי א1'!$C$17) -> 0 | W15: =IF('כללי א1'!U16=0,0,'כללי א1'!U16/'כללי א1'!$C$17) -> 0 | X15: =IF('כללי א1'!V16=0,0,'כללי א1'!V16/'כללי א1'!$C$17) -> 0 | Y15: =IF('כללי א1'!W16=0,0,'כללי א1'!W16/'כללי א1'!$C$17) -> 0 | Z15: =SUM(AA15:AF15) -> 0 | AA15: =IF('כללי א1'!Y16=0,0,'כללי א1'!Y16/'כללי א1'!$C$17) -> 0 | AB15: =IF('כללי א1'!Z16=0,0,'כללי א1'!Z16/'כללי א1'!$C$17) -> 0 | AC15: =IF('כללי א1'!AA16=0,0,'כללי א1'!AA16/'כללי א1'!$C$17) -> 0 | AD15: =IF('כללי א1'!AB16=0,0,'כללי א1'!AB16/'כללי א1'!$C$17) -> 0 | AE15: =IF('כללי א1'!AC16=0,0,'כללי א1'!AC16/'כללי א1'!$C$17) -> 0 | AF15: =IF('כללי א1'!AD16=0,0,'כללי א1'!AD16/'כללי א1'!$C$17) -> 0 | AG15: =SUM(AH15:AM15) -> 0 | AH15: =IF('כללי א1'!AF16=0,0,'כללי א1'!AF16/'כללי א1'!$C$17) -> 0 | AI15: =IF('כללי א1'!AG16=0,0,'כללי א1'!AG16/'כללי א1'!$C$17) -> 0 | AJ15: =IF('כללי א1'!AH16=0,0,'כללי א1'!AH16/'כללי א1'!$C$17) -> 0 | AK15: =IF('כללי א1'!AI16=0,0,'כללי א1'!AI16/'כללי א1'!$C$17) -> 0 | AL15: =IF('כללי א1'!AJ16=0,0,'כללי א1'!AJ16/'כללי א1'!$C$17) -> 0 | AM15: =IF('כללי א1'!AK16=0,0,'כללי א1'!AK16/'כללי א1'!$C$17) -> 0
A16: 7 | B16: תביעות שנסגרו (א3+א3א+א4+א5+א6) | E16: =SUM(E11:E15) -> 0 | F16: =SUM(F11:F15) -> 0 | G16: =SUM(G11:G15) -> 0 | H16: =SUM(H11:H15) -> 0 | I16: =SUM(I11:I15) -> 0 | J16: =SUM(J11:J15) -> 0 | K16: =SUM(K11:K15) -> 0 | L16: =SUM(L11:L15) -> 0 | ... AM16: =SUM(AM11:AM15) -> 0
A17: ב | B17: תביעות שנסגרו בבוררות:
A18: 1 | B18: תביעות שאושרו | E18: =SUM(F18:K18) -> 0 | F18: =IF('כללי א1'!D20=0,0,'כללי א1'!D20/'כללי א1'!$C$22) -> 0 | G18: =IF('כללי א1'!E20=0,0,'כללי א1'!E20/'כללי א1'!$C$22) -> 0 | H18: =IF('כללי א1'!F20=0,0,'כללי א1'!F20/'כללי א1'!$C$22) -> 0 | I18: =IF('כללי א1'!G20=0,0,'כללי א1'!G20/'כללי א1'!$C$22) -> 0 | J18: =IF('כללי א1'!H20=0,0,'כללי א1'!H20/'כללי א1'!$C$22) -> 0 | K18: =IF('כללי א1'!I20=0,0,'כללי א1'!I20/'כללי א1'!$C$22) -> 0 | L18: =SUM(M18:R18) -> 0 | M18: =IF('כללי א1'!K20=0,0,'כללי א1'!K20/'כללי א1'!$J$22) -> 0 | N18: =IF('כללי א1'!L20=0,0,'כללי א1'!L20/'כללי א1'!$J$22) -> 0 | O18: =IF('כללי א1'!M20=0,0,'כללי א1'!M20/'כללי א1'!$J$22) -> 0 | P18: =IF('כללי א1'!N20=0,0,'כללי א1'!N20/'כללי א1'!$J$22) -> 0 | Q18: =IF('כללי א1'!O20=0,0,'כללי א1'!O20/'כללי א1'!$J$22) -> 0 | R18: =IF('כללי א1'!P20=0,0,'כללי א1'!P20/'כללי א1'!$J$22) -> 0 | S18: =SUM(T18:Y18) -> 0 | T18: =IF('כללי א1'!R20=0,0,'כללי א1'!R20/'כללי א1'!$Q$22) -> 0 | U18: =IF('כללי א1'!S20=0,0,'כללי א1'!S20/'כללי א1'!$Q$22) -> 0 | V18: =IF('כללי א1'!T20=0,0,'כללי א1'!T20/'כללי א1'!$Q$22) -> 0 | W18: =IF('כללי א1'!U20=0,0,'כללי א1'!U20/'כללי א1'!$Q$22) -> 0 | X18: =IF('כללי א1'!V20=0,0,'כללי א1'!V20/'כללי א1'!$Q$22) -> 0 | Y18: =IF('כללי א1'!W20=0,0,'כללי א1'!W20/'כללי א1'!$Q$22) -> 0 | Z18: =SUM(AA18:AF18) -> 0 | AA18: =IF('כללי א1'!Y20=0,0,'כללי א1'!Y20/'כללי א1'!$X$22) -> 0 | AB18: =IF('כללי א1'!Z20=0,0,'כללי א1'!Z20/'כללי א1'!$X$22) -> 0 | AC18: =IF('כללי א1'!AA20=0,0,'כללי א1'!AA20/'כללי א1'!$X$22) -> 0 | AD18: =IF('כללי א1'!AB20=0,0,'כללי א1'!AB20/'כללי א1'!$X$22) -> 0 | AE18: =IF('כללי א1'!AC20=0,0,'כללי א1'!AC20/'כללי א1'!$X$22) -> 0 | AF18: =IF('כללי א1'!AD20=0,0,'כללי א1'!AD20/'כללי א1'!$X$22) -> 0 | AG18: =SUM(AH18:AM18) -> 0 | AH18: =IF('כללי א1'!AF20=0,0,'כללי א1'!AF20/'כללי א1'!$AE$22) -> 0 | AI18: =IF('כללי א1'!AG20=0,0,'כללי א1'!AG20/'כללי א1'!$AE$22) -> 0 | AJ18: =IF('כללי א1'!AH20=0,0,'כללי א1'!AH20/'כללי א1'!$AE$22) -> 0 | AK18: =IF('כללי א1'!AI20=0,0,'כללי א1'!AI20/'כללי א1'!$AE$22) -> 0 | AL18: =IF('כללי א1'!AJ20=0,0,'כללי א1'!AJ20/'כללי א1'!$AE$22) -> 0 | AM18: =IF('כללי א1'!AK20=0,0,'כללי א1'!AK20/'כללי א1'!$AE$22) -> 0
A19: 2 | B19: תביעות שנדחו | E19: =SUM(F19:K19) -> 0 | F19: =IF('כללי א1'!D21=0,0,'כללי א1'!D21/'כללי א1'!$C$22) -> 0 | G19: =IF('כללי א1'!E21=0,0,'כללי א1'!E21/'כללי א1'!$C$22) -> 0 | H19: =IF('כללי א1'!F21=0,0,'כללי א1'!F21/'כללי א1'!$C$22) -> 0 | I19: =IF('כללי א1'!G21=0,0,'כללי א1'!G21/'כללי א1'!$C$22) -> 0 | J19: =IF('כללי א1'!H21=0,0,'כללי א1'!H21/'כללי א1'!$C$22) -> 0 | K19: =IF('כללי א1'!I21=0,0,'כללי א1'!I21/'כללי א1'!$C$22) -> 0 | L19: =SUM(M19:R19) -> 0 | M19: =IF('כללי א1'!K21=0,0,'כללי א1'!K21/'כללי א1'!$J$22) -> 0 | N19: =IF('כללי א1'!L21=0,0,'כללי א1'!L21/'כללי א1'!$J$22) -> 0 | O19: =IF('כללי א1'!M21=0,0,'כללי א1'!M21/'כללי א1'!$J$22) -> 0 | P19: =IF('כללי א1'!N21=0,0,'כללי א1'!N21/'כללי א1'!$J$22) -> 0 | Q19: =IF('כללי א1'!O21=0,0,'כללי א1'!O21/'כללי א1'!$J$22) -> 0 | R19: =IF('כללי א1'!P21=0,0,'כללי א1'!P21/'כללי א1'!$J$22) -> 0 | S19: =SUM(T19:Y19) -> 0 | T19: =IF('כללי א1'!R21=0,0,'כללי א1'!R21/'כללי א1'!$Q$22) -> 0 | U19: =IF('כללי א1'!S21=0,0,'כללי א1'!S21/'כללי א1'!$Q$22) -> 0 | V19: =IF('כללי א1'!T21=0,0,'כללי א1'!T21/'כללי א1'!$Q$22) -> 0 | W19: =IF('כללי א1'!U21=0,0,'כללי א1'!U21/'כללי א1'!$Q$22) -> 0 | X19: =IF('כללי א1'!V21=0,0,'כללי א1'!V21/'כללי א1'!$Q$22) -> 0 | Y19: =IF('כללי א1'!W21=0,0,'כללי א1'!W21/'כללי א1'!$Q$22) -> 0 | Z19: =SUM(AA19:AF19) -> 0 | AA19: =IF('כללי א1'!Y21=0,0,'כללי א1'!Y21/'כללי א1'!$X$22) -> 0 | AB19: =IF('כללי א1'!Z21=0,0,'כללי א1'!Z21/'כללי א1'!$X$22) -> 0 | AC19: =IF('כללי א1'!AA21=0,0,'כללי א1'!AA21/'כללי א1'!$X$22) -> 0 | AD19: =IF('כללי א1'!AB21=0,0,'כללי א1'!AB21/'כללי א1'!$X$22) -> 0 | AE19: =IF('כללי א1'!AC21=0,0,'כללי א1'!AC21/'כללי א1'!$X$22) -> 0 | AF19: =IF('כללי א1'!AD21=0,0,'כללי א1'!AD21/'כללי א1'!$X$22) -> 0 | AG19: =SUM(AH19:AM19) -> 0 | AH19: =IF('כללי א1'!AF21=0,0,'כללי א1'!AF21/'כללי א1'!$AE$22) -> 0 | AI19: =IF('כללי א1'!AG21=0,0,'כללי א1'!AG21/'כללי א1'!$AE$22) -> 0 | AJ19: =IF('כללי א1'!AH21=0,0,'כללי א1'!AH21/'כללי א1'!$AE$22) -> 0 | AK19: =IF('כללי א1'!AI21=0,0,'כללי א1'!AI21/'כללי א1'!$AE$22) -> 0 | AL19: =IF('כללי א1'!AJ21=0,0,'כללי א1'!AJ21/'כללי א1'!$AE$22) -> 0 | AM19: =IF('כללי א1'!AK21=0,0,'כללי א1'!AK21/'כללי א1'!$AE$22) -> 0
A20: 3 | B20: סה"כ (ב1+ב2) | E20: =SUM(E18:E19) -> 0 | F20: =SUM(F18:F19) -> 0 | G20: =SUM(G18:G19) -> 0 | H20: =SUM(H18:H19) -> 0 | I20: =SUM(I18:I19) -> 0 | J20: =SUM(J18:J19) -> 0 | K20: =SUM(K18:K19) -> 0 | L20: =SUM(L18:L19) -> 0 | ... AM20: =SUM(AM18:AM19) -> 0
A21: ג | B21: תביעות שנסגרו בבית משפט:
A22: 1 | B22: תביעות שאושרו | E22: =SUM(F22:K22) -> 0 | F22: =IF('כללי א1'!D24=0,0,'כללי א1'!D24/'כללי א1'!$C$28) -> 0 | G22: =IF('כללי א1'!E24=0,0,'כללי א1'!E24/'כללי א1'!$C$28) -> 0 | H22: =IF('כללי א1'!F24=0,0,'כללי א1'!F24/'כללי א1'!$C$28) -> 0 | I22: =IF('כללי א1'!G24=0,0,'כללי א1'!G24/'כללי א1'!$C$28) -> 0 | J22: =IF('כללי א1'!H24=0,0,'כללי א1'!H24/'כללי א1'!$C$28) -> 0 | K22: =IF('כללי א1'!I24=0,0,'כללי א1'!I24/'כללי א1'!$C$28) -> 0 | L22: =SUM(M22:R22) -> 0 | M22: =IF('כללי א1'!K24=0,0,'כללי א1'!K24/'כללי א1'!$J$28) -> 0 | N22: =IF('כללי א1'!L24=0,0,'כללי א1'!L24/'כללי א1'!$J$28) -> 0 | O22: =IF('כללי א1'!M24=0,0,'כללי א1'!M24/'כללי א1'!$J$28) -> 0 | P22: =IF('כללי א1'!N24=0,0,'כללי א1'!N24/'כללי א1'!$J$28) -> 0 | Q22: =IF('כללי א1'!O24=0,0,'כללי א1'!O24/'כללי א1'!$J$28) -> 0 | R22: =IF('כללי א1'!P24=0,0,'כללי א1'!P24/'כללי א1'!$J$28) -> 0 | S22: =SUM(T22:Y22) -> 0 | T22: =IF('כללי א1'!R24=0,0,'כללי א1'!R24/'כללי א1'!$Q$28) -> 0 | U22: =IF('כללי א1'!S24=0,0,'כללי א1'!S24/'כללי א1'!$Q$28) -> 0 | V22: =IF('כללי א1'!T24=0,0,'כללי א1'!T24/'כללי א1'!$Q$28) -> 0 | W22: =IF('כללי א1'!U24=0,0,'כללי א1'!U24/'כללי א1'!$Q$28) -> 0 | X22: =IF('כללי א1'!V24=0,0,'כללי א1'!V24/'כללי א1'!$Q$28) -> 0 | Y22: =IF('כללי א1'!W24=0,0,'כללי א1'!W24/'כללי א1'!$Q$28) -> 0 | Z22: =SUM(AA22:AF22) -> 0 | AA22: =IF('כללי א1'!Y24=0,0,'כללי א1'!Y24/'כללי א1'!$X$28) -> 0 | AB22: =IF('כללי א1'!Z24=0,0,'כללי א1'!Z24/'כללי א1'!$X$28) -> 0 | AC22: =IF('כללי א1'!AA24=0,0,'כללי א1'!AA24/'כללי א1'!$X$28) -> 0 | AD22: =IF('כללי א1'!AB24=0,0,'כללי א1'!AB24/'כללי א1'!$X$28) -> 0 | AE22: =IF('כללי א1'!AC24=0,0,'כללי א1'!AC24/'כללי א1'!$X$28) -> 0 | AF22: =IF('כללי א1'!AD24=0,0,'כללי א1'!AD24/'כללי א1'!$X$28) -> 0 | AG22: =SUM(AH22:AM22) -> 0 | AH22: =IF('כללי א1'!AF24=0,0,'כללי א1'!AF24/'כללי א1'!$AE$28) -> 0 | AI22: =IF('כללי א1'!AG24=0,0,'כללי א1'!AG24/'כללי א1'!$AE$28) -> 0 | AJ22: =IF('כללי א1'!AH24=0,0,'כללי א1'!AH24/'כללי א1'!$AE$28) -> 0 | AK22: =IF('כללי א1'!AI24=0,0,'כללי א1'!AI24/'כללי א1'!$AE$28) -> 0 | AL22: =IF('כללי א1'!AJ24=0,0,'כללי א1'!AJ24/'כללי א1'!$AE$28) -> 0 | AM22: =IF('כללי א1'!AK24=0,0,'כללי א1'!AK24/'כללי א1'!$AE$28) -> 0
A23: 2 | B23: תביעות שנדחו | E23: =SUM(F23:K23) -> 0 | F23: =IF('כללי א1'!D25=0,0,'כללי א1'!D25/'כללי א1'!$C$28) -> 0 | G23: =IF('כללי א1'!E25=0,0,'כללי א1'!E25/'כללי א1'!$C$28) -> 0 | H23: =IF('כללי א1'!F25=0,0,'כללי א1'!F25/'כללי א1'!$C$28) -> 0 | I23: =IF('כללי א1'!G25=0,0,'כללי א1'!G25/'כללי א1'!$C$28) -> 0 | J23: =IF('כללי א1'!H25=0,0,'כללי א1'!H25/'כללי א1'!$C$28) -> 0 | K23: =IF('כללי א1'!I25=0,0,'כללי א1'!I25/'כללי א1'!$C$28) -> 0 | L23: =SUM(M23:R23) -> 0 | M23: =IF('כללי א1'!K25=0,0,'כללי א1'!K25/'כללי א1'!$J$28) -> 0 | N23: =IF('כללי א1'!L25=0,0,'כללי א1'!L25/'כללי א1'!$J$28) -> 0 | O23: =IF('כללי א1'!M25=0,0,'כללי א1'!M25/'כללי א1'!$J$28) -> 0 | P23: =IF('כללי א1'!N25=0,0,'כללי א1'!N25/'כללי א1'!$J$28) -> 0 | Q23: =IF('כללי א1'!O25=0,0,'כללי א1'!O25/'כללי א1'!$J$28) -> 0 | R23: =IF('כללי א1'!P25=0,0,'כללי א1'!P25/'כללי א1'!$J$28) -> 0 | S23: =SUM(T23:Y23) -> 0 | T23: =IF('כללי א1'!R25=0,0,'כללי א1'!R25/'כללי א1'!$Q$28) -> 0 | U23: =IF('כללי א1'!S25=0,0,'כללי א1'!S25/'כללי א1'!$Q$28) -> 0 | V23: =IF('כללי א1'!T25=0,0,'כללי א1'!T25/'כללי א1'!$Q$28) -> 0 | W23: =IF('כללי א1'!U25=0,0,'כללי א1'!U25/'כללי א1'!$Q$28) -> 0 | X23: =IF('כללי א1'!V25=0,0,'כללי א1'!V25/'כללי א1'!$Q$28) -> 0 | Y23: =IF('כללי א1'!W25=0,0,'כללי א1'!W25/'כללי א1'!$Q$28) -> 0 | Z23: =SUM(AA23:AF23) -> 0 | AA23: =IF('כללי א1'!Y25=0,0,'כללי א1'!Y25/'כללי א1'!$X$28) -> 0 | AB23: =IF('כללי א1'!Z25=0,0,'כללי א1'!Z25/'כללי א1'!$X$28) -> 0 | AC23: =IF('כללי א1'!AA25=0,0,'כללי א1'!AA25/'כללי א1'!$X$28) -> 0 | AD23: =IF('כללי א1'!AB25=0,0,'כללי א1'!AB25/'כללי א1'!$X$28) -> 0 | AE23: =IF('כללי א1'!AC25=0,0,'כללי א1'!AC25/'כללי א1'!$X$28) -> 0 | AF23: =IF('כללי א1'!AD25=0,0,'כללי א1'!AD25/'כללי א1'!$X$28) -> 0 | AG23: =SUM(AH23:AM23) -> 0 | AH23: =IF('כללי א1'!AF25=0,0,'כללי א1'!AF25/'כללי א1'!$AE$28) -> 0 | AI23: =IF('כללי א1'!AG25=0,0,'כללי א1'!AG25/'כללי א1'!$AE$28) -> 0 | AJ23: =IF('כללי א1'!AH25=0,0,'כללי א1'!AH25/'כללי א1'!$AE$28) -> 0 | AK23: =IF('כללי א1'!AI25=0,0,'כללי א1'!AI25/'כללי א1'!$AE$28) -> 0 | AL23: =IF('כללי א1'!AJ25=0,0,'כללי א1'!AJ25/'כללי א1'!$AE$28) -> 0 | AM23: =IF('כללי א1'!AK25=0,0,'כללי א1'!AK25/'כללי א1'!$AE$28) -> 0
A24: 3 | B24: פשרה | E24: =SUM(F24:K24) -> 0 | F24: =IF('כללי א1'!D26=0,0,'כללי א1'!D26/'כללי א1'!$C$28) -> 0 | G24: =IF('כללי א1'!E26=0,0,'כללי א1'!E26/'כללי א1'!$C$28) -> 0 | H24: =IF('כללי א1'!F26=0,0,'כללי א1'!F26/'כללי א1'!$C$28) -> 0 | I24: =IF('כללי א1'!G26=0,0,'כללי א1'!G26/'כללי א1'!$C$28) -> 0 | J24: =IF('כללי א1'!H26=0,0,'כללי א1'!H26/'כללי א1'!$C$28) -> 0 | K24: =IF('כללי א1'!I26=0,0,'כללי א1'!I26/'כללי א1'!$C$28) -> 0 | L24: =SUM(M24:R24) -> 0 | M24: =IF('כללי א1'!K26=0,0,'כללי א1'!K26/'כללי א1'!$J$28) -> 0 | N24: =IF('כללי א1'!L26=0,0,'כללי א1'!L26/'כללי א1'!$J$28) -> 0 | O24: =IF('כללי א1'!M26=0,0,'כללי א1'!M26/'כללי א1'!$J$28) -> 0 | P24: =IF('כללי א1'!N26=0,0,'כללי א1'!N26/'כללי א1'!$J$28) -> 0 | Q24: =IF('כללי א1'!O26=0,0,'כללי א1'!O26/'כללי א1'!$J$28) -> 0 | R24: =IF('כללי א1'!P26=0,0,'כללי א1'!P26/'כללי א1'!$J$28) -> 0 | S24: =SUM(T24:Y24) -> 0 | T24: =IF('כללי א1'!R26=0,0,'כללי א1'!R26/'כללי א1'!$Q$28) -> 0 | U24: =IF('כללי א1'!S26=0,0,'כללי א1'!S26/'כללי א1'!$Q$28) -> 0 | V24: =IF('כללי א1'!T26=0,0,'כללי א1'!T26/'כללי א1'!$Q$28) -> 0 | W24: =IF('כללי א1'!U26=0,0,'כללי א1'!U26/'כללי א1'!$Q$28) -> 0 | X24: =IF('כללי א1'!V26=0,0,'כללי א1'!V26/'כללי א1'!$Q$28) -> 0 | Y24: =IF('כללי א1'!W26=0,0,'כללי א1'!W26/'כללי א1'!$Q$28) -> 0 | Z24: =SUM(AA24:AF24) -> 0 | AA24: =IF('כללי א1'!Y26=0,0,'כללי א1'!Y26/'כללי א1'!$X$28) -> 0 | AB24: =IF('כללי א1'!Z26=0,0,'כללי א1'!Z26/'כללי א1'!$X$28) -> 0 | AC24: =IF('כללי א1'!AA26=0,0,'כללי א1'!AA26/'כללי א1'!$X$28) -> 0 | AD24: =IF('כללי א1'!AB26=0,0,'כללי א1'!AB26/'כללי א1'!$X$28) -> 0 | AE24: =IF('כללי א1'!AC26=0,0,'כללי א1'!AC26/'כללי א1'!$X$28) -> 0 | AF24: =IF('כללי א1'!AD26=0,0,'כללי א1'!AD26/'כללי א1'!$X$28) -> 0 | AG24: =SUM(AH24:AM24) -> 0 | AH24: =IF('כללי א1'!AF26=0,0,'כללי א1'!AF26/'כללי א1'!$AE$28) -> 0 | AI24: =IF('כללי א1'!AG26=0,0,'כללי א1'!AG26/'כללי א1'!$AE$28) -> 0 | AJ24: =IF('כללי א1'!AH26=0,0,'כללי א1'!AH26/'כללי א1'!$AE$28) -> 0 | AK24: =IF('כללי א1'!AI26=0,0,'כללי א1'!AI26/'כללי א1'!$AE$28) -> 0 | AL24: =IF('כללי א1'!AJ26=0,0,'כללי א1'!AJ26/'כללי א1'!$AE$28) -> 0 | AM24: =IF('כללי א1'!AK26=0,0,'כללי א1'!AK26/'כללי א1'!$AE$28) -> 0
A25: 4 | B25: אחר | E25: =SUM(F25:K25) -> 0 | F25: =IF('כללי א1'!D27=0,0,'כללי א1'!D27/'כללי א1'!$C$28) -> 0 | G25: =IF('כללי א1'!E27=0,0,'כללי א1'!E27/'כללי א1'!$C$28) -> 0 | H25: =IF('כללי א1'!F27=0,0,'כללי א1'!F27/'כללי א1'!$C$28) -> 0 | I25: =IF('כללי א1'!G27=0,0,'כללי א1'!G27/'כללי א1'!$C$28) -> 0 | J25: =IF('כללי א1'!H27=0,0,'כללי א1'!H27/'כללי א1'!$C$28) -> 0 | K25: =IF('כללי א1'!I27=0,0,'כללי א1'!I27/'כללי א1'!$C$28) -> 0 | L25: =SUM(M25:R25) -> 0 | M25: =IF('כללי א1'!K27=0,0,'כללי א1'!K27/'כללי א1'!$J$28) -> 0 | N25: =IF('כללי א1'!L27=0,0,'כללי א1'!L27/'כללי א1'!$J$28) -> 0 | O25: =IF('כללי א1'!M27=0,0,'כללי א1'!M27/'כללי א1'!$J$28) -> 0 | P25: =IF('כללי א1'!N27=0,0,'כללי א1'!N27/'כללי א1'!$J$28) -> 0 | Q25: =IF('כללי א1'!O27=0,0,'כללי א1'!O27/'כללי א1'!$J$28) -> 0 | R25: =IF('כללי א1'!P27=0,0,'כללי א1'!P27/'כללי א1'!$J$28) -> 0 | S25: =SUM(T25:Y25) -> 0 | T25: =IF('כללי א1'!R27=0,0,'כללי א1'!R27/'כללי א1'!$Q$28) -> 0 | U25: =IF('כללי א1'!S27=0,0,'כללי א1'!S27/'כללי א1'!$Q$28) -> 0 | V25: =IF('כללי א1'!T27=0,0,'כללי א1'!T27/'כללי א1'!$Q$28) -> 0 | W25: =IF('כללי א1'!U27=0,0,'כללי א1'!U27/'כללי א1'!$Q$28) -> 0 | X25: =IF('כללי א1'!V27=0,0,'כללי א1'!V27/'כללי א1'!$Q$28) -> 0 | Y25: =IF('כללי א1'!W27=0,0,'כללי א1'!W27/'כללי א1'!$Q$28) -> 0 | Z25: =SUM(AA25:AF25) -> 0 | AA25: =IF('כללי א1'!Y27=0,0,'כללי א1'!Y27/'כללי א1'!$X$28) -> 0 | AB25: =IF('כללי א1'!Z27=0,0,'כללי א1'!Z27/'כללי א1'!$X$28) -> 0 | AC25: =IF('כללי א1'!AA27=0,0,'כללי א1'!AA27/'כללי א1'!$X$28) -> 0 | AD25: =IF('כללי א1'!AB27=0,0,'כללי א1'!AB27/'כללי א1'!$X$28) -> 0 | AE25: =IF('כללי א1'!AC27=0,0,'כללי א1'!AC27/'כללי א1'!$X$28) -> 0 | AF25: =IF('כללי א1'!AD27=0,0,'כללי א1'!AD27/'כללי א1'!$X$28) -> 0 | AG25: =SUM(AH25:AM25) -> 0 | AH25: =IF('כללי א1'!AF27=0,0,'כללי א1'!AF27/'כללי א1'!$AE$28) -> 0 | AI25: =IF('כללי א1'!AG27=0,0,'כללי א1'!AG27/'כללי א1'!$AE$28) -> 0 | AJ25: =IF('כללי א1'!AH27=0,0,'כללי א1'!AH27/'כללי א1'!$AE$28) -> 0 | AK25: =IF('כללי א1'!AI27=0,0,'כללי א1'!AI27/'כללי א1'!$AE$28) -> 0 | AL25: =IF('כללי א1'!AJ27=0,0,'כללי א1'!AJ27/'כללי א1'!$AE$28) -> 0 | AM25: =IF('כללי א1'!AK27=0,0,'כללי א1'!AK27/'כללי א1'!$AE$28) -> 0
A26: 5 | B26: סה"כ (ג1+ג2+ג3+ג4) | E26: =SUM(E22:E25) -> 0 | F26: =SUM(F22:F25) -> 0 | G26: =SUM(G22:G25) -> 0 | H26: =SUM(H22:H25) -> 0 | I26: =SUM(I22:I25) -> 0 | J26: =SUM(J22:J25) -> 0 | K26: =SUM(K22:K25) -> 0 | L26: =SUM(L22:L25) -> 0 | ... AM26: =SUM(AM22:AM25) -> 0

Sheet  בריאות א2
B1: =הוראות!B19 -> נספח א2 מספרי תביעות בביטוח בריאות
B2: =הוראות!B13 -> ק.ה.ר הקרן השתלמות לרוקחים בע"מ
B3: =CONCATENATE(הוראות!Z13,הוראות!F13) -> הנתונים ביחידות בודדות לשנת 2020
B4: חזרה | C4: ניתוחים בארץ ובחו"ל | Q4: השתלות בארץ ובחו"ל | AE4: סיעודי | AS4: מחלות קשות | BG4: עובדים זרים | BN4: נכויות | CB4: תאונות אישיות | CP4: נסיעות לחו"ל (למעט כבודה) | DD4: תרופות
C5: פרט | J5: קבוצתי | Q5: פרט | X5: קבוצתי | AE5: פרט | AL5: קבוצתי | AS5: פרט | AZ5: קבוצתי | BN5: פרט | BU5: קבוצתי | CB5: פרט | CI5: קבוצתי | CP5: פרט | CW5: קבוצתי | DD5: פרט | DK5: קבוצתי
C6: סה"כ מספר תביעות | D6: מספר התביעות שנסגרו במהלך השנה | J6: =C6 -> סה"כ מספר תביעות | K6: מספר התביעות שנסגרו במהלך השנה | Q6: =J6 -> סה"כ מספר תביעות | R6: מספר התביעות שנסגרו במהלך השנה | X6: =Q6 -> סה"כ מספר תביעות | Y6: מספר התביעות שנסגרו במהלך השנה | AE6: =X6 -> סה"כ מספר תביעות | AF6: מספר התביעות שנסגרו במהלך השנה | AL6: =AE6 -> סה"כ מספר תביעות | AM6: מספר התביעות שנסגרו במהלך השנה | AS6: =AL6 -> סה"כ מספר תביעות | AT6: מספר התביעות שנסגרו במהלך השנה | AZ6: =AS6 -> סה"כ מספר תביעות | BA6: מספר התביעות שנסגרו במהלך השנה | BG6: =AZ6 -> סה"כ מספר תביעות | BH6: מספר התביעות שנסגרו במהלך השנה | BN6: =AZ6 -> סה"כ מספר תביעות | BO6: מספר התביעות שנסגרו במהלך השנה | BU6: =BG6 -> סה"כ מספר תביעות | BV6: מספר התביעות שנסגרו במהלך השנה | CB6: =BN6 -> סה"כ מספר תביעות | CC6: מספר התביעות שנסגרו במהלך השנה | CI6: =BU6 -> סה"כ מספר תביעות | CJ6: מספר התביעות שנסגרו במהלך השנה | CP6: =CB6 -> סה"כ מספר תביעות | CQ6: מספר התביעות שנסגרו במהלך השנה | CW6: =CI6 -> סה"כ מספר תביעות | CX6: מספר התביעות שנסגרו במהלך השנה | DD6: =CP6 -> סה"כ מספר תביעות | DE6: מספר התביעות שנסגרו במהלך השנה | DK6: =CW6 -> סה"כ מספר תביעות | DL6: מספר התביעות שנסגרו במהלך השנה
B7: מספרי התביעות (בערכים) | D7: עד 14 יום | E7: 15-30 יום | F7: 31-60 יום | G7: 61-120 יום | H7: 121-180 יום | I7: 181 יום ומעלה | K7: עד 14 יום | L7: 15-30 יום | M7: 31-60 יום | N7: 61-120 יום | O7: 121-180 יום | P7: 181 יום ומעלה | R7: עד 14 יום | S7: 15-30 יום | T7: 31-60 יום | U7: 61-120 יום | V7: 121-180 יום | W7: 181 יום ומעלה | Y7: עד 14 יום | Z7: 15-30 יום | AA7: 31-60 יום | AB7: 61-120 יום | AC7: 121-180 יום | AD7: 181 יום ומעלה | AF7: עד 14 יום | AG7: 15-30 יום | AH7: 31-60 יום | AI7: 61-120 יום | AJ7: 121-180 יום | AK7: 181 יום ומעלה | AM7: עד 14 יום | AN7: 15-30 יום | AO7: 31-60 יום | AP7: 61-120 יום | AQ7: 121-180 יום | AR7: 181 יום ומעלה | AT7: עד 14 יום | AU7: 15-30 יום | AV7: 31-60 יום | AW7: 61-120 יום | AX7: 121-180 יום | AY7: 181 יום ומעלה | BA7: עד 14 יום | BB7: 15-30 יום | BC7: 31-60 יום | BD7: 61-120 יום | BE7: 121-180 יום | BF7: 181 יום ומעלה | BH7: עד 14 יום | BI7: 15-30 יום | BJ7: 31-60 יום | BK7: 61-120 יום | BL7: 121-180 יום | BM7: 181 יום ומעלה | BO7: עד 14 יום | BP7: 15-30 יום | BQ7: 31-60 יום | BR7: 61-120 יום | BS7: 121-180 יום | BT7: 181 יום ומעלה | BV7: עד 14 יום | BW7: 15-30 יום | BX7: 31-60 יום | BY7: 61-120 יום | BZ7: 121-180 יום | CA7: 181 יום ומעלה | CC7: עד 14 יום | CD7: 15-30 יום | CE7: 31-60 יום | CF7: 61-120 יום | CG7: 121-180 יום | CH7: 181 יום ומעלה | CJ7: עד 14 יום | CK7: 15-30 יום | CL7: 31-60 יום | CM7: 61-120 יום | CN7: 121-180 יום | CO7: 181 יום ומעלה | CQ7: עד 14 יום | CR7: 15-30 יום | CS7: 31-60 יום | CT7: 61-120 יום | CU7: 121-180 יום | CV7: 181 יום ומעלה | CX7: עד 14 יום | CY7: 15-30 יום | CZ7: 31-60 יום | DA7: 61-120 יום | DB7: 121-180 יום | DC7: 181 יום ומעלה | DE7: עד 14 יום | DF7: 15-30 יום | DG7: 31-60 יום | DH7: 61-120 יום | DI7: 121-180 יום | DJ7: 181 יום ומעלה | DL7: עד 14 יום | DM7: 15-30 יום | DN7: 31-60 יום | DO7: 61-120 יום | DP7: 121-180 יום | DQ7: 181 יום ומעלה
C8: (1) | D8: (2) | E8: (3) | F8: (4) | G8: (5) | H8: (6) | I8: (7) | J8: (8) | K8: (9) | L8: (10) | M8: (11) | N8: (12) | O8: (13) | P8: (14) | Q8: (15) | R8: (16) | S8: (17) | T8: (18) | U8: (19) | V8: (20) | W8: (21) | X8: (22) | Y8: (23) | Z8: (24) | AA8: (25) | AB8: (26) | AC8: (27) | AD8: (28) | AE8: (29) | AF8: (30) | AG8: (31) | AH8: (32) | AI8: (33) | AJ8: (34) | AK8: (35) | AL8: (36) | AM8: (37) | AN8: (38) | AO8: (39) | AP8: (40) | AQ8: (41) | AR8: (42) | AS8: (43) | AT8: (44) | AU8: (45) | AV8: (46) | AW8: (47) | AX8: (48) | AY8: (49) | AZ8: (50) | BA8: (51) | BB8: (52) | BC8: (53) | BD8: (54) | BE8: (55) | BF8: (56) | BG8: (57) | BH8: (58) | BI8: (59) | BJ8: (60) | BK8: (61) | BL8: (62) | BM8: (63) | BN8: (64) | BO8: (65) | BP8: (66) | BQ8: (67) | BR8: (68) | BS8: (69) | BT8: (70) | BU8: (71) | BV8: (72) | BW8: (73) | BX8: (74) | BY8: (75) | BZ8: (76) | CA8: (77) | CB8: (78) | CC8: (79) | CD8: (80) | CE8: (81) | CF8: (82) | CG8: (83) | CH8: (84) | CI8: (85) | CJ8: (86) | CK8: (87) | CL8: (88) | CM8: (89) | CN8: (90) | CO8: (91) | CP8: (92) | CQ8: (93) | CR8: (94) | CS8: (95) | CT8: (96) | CU8: (97) | CV8: (98) | CW8: (99) | CX8: (100) | CY8: (101) | CZ8: (102) | DA8: (103) | DB8: (104) | DC8: (105) | DD8: (106) | DE8: (107) | DF8: (108) | DG8: (109) | DH8: (110) | DI8: (111) | DJ8: (112) | DK8: (113) | DL8: (114) | DM8: (115) | DN8: (116) | DO8: (117) | DP8: (118) | DQ8: (119)
A9: א | B9: תביעות:
A10: 1 | B10: תביעות פתוחות לתחילת השנה
A11: =A10+1 -> 2 | B11: תביעות שהוגשו במהלך השנה
A12: 3 | B12: תביעות ששולמו | C12: =SUM(D12:I12) -> 0 | J12: =SUM(K12:P12) -> 0 | Q12: =SUM(R12:W12) -> 0 | X12: =SUM(Y12:AD12) -> 0 | AE12: =SUM(AF12:AK12) -> 0 | AL12: =SUM(AM12:AR12) -> 0 | AS12: =SUM(AT12:AY12) -> 0 | AZ12: =SUM(BA12:BF12) -> 0 | BG12: =SUM(BH12:BM12) -> 0 | BN12: =SUM(BO12:BT12) -> 0 | BU12: =SUM(BV12:CA12) -> 0 | CB12: =SUM(CC12:CH12) -> 0 | CI12: =SUM(CJ12:CO12) -> 0 | CP12: =SUM(CQ12:CV12) -> 0 | CW12: =SUM(CX12:DC12) -> 0 | DD12: =SUM(DE12:DJ12) -> 0 | DK12: =SUM(DL12:DQ12) -> 0
A13: 3א | B13: תביעות ששולמו חלקית | C13: =SUM(D13:I13) -> 0 | J13: =SUM(K13:P13) -> 0 | Q13: =SUM(R13:W13) -> 0 | X13: =SUM(Y13:AD13) -> 0 | AE13: =SUM(AF13:AK13) -> 0 | AL13: =SUM(AM13:AR13) -> 0 | AS13: =SUM(AT13:AY13) -> 0 | AZ13: =SUM(BA13:BF13) -> 0 | BG13: =SUM(BH13:BM13) -> 0 | BN13: =SUM(BO13:BT13) -> 0 | BU13: =SUM(BV13:CA13) -> 0 | CB13: =SUM(CC13:CH13) -> 0 | CI13: =SUM(CJ13:CO13) -> 0 | CP13: =SUM(CQ13:CV13) -> 0 | CW13: =SUM(CX13:DC13) -> 0 | DD13: =SUM(DE13:DJ13) -> 0 | DK13: =SUM(DL13:DQ13) -> 0
A14: 4 | B14: תביעות שנדחו | C14: =SUM(D14:I14) -> 0 | J14: =SUM(K14:P14) -> 0 | Q14: =SUM(R14:W14) -> 0 | X14: =SUM(Y14:AD14) -> 0 | AE14: =SUM(AF14:AK14) -> 0 | AL14: =SUM(AM14:AR14) -> 0 | AS14: =SUM(AT14:AY14) -> 0 | AZ14: =SUM(BA14:BF14) -> 0 | BG14: =SUM(BH14:BM14) -> 0 | BN14: =SUM(BO14:BT14) -> 0 | BU14: =SUM(BV14:CA14) -> 0 | CB14: =SUM(CC14:CH14) -> 0 | CI14: =SUM(CJ14:CO14) -> 0 | CP14: =SUM(CQ14:CV14) -> 0 | CW14: =SUM(CX14:DC14) -> 0 | DD14: =SUM(DE14:DJ14) -> 0 | DK14: =SUM(DL14:DQ14) -> 0
A15: 5 | B15: תביעות שנסגרו בפשרה | C15: =SUM(D15:I15) -> 0 | J15: =SUM(K15:P15) -> 0 | Q15: =SUM(R15:W15) -> 0 | X15: =SUM(Y15:AD15) -> 0 | AE15: =SUM(AF15:AK15) -> 0 | AL15: =SUM(AM15:AR15) -> 0 | AS15: =SUM(AT15:AY15) -> 0 | AZ15: =SUM(BA15:BF15) -> 0 | BG15: =SUM(BH15:BM15) -> 0 | BN15: =SUM(BO15:BT15) -> 0 | BU15: =SUM(BV15:CA15) -> 0 | CB15: =SUM(CC15:CH15) -> 0 | CI15: =SUM(CJ15:CO15) -> 0 | CP15: =SUM(CQ15:CV15) -> 0 | CW15: =SUM(CX15:DC15) -> 0 | DD15: =SUM(DE15:DJ15) -> 0 | DK15: =SUM(DL15:DQ15) -> 0
A16: 6 | B16: תביעות שבוטלו | C16: =SUM(D16:I16) -> 0 | J16: =SUM(K16:P16) -> 0 | Q16: =SUM(R16:W16) -> 0 | X16: =SUM(Y16:AD16) -> 0 | AE16: =SUM(AF16:AK16) -> 0 | AL16: =SUM(AM16:AR16) -> 0 | AS16: =SUM(AT16:AY16) -> 0 | AZ16: =SUM(BA16:BF16) -> 0 | BG16: =SUM(BH16:BM16) -> 0 | BN16: =SUM(BO16:BT16) -> 0 | BU16: =SUM(BV16:CA16) -> 0 | CB16: =SUM(CC16:CH16) -> 0 | CI16: =SUM(CJ16:CO16) -> 0 | CP16: =SUM(CQ16:CV16) -> 0 | CW16: =SUM(CX16:DC16) -> 0 | DD16: =SUM(DE16:DJ16) -> 0 | DK16: =SUM(DL16:DQ16) -> 0
A17: 7 | B17: תביעות שנסגרו (א3+א3א+א4+א5+א6) | C17: =SUM(C12:C16) -> 0 | D17: =SUM(D12:D16) -> 0 | E17: =SUM(E12:E16) -> 0 | F17: =SUM(F12:F16) -> 0 | G17: =SUM(G12:G16) -> 0 | H17: =SUM(H12:H16) -> 0 | I17: =SUM(I12:I16) -> 0 | J17: =SUM(J12:J16) -> 0 | ... DQ17: =SUM(DQ12:DQ16) -> 0
