Workbook
Name company: [1]Information!$M$24
Name list_all: '[2]רשימת גופים 2009'!$A$1:$C$139
Name list_all: '[2]רשימת גופים 2009'!$A$1:$C$139
Name list_all: '[2]רשימת גופים 2009'!$A$1:$C$139
Name list_all: '[2]רשימת גופים 2009'!$A$1:$C$139
Name list_all: '[2]רשימת גופים 2009'!$A$1:$C$139
Name list_all: '[2]רשימת גופים 2009'!$A$1:$C$139
Name list_all: '[2]רשימת גופים 2009'!$A$1:$C$139
Name list_all: '[2]רשימת גופים 2009'!$A$1:$C$139
Name list_all: '[2]רשימת גופים 2009'!$A$1:$C$139
Name list_all: '[2]רשימת גופים 2009'!$A$1:$C$139
Name list_all: '[2]רשימת גופים 2009'!$A$1:$C$139
Name list_all: '[2]רשימת גופים 2009'!$A$1:$C$139
Name List_All: '[3]רשימות מערכת'!$A$2:$C$208
Name List_All_Periods: #REF!
Name List_All_Periods: #REF!
Name List_All_Periods: #REF!
Name List_All_Periods: #REF!
Name List_All_Periods: #REF!
Name List_All_Periods: #REF!
Name List_All_Periods: #REF!
Name List_All_Periods: #REF!
Name List_All_Periods: #REF!
Name List_All_Periods: #REF!
Name List_All_Periods: #REF!
Name List_All_Periods: #REF!
Name list_name: '[2]רשימת גופים 2009'!$A$1:$A$139
Name list_name: '[2]רשימת גופים 2009'!$A$1:$A$139
Name list_name: '[2]רשימת גופים 2009'!$A$1:$A$139
Name list_name: '[2]רשימת גופים 2009'!$A$1:$A$139
Name list_name: '[2]רשימת גופים 2009'!$A$1:$A$139
Name list_name: '[2]רשימת גופים 2009'!$A$1:$A$139
Name list_name: '[2]רשימת גופים 2009'!$A$1:$A$139
Name list_name: '[2]רשימת גופים 2009'!$A$1:$A$139
Name list_name: '[2]רשימת גופים 2009'!$A$1:$A$139
Name list_name: '[2]רשימת גופים 2009'!$A$1:$A$139
Name list_name: '[2]רשימת גופים 2009'!$A$1:$A$139
Name list_name: '[2]רשימת גופים 2009'!$A$1:$A$139
Name List_Name: '[4]רשימות מערכת'!$A$2:$A$201
Name List_Names: 'רשימת גופים'!$A$3:$A$230
Name List_Period: #REF!
Name List_Period: #REF!
Name List_Period: #REF!
Name List_Period: #REF!
Name List_Period: #REF!
Name List_Period: #REF!
Name List_Period: #REF!
Name List_Period: #REF!
Name List_Period: #REF!
Name List_Period: #REF!
Name List_Period: #REF!
Name List_Period: #REF!
Name list_type: #REF!
Name list_type: #REF!
Name list_type: #REF!
Name list_type: #REF!
Name list_type: #REF!
Name list_type: #REF!
Name list_type: #REF!
Name list_type: #REF!

Sheet הסבר למילוי
B2: הסבר למילוי השורות בנספחים א1 - א3:
B3: א. | C3: שורה א1, "תביעות פתוחות לתחילת השנה" - מספרן יהיה שווה ליתרת הסגירה של השנה הקודמת, כאשר בשנת הדיווח הראשונה מספר התביעות יהיה שווה לאפס;
B4: ב. | C4: שורה א2, "תביעות שהוגשו במהלך השנה" - לרבות תביעות שלא הגיעו לידי בירור (כגון בשל אי שליחת מסמכים על ידי התובע). לעניין סעיף זה, תביעה שנסגרה ונפתחה מחדש תיחשב כתביעה אחת;
B5: ג. | C5: שורה א3, "תביעות ששולמו" - תביעות בהן מסר הגוף המוסדי לתובע הודעת תשלום;
C6: שורה א3א, "תביעות ששולמו חלקית" - תביעות בהן מסר הגוף המוסדי לתובע הודעת תשלום חלקי;
B7: ד. | C7: שורה א5, "תביעות שנדחו" - תביעות בהן מסר הגוף המוסדי לתובע הודעת דחייה;
B8: ה. | C8: שורה א6, "תביעות שנסגרו בפשרה" - תביעות בהן אישר התובע את הודעת הפשרה שמסר לו הגוף המוסדי;
B9: ו. | C9: שורה א7, "תביעות שבוטלו" - תביעות שנסגרו למעט תביעות שאושרו, נדחו או נסגרו בפשרה;
B10: ז. | C10: שורה א8, "תביעות שנסגרו" - סכום שורות א3 - א7;
B11: ח. | C11: שורה א9, "תביעות פתוחות לסוף השנה" - שורה א1 בתוספת שורה א2 בניכוי שורה א8;
B12: ט. | C12: שורה ב1, "תביעות שנסגרו בבוררות" - תביעות שאושרו;
B13: י. | C13: שורה ב2, "תביעות שנסגרו בבוררות" - תביעות שנדחו;
B14: יא. | C14: שורה ג1, "תביעות שנסגרו בבית משפט" - תביעות שאושרו;
B15: יב. | C15: שורה ג2, "תביעות שנסגרו בבית משפט" - תביעות שנדחו;
B16: יג. | C16: שורה ג3, "תביעות שנסגרו בבית משפט" - פשרה;
B17: יד. | C17: שורה ג4, "תביעות שנסגרו בבית משפט" - אחר.
B21: הסבר למילוי השורות בנספחים א4 ו-א5
B22: א. | C22: שורה א1, "בקשות פתוחות לתחילת השנה" – מספרן יהיה שווה ליתרת הסגירה של השנה הקודמת;
B23: ב. | C23: שורה א2, "בקשות שהוגשו במהלך השנה" – לרבות בקשות שלא הגיעו לידי סיום טיפול במהלך השנה;
B24: ג. | C24: שורה א3, "בקשות שבוטלו במהלך השנה" – בקשות שביטל העמית או בקשות שדחה הגוף המוסדי כיוון שלא ניתן לבצען לפי הוראות הדין;
B25: ד. | C25: שורה א4, "בקשות שהגיעו לידי סיום טיפול במהלך השנה" – סיום טיפול ייחשב כתשלום לעמית, העברת כספים או שליחת הודעה, לפי העניין, כאמור בהגדרת "משך זמן הטיפול בבקשה" לחוזר;
B26: ה. | C26: שורה א5, "בקשות פתוחות לסוף השנה" – שורה א1 בתוספת שורה א2 ובהפחתת שורות א3 ו-א4.

Sheet הוראות
A2: אופן הדיווח
A3: (1 | B3: את גיליון העבודה, לאחר מילוי הנתונים, יש לשלוח לדואר אלקטרוני: | F3: dnetunim@mof.gov.il
A4: 2) | B4: שם הקובץ יהיה עפ"י הוראות החוזר בלבד (לפי התא המסומן בצהוב - "שם קובץ לשמירה"). קובץ בשם לא תקין, לא יתקבל ויחשב כאי הגשת הדוח.
A5: 3) | B5: יש למלא את נתוני החברה ונתוני איש הקשר, בתאים המיועדים לכך להלן.
A6: 4) | B6: הנתונים המדווחים עבור חברה מסוימת (חברת ביטוח או חברה מנהלת).
A7: 5) | B7: הקובץ המדווח יהיה הקובץ המקורי אותו הורדתם מאתר האינטרנט של אגף שוק ההון, ביטוח וחיסכון. לא יתקבל קובץ סרוק או מועתק משנה אחרת, קובץ שנבנה בצורה עצמאית או קובץ PDF.
A9: 6) | B9: כל שינוי בשם הגוף המוסדי או הוספת גוף מוסדי חדש, יש לעדכן את שם הגוף המוסדי ואת הח.פ בגיליון רשימת גופים.
B12: שם הגוף המוסדי | C12: מספר זיהוי - מס. ח.פ | D12: שם איש קשר | E12: טלפון | F12: שנה | G12: תקופת הדו"ח | H12: שם הקובץ לשמירה
B13: ק.ה.ר הקרן השתלמות לרוקחים בע"מ | C13: =VLOOKUP(B13,'רשימת גופים'!A3:B230,2,0) -> 520030198 | D13: יאיר חן | E13: 09-9576000 | F13: 2020 | G13: שנתי | H13: =CONCATENATE("netunim","_",C13,"_",F13,".xlsx") -> netunim_520030198_2020.xlsx | Z13: הנתונים ביחידות בודדות לשנת
B15: חזרה
B16: תוכן עניינים:
B17: רשימת גופים
B18: נספח א1 מספרי תביעות בביטוח כללי | D18: כללי א1
B19: נספח א2 מספרי תביעות בביטוח בריאות | D19: בריאות א2
B20: נספח א3 מספרי תביעות בקצבת נכות (א.כ.ע), ריסק מוות וקצבת שארים | D20: פנסיוני א3
B21: נספח א4 - מספרי בקשות למשיכת כספים או לקבלת קצבת זקנה (גמל) | D21: נספח א4 (G)
B22: נספח א4 - מספרי בקשות למשיכת כספים או לקבלת קצבת זקנה (פנסיה) | D22: נספח א4 (P)
B23: נספח א4 - מספרי בקשות למשיכת כספים או לקבלת קצבת זקנה (ביטוח) | D23: נספח א4 (B)
B24: נספח א5 - מספרי בקשות להעברת כספים בין קופות גמל או בין מסלולי השקעה (גמל) | D24: נספח א5 (G)
B25: נספח א5 - מספרי בקשות להעברת כספים בין קופות גמל או בין מסלולי השקעה (פנסיה) | D25: נספח א5 (P)
B26: נספח א5 - מספרי בקשות להעברת כספים בין קופות גמל או בין מסלולי השקעה (ביטוח) | D26: נספח א5 (B)
B27: נספח ב1 מדדי תביעות בביטוח כללי | D27: כללי ב1
B28: נספח ב2 מדדי תביעות בביטוח בריאות | D28: בריאות ב2
B29: נספח ב3 מדדי תביעות בקצבת נכות (א.כ.ע), ריסק מוות וקצבת שארים | D29: פנסיוני ב3
... B35: נספח ב5 - מדדי בקשות להעברת כספים בין קופות גמל או בין מסלולי השקעה (ביטוח) | D35: נספח ב5 (B)

Sheet רשימת גופים
A1: חזרה
A3: חברה מדווחת _______ | B3: 123456789
A4: איי אי ג'י ישראל חברה לביטוח בע"מ | B4: 512304882 | D4: להוספת שם גוף מוסדי חדש, יש להוסיף את השם ואת הח.פ בסוף הרשימה
A5: איילון חברה לביטוח בע"מ | B5: 520042169
A6: אליהו חברה לביטוח בע"מ | B6: 520029851
A7: אקסלנס נשואה פנסיה (אחדות) בע"מ | B7: 512401449
A8: ביטוח חקלאי אגודה שיתופית מרכזית בע"מ | B8: 570003152
A9: גילעד גמלאות לעובדים דתיים בע"מ | B9: 520023094
A10: גלעד קרן פנסיה מקיפה בע"מ | B10: 512242215
A11: דקלה חברה לביטוח בע"מ | B11: 520030503
A12: הכשרה חברה לביטוח בע"מ | B12: 520042177
A13: הלמן - אלדובי קרנות פנסיה בע"מ | B13: 513465203
A14: הפניקס בריאות חברה לביטוח בע"מ | B14: 513929091
A15: הפניקס חברה לביטוח בע"מ | B15: 520023185
A16: הפניקס קרנות פנסיה מאוזנות וותיקות בע"מ | B16: 511751513
... A198: מגדל מקפת קרנות פנסיה וקופות גמל בע"מ | B198: 512237744

Sheet כללי א1
B1: =הוראות!B18 -> נספח א1 מספרי תביעות בביטוח כללי
B2: =הוראות!B13 -> ק.ה.ר הקרן השתלמות לרוקחים בע"מ
B3: =CONCATENATE(הוראות!Z13,הוראות!F13) -> הנתונים ביחידות בודדות לשנת 2020
B4: חזרה | C4: רכב חובה | J4: רכב רכוש | X4: דירות (למעט נזקי מים) | AL4: דירות (נזקי מים בלבד)
J5: נזק עצמי | Q5: צד שלישי | X5: נזק למבנה | AE5: נזק לתכולה | AL5: נזק למבנה | AS5: נזק לתכולה
C6: סה"כ מספר תביעות | E6: מספר התביעות שנסגרו במהלך השנה | J6: =C6 -> סה"כ מספר תביעות | K6: מספר התביעות שנסגרו במהלך השנה | Q6: =C6 -> סה"כ מספר תביעות | R6: מספר התביעות שנסגרו במהלך השנה | X6: =C6 -> סה"כ מספר תביעות | Y6: מספר התביעות שנסגרו במהלך השנה | AE6: =J6 -> סה"כ מספר תביעות | AF6: מספר התביעות שנסגרו במהלך השנה | AL6: =Q6 -> סה"כ מספר תביעות | AM6: מספר התביעות שנסגרו במהלך השנה | AS6: =X6 -> סה"כ מספר תביעות | AT6: מספר התביעות שנסגרו במהלך השנה
B7: מספרי התביעות (בערכים) | D7: עד 60 יום | E7: 61 -120 יום | F7: 121 -360 יום | G7: 361 - 730 יום | H7: 731 - 1276 יום | I7: מעל 1277 יום | K7: עד 14 יום | L7: 15-30 יום | M7: 31-60 יום | N7: 61-120 יום | O7: 121-180 יום | P7: 181 יום ומעלה | R7: עד 14 יום | S7: 15-30 יום | T7: 31-60 יום | U7: 61-120 יום | V7: 121-180 יום | W7: 181 יום ומעלה | Y7: עד 14 יום | Z7: 15-30 יום | AA7: 31-60 יום | AB7: 61-120 יום | AC7: 121-180 יום | AD7: 181 יום ומעלה | AF7: עד 14 יום | AG7: 15-30 יום | AH7: 31-60 יום | AI7: 61-120 יום | AJ7: 121-180 יום | AK7: 181 יום ומעלה | AM7: עד 14 יום | AN7: 15-30 יום | AO7: 31-60 יום | AP7: 61-120 יום | AQ7: 121-180 יום | AR7: 181 יום ומעלה | AT7: עד 14 יום | AU7: 15-30 יום | AV7: 31-60 יום | AW7: 61-120 יום | AX7: 121-180 יום | AY7: 181 יום ומעלה
C8: (1) | D8: (2) | E8: (3) | F8: (4) | G8: (5) | H8: (6) | I8: (7) | J8: (8) | K8: (9) | L8: (10) | M8: (11) | N8: (12) | O8: (13) | P8: (14) | Q8: (15) | R8: (16) | S8: (17) | T8: (18) | U8: (19) | V8: (20) | W8: (21) | X8: (22) | Y8: (23) | Z8: (24) | AA8: (25) | AB8: (26) | AC8: (27) | AD8: (28) | AE8: (29) | AF8: (30) | AG8: (31) | AH8: (32) | AI8: (33) | AJ8: (34) | AK8: (35) | AL8: (36) | AM8: (37) | AN8: (38) | AO8: (39) | AP8: (40) | AQ8: (41) | AR8: (42) | AS8: (43) | AT8: (44) | AU8: (45) | AV8: (46) | AW8: (47) | AX8: (48) | AY8: (49)
A9: א | B9: תביעות:
A10: 1 | B10: תביעות פתוחות לתחילת השנה
A11: =A10+1 -> 2 | B11: תביעות שהוגשו במהלך השנה
A12: 3 | B12: תביעות ששולמו | C12: =SUM(D12:I12) -> 0 | J12: =SUM(K12:P12) -> 0 | Q12: =SUM(R12:W12) -> 0 | X12: =SUM(Y12:AD12) -> 0 | AE12: =SUM(AF12:AK12) -> 0 | AL12: =SUM(AM12:AR12) -> 0 | AS12: =SUM(AT12:AY12) -> 0
A13: 3א | B13: תביעות ששולמו חלקית | C13: =SUM(D13:I13) -> 0 | J13: =SUM(K13:P13) -> 0 | Q13: =SUM(R13:W13) -> 0 | X13: =SUM(Y13:AD13) -> 0 | AE13: =SUM(AF13:AK13) -> 0 | AL13: =SUM(AM13:AR13) -> 0 | AS13: =SUM(AT13:AY13) -> 0
A14: 4 | B14: תביעות שנדחו | C14: =SUM(D14:I14) -> 0 | J14: =SUM(K14:P14) -> 0 | Q14: =SUM(R14:W14) -> 0 | X14: =SUM(Y14:AD14) -> 0 | AE14: =SUM(AF14:AK14) -> 0 | AL14: =SUM(AM14:AR14) -> 0 | AS14: =SUM(AT14:AY14) -> 0
A15: 5 | B15: תביעות שנסגרו בפשרה | C15: =SUM(D15:I15) -> 0 | J15: =SUM(K15:P15) -> 0 | Q15: =SUM(R15:W15) -> 0 | X15: =SUM(Y15:AD15) -> 0 | AE15: =SUM(AF15:AK15) -> 0 | AL15: =SUM(AM15:AR15) -> 0 | AS15: =SUM(AT15:AY15) -> 0
A16: 6 | B16: תביעות שבוטלו | C16: =SUM(D16:I16) -> 0 | J16: =SUM(K16:P16) -> 0 | Q16: =SUM(R16:W16) -> 0 | X16: =SUM(Y16:AD16) -> 0 | AE16: =SUM(AF16:AK16) -> 0 | AL16: =SUM(AM16:AR16) -> 0 | AS16: =SUM(AT16:AY16) -> 0
A17: 7 | B17: תביעות שנסגרו (א3+א3א+א4+א5+א6) | C17: =SUM(C12:C16) -> 0 | D17: =SUM(D12:D16) -> 0 | E17: =SUM(E12:E16) -> 0 | F17: =SUM(F12:F16) -> 0 | G17: =SUM(G12:G16) -> 0 | H17: =SUM(H12:H16) -> 0 | I17: =SUM(I12:I16) -> 0 | J17: =SUM(J12:J16) -> 0 | ... AY17: =SUM(AY12:AY16) -> 0
A18: 8 | B18: תביעות פתוחות לסוף השנה (א1+א2-א7) | C18: =IF(C10+C11-C17=0,0,C10+C11-C17) -> 0 | J18: =IF(J10+J11-J17=0,0,J10+J11-J17) -> 0 | Q18: =IF(Q10+Q11-Q17=0,0,Q10+Q11-Q17) -> 0 | X18: =IF(X10+X11-X17=0,0,X10+X11-X17) -> 0 | AE18: =IF(AE10+AE11-AE17=0,0,AE10+AE11-AE17) -> 0 | AL18: =IF(AL10+AL11-AL17=0,0,AL10+AL11-AL17) -> 0 | AS18: =IF(AS10+AS11-AS17=0,0,AS10+AS11-AS17) -> 0
A19: ב | B19: תביעות שנסגרו בבוררות:
A20: 1 | B20: תביעות שאושרו | C20: =SUM(D20:I20) -> 0 | J20: =SUM(K20:P20) -> 0 | Q20: =SUM(R20:W20) -> 0 | X20: =SUM(Y20:AD20) -> 0 | AE20: =SUM(AF20:AK20) -> 0 | AL20: =SUM(AM20:AR20) -> 0 | AS20: =SUM(AT20:AY20) -> 0
A21: 2 | B21: תביעות שנדחו | C21: =SUM(D21:I21) -> 0 | J21: =SUM(K21:P21) -> 0 | Q21: =SUM(R21:W21) -> 0 | X21: =SUM(Y21:AD21) -> 0 | AE21: =SUM(AF21:AK21) -> 0 | AL21: =SUM(AM21:AR21) -> 0 | AS21: =SUM(AT21:AY21) -> 0
A22: 3 | B22: סה"כ (ב1+ב2) | C22: =SUM(C20:C21) -> 0 | D22: =SUM(D20:D21) -> 0 | E22: =SUM(E20:E21) -> 0 | F22: =SUM(F20:F21) -> 0 | G22: =SUM(G20:G21) -> 0 | H22: =SUM(H20:H21) -> 0 | I22: =SUM(I20:I21) -> 0 | J22: =SUM(J20:J21) -> 0 | ... AY22: =SUM(AY20:AY21) -> 0
A23: ג | B23: תביעות שנסגרו בבית משפט:
A24: 1 | B24: תביעות שאושרו | C24: =SUM(D24:I24) -> 0 | J24: =SUM(K24:P24) -> 0 | Q24: =SUM(R24:W24) -> 0 | X24: =SUM(Y24:AD24) -> 0 | AE24: =SUM(AF24:AK24) -> 0 | AL24: =SUM(AM24:AR24) -> 0 | AS24: =SUM(AT24:AY24) -> 0
A25: 2 | B25: תביעות שנדחו | C25: =SUM(D25:I25) -> 0 | J25: =SUM(K25:P25) -> 0 | Q25: =SUM(R25:W25) -> 0 | X25: =SUM(Y25:AD25) -> 0 | AE25: =SUM(AF25:AK25) -> 0 | AL25: =SUM(AM25:AR25) -> 0 | AS25: =SUM(AT25:AY25) -> 0
A26: 3 | B26: פשרה | C26: =SUM(D26:I26) -> 0 | J26: =SUM(K26:P26) -> 0 | Q26: =SUM(R26:W26) -> 0 | X26: =SUM(Y26:AD26) -> 0 | AE26: =SUM(AF26:AK26) -> 0 | AL26: =SUM(AM26:AR26) -> 0 | AS26: =SUM(AT26:AY26) -> 0
A27: 4 | B27: אחר | C27: =SUM(D27:I27) -> 0 | J27: =SUM(K27:P27) -> 0 | Q27: =SUM(R27:W27) -> 0 | X27: =SUM(Y27:AD27) -> 0 | AE27: =SUM(AF27:AK27) -> 0 | AL27: =SUM(AM27:AR27) -> 0 | AS27: =SUM(AT27:AY27) -> 0
A28: =A27+1 -> 5 | B28: סה"כ (ג1+ג2+ג3+ג4) | C28: =SUM(C24:C27) -> 0 | D28: =SUM(D24:D27) -> 0 | E28: =SUM(E24:E27) -> 0 | F28: =SUM(F24:F27) -> 0 | G28: =SUM(G24:G27) -> 0 | H28: =SUM(H24:H27) -> 0 | I28: =SUM(I24:I27) -> 0 | J28: =SUM(J24:J27) -> 0 | ... AY28: =SUM(AY24:AY27) -> 0
B31: מדדי התביעות (באחוזים) | C31: רכב חובה | J31: רכב רכוש | X31: דירות
J32: נזק עצמי | Q32: צד שלישי | X32: נזק למבנה | AE32: נזק לתכולה
C33: סה"כ | D33: עד 60 יום | E33: 61 -120 יום | F33: 121 -360 יום | G33: 361 - 730 יום | H33: 731 - 1276 יום | I33: מעל 1277 יום | J33: סה"כ | K33: עד 14 יום | L33: 15-30 יום | M33: 31-60 יום | N33: 61-120 יום | O33: 121-180 יום | P33: 181 יום ומעלה | Q33: סה"כ | R33: עד 14 יום | S33: 15-30 יום | T33: 31-60 יום | U33: 61-120 יום | V33: 121-180 יום | W33: 181 יום ומעלה | X33: סה"כ | Y33: עד 14 יום | Z33: 15-30 יום | AA33: 31-60 יום | AB33: 61-120 יום | AC33: 121-180 יום | AD33: 181 יום ומעלה | AE33: סה"כ | AF33: עד 14 יום | AG33: 15-30 יום | AH33: 31-60 יום | AI33: 61-120 יום | AJ33: 121-180 יום | AK33: 181 יום ומעלה
C34: (1) | D34: (2) | E34: (3) | F34: (4) | G34: (5) | H34: (6) | I34: (7) | J34: (8) | K34: (9) | L34: (10) | M34: (11) | N34: (12) | O34: (13) | P34: (14) | Q34: (15) | R34: (16) | S34: (17) | T34: (18) | U34: (19) | V34: (20) | W34: (21) | X34: (22) | Y34: (23) | Z34: (24) | AA34: (25) | AB34: (26) | AC34: (27) | AD34: (28) | AE34: (29) | AF34: (30) | AG34: (31) | AH34: (32) | AI34: (33) | AJ34: (34) | AK34: (35)
A35: א | B35: תביעות:
A36: 3 | B36: תביעות ששולמו | C36: =SUM(D36:I36) -> 0 | D36: =IF('כללי א1'!D12=0,0,'כללי א1'!D12/'כללי א1'!$C$17) -> 0 | E36: =IF('כללי א1'!E12=0,0,'כללי א1'!E12/'כללי א1'!$C$17) -> 0 | F36: =IF('כללי א1'!F12=0,0,'כללי א1'!F12/'כללי א1'!$C$17) -> 0 | G36: =IF('כללי א1'!G12=0,0,'כללי א1'!G12/'כללי א1'!$C$17) -> 0 | H36: =IF('כללי א1'!H12=0,0,'כללי א1'!H12/'כללי א1'!$C$17) -> 0 | I36: =IF('כללי א1'!I12=0,0,'כללי א1'!I12/'כללי א1'!$C$17) -> 0 | J36: =SUM(K36:P36) -> 0 | K36: =IF('כללי א1'!K12=0,0,'כללי א1'!K12/'כללי א1'!$C$17) -> 0 | L36: =IF('כללי א1'!L12=0,0,'כללי א1'!L12/'כללי א1'!$C$17) -> 0 | M36: =IF('כללי א1'!M12=0,0,'כללי א1'!M12/'כללי א1'!$C$17) -> 0 | N36: =IF('כללי א1'!N12=0,0,'כללי א1'!N12/'כללי א1'!$C$17) -> 0 | O36: =IF('כללי א1'!O12=0,0,'כללי א1'!O12/'כללי א1'!$C$17) -> 0 | P36: =IF('כללי א1'!P12=0,0,'כללי א1'!P12/'כללי א1'!$C$17) -> 0 | Q36: =SUM(R36:W36) -> 0 | R36: =IF('כללי א1'!R12=0,0,'כללי א1'!R12/'כללי א1'!$C$17) -> 0 | S36: =IF('כללי א1'!S12=0,0,'כללי א1'!S12/'כללי א1'!$C$17) -> 0 | T36: =IF('כללי א1'!T12=0,0,'כללי א1'!T12/'כללי א1'!$C$17) -> 0 | U36: =IF('כללי א1'!U12=0,0,'כללי א1'!U12/'כללי א1'!$C$17) -> 0 | V36: =IF('כללי א1'!V12=0,0,'כללי א1'!V12/'כללי א1'!$C$17) -> 0 | W36: =IF('כללי א1'!W12=0,0,'כללי א1'!W12/'כללי א1'!$C$17) -> 0 | X36: =SUM(Y36:AD36) -> 0 | Y36: =IF('כללי א1'!Y12=0,0,'כללי א1'!Y12/'כללי א1'!$C$17) -> 0 | Z36: =IF('כללי א1'!Z12=0,0,'כללי א1'!Z12/'כללי א1'!$C$17) -> 0 | AA36: =IF('כללי א1'!AA12=0,0,'כללי א1'!AA12/'כללי א1'!$C$17) -> 0 | AB36: =IF('כללי א1'!AB12=0,0,'כללי א1'!AB12/'כללי א1'!$C$17) -> 0 | AC36: =IF('כללי א1'!AC12=0,0,'כללי א1'!AC12/'כללי א1'!$C$17) -> 0 | AD36: =IF('כללי א1'!AD12=0,0,'כללי א1'!AD12/'כללי א1'!$C$17) -> 0 | AE36: =SUM(AF36:AK36) -> 0 | AF36: =IF('כללי א1'!AF12=0,0,'כללי א1'!AF12/'כללי א1'!$C$17) -> 0 | AG36: =IF('כללי א1'!AG12=0,0,'כללי א1'!AG12/'כללי א1'!$C$17) -> 0 | AH36: =IF('כללי א1'!AH12=0,0,'כללי א1'!AH12/'כללי א1'!$C$17) -> 0 | AI36: =IF('כללי א1'!AI12=0,0,'כללי א1'!AI12/'כללי א1'!$C$17) -> 0 | AJ36: =IF('כללי א1'!AJ12=0,0,'כללי א1'!AJ12/'כללי א1'!$C$17) -> 0 | AK36: =IF('כללי א1'!AK12=0,0,'כללי א1'!AK12/'כללי א1'!$C$17) -> 0
A37: 3א | B37: תביעות ששולמו חלקית | C37: =SUM(D37:I37) -> 0 | D37: =IF('כללי א1'!D13=0,0,'כללי א1'!D13/'כללי א1'!$C$17) -> 0 | E37: =IF('כללי א1'!E13=0,0,'כללי א1'!E13/'כללי א1'!$C$17) -> 0 | F37: =IF('כללי א1'!F13=0,0,'כללי א1'!F13/'כללי א1'!$C$17) -> 0 | G37: =IF('כללי א1'!G13=0,0,'כללי א1'!G13/'כללי א1'!$C$17) -> 0 | H37: =IF('כללי א1'!H13=0,0,'כללי א1'!H13/'כללי א1'!$C$17) -> 0 | I37: =IF('כללי א1'!I13=0,0,'כללי א1'!I13/'כללי א1'!$C$17) -> 0 | J37: =SUM(K37:P37) -> 0 | K37: =IF('כללי א1'!K13=0,0,'כללי א1'!K13/'כללי א1'!$C$17) -> 0 | L37: =IF('כללי א1'!L13=0,0,'כללי א1'!L13/'כללי א1'!$C$17) -> 0 | M37: =IF('כללי א1'!M13=0,0,'כללי א1'!M13/'כללי א1'!$C$17) -> 0 | N37: =IF('כללי א1'!N13=0,0,'כללי א1'!N13/'כללי א1'!$C$17) -> 0 | O37: =IF('כללי א1'!O13=0,0,'כללי א1'!O13/'כללי א1'!$C$17) -> 0 | P37: =IF('כללי א1'!P13=0,0,'כללי א1'!P13/'כללי א1'!$C$17) -> 0 | Q37: =SUM(R37:W37) -> 0 | R37: =IF('כללי א1'!R13=0,0,'כללי א1'!R13/'כללי א1'!$C$17) -> 0 | S37: =IF('כללי א1'!S13=0,0,'כללי א1'!S13/'כללי א1'!$C$17) -> 0 | T37: =IF('כללי א1'!T13=0,0,'כללי א1'!T13/'כללי א1'!$C$17) -> 0 | U37: =IF('כללי א1'!U13=0,0,'כללי א1'!U13/'כללי א1'!$C$17) -> 0 | V37: =IF('כללי א1'!V13=0,0,'כללי א1'!V13/'כללי א1'!$C$17) -> 0 | W37: =IF('כללי א1'!W13=0,0,'כללי א1'!W13/'כללי א1'!$C$17) -> 0 | X37: =SUM(Y37:AD37) -> 0 | Y37: =IF('כללי א1'!Y13=0,0,'כללי א1'!Y13/'כללי א1'!$C$17) -> 0 | Z37: =IF('כללי א1'!Z13=0,0,'כללי א1'!Z13/'כללי א1'!$C$17) -> 0 | AA37: =IF('כללי א1'!AA13=0,0,'כללי א1'!AA13/'כללי א1'!$C$17) -> 0 | AB37: =IF('כללי א1'!AB13=0,0,'כללי א1'!AB13/'כללי א1'!$C$17) -> 0 | AC37: =IF('כללי א1'!AC13=0,0,'כללי א1'!AC13/'כללי א1'!$C$17) -> 0 | AD37: =IF('כללי א1'!AD13=0,0,'כללי א1'!AD13/'כללי א1'!$C$17) -> 0 | AE37: =SUM(AF37:AK37) -> 0 | AF37: =IF('כללי א1'!AF13=0,0,'כללי א1'!AF13/'כללי א1'!$C$17) -> 0 | AG37: =IF('כללי א1'!AG13=0,0,'כללי א1'!AG13/'כללי א1'!$C$17) -> 0 | AH37: =IF('כללי א1'!AH13=0,0,'כללי א1'!AH13/'כללי א1'!$C$17) -> 0 | AI37: =IF('כללי א1'!AI13=0,0,'כללי א1'!AI13/'כללי א1'!$C$17) -> 0 | AJ37: =IF('כללי א1'!AJ13=0,0,'כללי א1'!AJ13/'כללי א1'!$C$17) -> 0 | AK37: =IF('כללי א1'!AK13=0,0,'כללי א1'!AK13/'כללי א1'!$C$17) -> 0
A38: 4 | B38: תביעות שנדחו | C38: =SUM(D38:I38) -> 0 | D38: =IF('כללי א1'!D14=0,0,'כללי א1'!D14/'כללי א1'!$C$17) -> 0 | E38: =IF('כללי א1'!E14=0,0,'כללי א1'!E14/'כללי א1'!$C$17) -> 0 | F38: =IF('כללי א1'!F14=0,0,'כללי א1'!F14/'כללי א1'!$C$17) -> 0 | G38: =IF('כללי א1'!G14=0,0,'כללי א1'!G14/'כללי א1'!$C$17) -> 0 | H38: =IF('כללי א1'!H14=0,0,'כללי א1'!H14/'כללי א1'!$C$17) -> 0 | I38: =IF('כללי א1'!I14=0,0,'כללי א1'!I14/'כללי א1'!$C$17) -> 0 | J38: =SUM(K38:P38) -> 0 | K38: =IF('כללי א1'!K14=0,0,'כללי א1'!K14/'כללי א1'!$C$17) -> 0 | L38: =IF('כללי א1'!L14=0,0,'כללי א1'!L14/'כללי א1'!$C$17) -> 0 | M38: =IF('כללי א1'!M14=0,0,'כללי א1'!M14/'כללי א1'!$C$17) -> 0 | N38: =IF('כללי א1'!N14=0,0,'כללי א1'!N14/'כללי א1'!$C$17) -> 0 | O38: =IF('כללי א1'!O14=0,0,'כללי א1'!O14/'כללי א1'!$C$17) -> 0 | P38: =IF('כללי א1'!P14=0,0,'כללי א1'!P14/'כללי א1'!$C$17) -> 0 | Q38: =SUM(R38:W38) -> 0 | R38: =IF('כללי א1'!R14=0,0,'כללי א1'!R14/'כללי א1'!$C$17) -> 0 | S38: =IF('כללי א1'!S14=0,0,'כללי א1'!S14/'כללי א1'!$C$17) -> 0 | T38: =IF('כללי א1'!T14=0,0,'כללי א1'!T14/'כללי א1'!$C$17) -> 0 | U38: =IF('כללי א1'!U14=0,0,'כללי א1'!U14/'כללי א1'!$C$17) -> 0 | V38: =IF('כללי א1'!V14=0,0,'כללי א1'!V14/'כללי א1'!$C$17) -> 0 | W38: =IF('כללי א1'!W14=0,0,'כללי א1'!W14/'כללי א1'!$C$17) -> 0 | X38: =SUM(Y38:AD38) -> 0 | Y38: =IF('כללי א1'!Y14=0,0,'כללי א1'!Y14/'כללי א1'!$C$17) -> 0 | Z38: =IF('כללי א1'!Z14=0,0,'כללי א1'!Z14/'כללי א1'!$C$17) -> 0 | AA38: =IF('כללי א1'!AA14=0,0,'כללי א1'!AA14/'כללי א1'!$C$17) -> 0 | AB38: =IF('כללי א1'!AB14=0,0,'כללי א1'!AB14/'כללי א1'!$C$17) -> 0 | AC38: =IF('כללי א1'!AC14=0,0,'כללי א1'!AC14/'כללי א1'!$C$17) -> 0 | AD38: =IF('כללי א1'!AD14=0,0,'כללי א1'!AD14/'כללי א1'!$C$17) -> 0 | AE38: =SUM(AF38:AK38) -> 0 | AF38: =IF('כללי א1'!AF14=0,0,'כללי א1'!AF14/'כללי א1'!$C$17) -> 0 | AG38: =IF('כללי א1'!AG14=0,0,'כללי א1'!AG14/'כללי א1'!$C$17) -> 0 | AH38: =IF('כללי א1'!AH14=0,0,'כללי א1'!AH14/'כללי א1'!$C$17) -> 0 | AI38: =IF('כללי א1'!AI14=0,0,'כללי א1'!AI14/'כללי א1'!$C$17) -> 0 | AJ38: =IF('כללי א1'!AJ14=0,0,'כללי א1'!AJ14/'כללי א1'!$C$17) -> 0 | AK38: =IF('כללי א1'!AK14=0,0,'כללי א1'!AK14/'כללי א1'!$C$17) -> 0
A39: 5 | B39: תביעות שנסגרו בפשרה | C39: =SUM(D39:I39) -> 0 | D39: =IF('כללי א1'!D15=0,0,'כללי א1'!D15/'כללי א1'!$C$17) -> 0 | E39: =IF('כללי א1'!E15=0,0,'כללי א1'!E15/'כללי א1'!$C$17) -> 0 | F39: =IF('כללי א1'!F15=0,0,'כללי א1'!F15/'כללי א1'!$C$17) -> 0 | G39: =IF('כללי א1'!G15=0,0,'כללי א1'!G15/'כללי א1'!$C$17) -> 0 | H39: =IF('כללי א1'!H15=0,0,'כללי א1'!H15/'כללי א1'!$C$17) -> 0 | I39: =IF('כללי א1'!I15=0,0,'כללי א1'!I15/'כללי א1'!$C$17) -> 0 | J39: =SUM(K39:P39) -> 0 | K39: =IF('כללי א1'!K15=0,0,'כללי א1'!K15/'כללי א1'!$C$17) -> 0 | L39: =IF('כללי א1'!L15=0,0,'כללי א1'!L15/'כללי א1'!$C$17) -> 0 | M39: =IF('כללי א1'!M15=0,0,'כללי א1'!M15/'כללי א1'!$C$17) -> 0 | N39: =IF('כללי א1'!N15=0,0,'כללי א1'!N15/'כללי א1'!$C$17) -> 0 | O39: =IF('כללי א1'!O15=0,0,'כללי א1'!O15/'כללי א1'!$C$17) -> 0 | P39: =IF('כללי א1'!P15=0,0,'כללי א1'!P15/'כללי א1'!$C$17) -> 0 | Q39: =SUM(R39:W39) -> 0 | R39: =IF('כללי א1'!R15=0,0,'כללי א1'!R15/'כללי א1'!$C$17) -> 0 | S39: =IF('כללי א1'!S15=0,0,'כללי א1'!S15/'כללי א1'!$C$17) -> 0 | T39: =IF('כללי א1'!T15=0,0,'כללי א1'!T15/'כללי א1'!$C$17) -> 0 | U39: =IF('כללי א1'!U15=0,0,'כללי א1'!U15/'כללי א1'!$C$17) -> 0 | V39: =IF('כללי א1'!V15=0,0,'כללי א1'!V15/'כללי א1'!$C$17) -> 0 | W39: =IF('כללי א1'!W15=0,0,'כללי א1'!W15/'כללי א1'!$C$17) -> 0 | X39: =SUM(Y39:AD39) -> 0 | Y39: =IF('כללי א1'!Y15=0,0,'כללי א1'!Y15/'כללי א1'!$C$17) -> 0 | Z39: =IF('כללי א1'!Z15=0,0,'כללי א1'!Z15/'כללי א1'!$C$17) -> 0 | AA39: =IF('כללי א1'!AA15=0,0,'כללי א1'!AA15/'כללי א1'!$C$17) -> 0 | AB39: =IF('כללי א1'!AB15=0,0,'כללי א1'!AB15/'כללי א1'!$C$17) -> 0 | AC39: =IF('כללי א1'!AC15=0,0,'כללי א1'!AC15/'כללי א1'!$C$17) -> 0 | AD39: =IF('כללי א1'!AD15=0,0,'כללי א1'!AD15/'כללי א1'!$C$17) -> 0 | AE39: =SUM(AF39:AK39) -> 0 | AF39: =IF('כללי א1'!AF15=0,0,'כללי א1'!AF15/'כללי א1'!$C$17) -> 0 | AG39: =IF('כללי א1'!AG15=0,0,'כללי א1'!AG15/'כללי א1'!$C$17) -> 0 | AH39: =IF('כללי א1'!AH15=0,0,'כללי א1'!AH15/'כללי א1'!$C$17) -> 0 | AI39: =IF('כללי א1'!AI15=0,0,'כללי א1'!AI15/'כללי א1'!$C$17) -> 0 | AJ39: =IF('כללי א1'!AJ15=0,0,'כללי א1'!AJ15/'כללי א1'!$C$17) -> 0 | AK39: =IF('כללי א1'!AK15=0,0,'כללי א1'!AK15/'כללי א1'!$C$17) -> 0
A40: 6 | B40: תביעות שבוטלו | C40: =SUM(D40:I40) -> 0 | D40: =IF('כללי א1'!D16=0,0,'כללי א1'!D16/'כללי א1'!$C$17) -> 0 | E40: =IF('כללי א1'!E16=0,0,'כללי א1'!E16/'כללי א1'!$C$17) -> 0 | F40: =IF('כללי א1'!F16=0,0,'כללי א1'!F16/'כללי א1'!$C$17) -> 0 | G40: =IF('כללי א1'!G16=0,0,'כללי א1'!G16/'כללי א1'!$C$17) -> 0 | H40: =IF('כללי א1'!H16=0,0,'כללי א1'!H16/'כללי א1'!$C$17) -> 0 | I40: =IF('כללי א1'!I16=0,0,'כללי א1'!I16/'כללי א1'!$C$17) -> 0 | J40: =SUM(K40:P40) -> 0 | K40: =IF('כללי א1'!K16=0,0,'כללי א1'!K16/'כללי א1'!$C$17) -> 0 | L40: =IF('כללי א1'!L16=0,0,'כללי א1'!L16/'כללי א1'!$C$17) -> 0 | M40: =IF('כללי א1'!M16=0,0,'כללי א1'!M16/'כללי א1'!$C$17) -> 0 | N40: =IF('כללי א1'!N16=0,0,'כללי א1'!N16/'כללי א1'!$C$17) -> 0 | O40: =IF('כללי א1'!O16=0,0,'כללי א1'!O16/'כללי א1'!$C$17) -> 0 | P40: =IF('כללי א1'!P16=0,0,'כללי א1'!P16/'כללי א1'!$C$17) -> 0 | Q40: =SUM(R40:W40) -> 0 | R40: =IF('כללי א1'!R16=0,0,'כללי א1'!R16/'כללי א1'!$C$17) -> 0 | S40: =IF('כללי א1'!S16=0,0,'כללי א1'!S16/'כללי א1'!$C$17) -> 0 | T40: =IF('כללי א1'!T16=0,0,'כללי א1'!T16/'כללי א1'!$C$17) -> 0 | U40: =IF('כללי א1'!U16=0,0,'כללי א1'!U16/'כללי א1'!$C$17) -> 0 | V40: =IF('כללי א1'!V16=0,0,'כללי א1'!V16/'כללי א1'!$C$17) -> 0 | W40: =IF('כללי א1'!W16=0,0,'כללי א1'!W16/'כללי א1'!$C$17) -> 0 | X40: =SUM(Y40:AD40) -> 0 | Y40: =IF('כללי א1'!Y16=0,0,'כללי א1'!Y16/'כללי א1'!$C$17) -> 0 | Z40: =IF('כללי א1'!Z16=0,0,'כללי א1'!Z16/'כללי א1'!$C$17) -> 0 | AA40: =IF('כללי א1'!AA16=0,0,'כללי א1'!AA16/'כללי א1'!$C$17) -> 0 | AB40: =IF('כללי א1'!AB16=0,0,'כללי א1'!AB16/'כללי א1'!$C$17) -> 0 | AC40: =IF('כללי א1'!AC16=0,0,'כללי א1'!AC16/'כללי א1'!$C$17) -> 0 | AD40: =IF('כללי א1'!AD16=0,0,'כללי א1'!AD16/'כללי א1'!$C$17) -> 0 | AE40: =SUM(AF40:AK40) -> 0 | AF40: =IF('כללי א1'!AF16=0,0,'כללי א1'!AF16/'כללי א1'!$C$17) -> 0 | AG40: =IF('כללי א1'!AG16=0,0,'כללי א1'!AG16/'כללי א1'!$C$17) -> 0 | AH40: =IF('כללי א1'!AH16=0,0,'כללי א1'!AH16/'כללי א1'!$C$17) -> 0 | AI40: =IF('כללי א1'!AI16=0,0,'כללי א1'!AI16/'כללי א1'!$C$17) -> 0 | AJ40: =IF('כללי א1'!AJ16=0,0,'כללי א1'!AJ16/'כללי א1'!$C$17) -> 0 | AK40: =IF('כללי א1'!AK16=0,0,'כללי א1'!AK16/'כללי א1'!$C$17) -> 0
A41: 7 | B41: תביעות שנסגרו (א3+א3א+א4+א5+א6) | C41: =SUM(C36:C40) -> 0 | D41: =SUM(D36:D40) -> 0 | E41: =SUM(E36:E40) -> 0 | F41: =SUM(F36:F40) -> 0 | G41: =SUM(G36:G40) -> 0 | H41: =SUM(H36:H40) -> 0 | I41: =SUM(I36:I40) -> 0 | J41: =SUM(J36:J40) -> 0 | ... AK41: =SUM(AK36:AK40) -> 0
A42: ב | B42: תביעות שנסגרו בבוררות:
A43: 1 | B43: תביעות שאושרו | C43: =SUM(D43:I43) -> 0 | D43: =IF('כללי א1'!D20=0,0,'כללי א1'!D20/'כללי א1'!$C$22) -> 0 | E43: =IF('כללי א1'!E20=0,0,'כללי א1'!E20/'כללי א1'!$C$22) -> 0 | F43: =IF('כללי א1'!F20=0,0,'כללי א1'!F20/'כללי א1'!$C$22) -> 0 | G43: =IF('כללי א1'!G20=0,0,'כללי א1'!G20/'כללי א1'!$C$22) -> 0 | H43: =IF('כללי א1'!H20=0,0,'כללי א1'!H20/'כללי א1'!$C$22) -> 0 | I43: =IF('כללי א1'!I20=0,0,'כללי א1'!I20/'כללי א1'!$C$22) -> 0 | J43: =SUM(K43:P43) -> 0 | K43: =IF('כללי א1'!K20=0,0,'כללי א1'!K20/'כללי א1'!$C$22) -> 0 | L43: =IF('כללי א1'!L20=0,0,'כללי א1'!L20/'כללי א1'!$C$22) -> 0 | M43: =IF('כללי א1'!M20=0,0,'כללי א1'!M20/'כללי א1'!$C$22) -> 0 | N43: =IF('כללי א1'!N20=0,0,'כללי א1'!N20/'כללי א1'!$C$22) -> 0 | O43: =IF('כללי א1'!O20=0,0,'כללי א1'!O20/'כללי א1'!$C$22) -> 0 | P43: =IF('כללי א1'!P20=0,0,'כללי א1'!P20/'כללי א1'!$C$22) -> 0 | Q43: =SUM(R43:W43) -> 0 | R43: =IF('כללי א1'!R20=0,0,'כללי א1'!R20/'כללי א1'!$C$22) -> 0 | S43: =IF('כללי א1'!S20=0,0,'כללי א1'!S20/'כללי א1'!$C$22) -> 0 | T43: =IF('כללי א1'!T20=0,0,'כללי א1'!T20/'כללי א1'!$C$22) -> 0 | U43: =IF('כללי א1'!U20=0,0,'כללי א1'!U20/'כללי א1'!$C$22) -> 0 | V43: =IF('כללי א1'!V20=0,0,'כללי א1'!V20/'כללי א1'!$C$22) -> 0 | W43: =IF('כללי א1'!W20=0,0,'כללי א1'!W20/'כללי א1'!$C$22) -> 0 | X43: =SUM(Y43:AD43) -> 0 | Y43: =IF('כללי א1'!Y20=0,0,'כללי א1'!Y20/'כללי א1'!$C$22) -> 0 | Z43: =IF('כללי א1'!Z20=0,0,'כללי א1'!Z20/'כללי א1'!$C$22) -> 0 | AA43: =IF('כללי א1'!AA20=0,0,'כללי א1'!AA20/'כללי א1'!$C$22) -> 0 | AB43: =IF('כללי א1'!AB20=0,0,'כללי א1'!AB20/'כללי א1'!$C$22) -> 0 | AC43: =IF('כללי א1'!AC20=0,0,'כללי א1'!AC20/'כללי א1'!$C$22) -> 0 | AD43: =IF('כללי א1'!AD20=0,0,'כללי א1'!AD20/'כללי א1'!$C$22) -> 0 | AE43: =SUM(AF43:AK43) -> 0 | AF43: =IF('כללי א1'!AF20=0,0,'כללי א1'!AF20/'כללי א1'!$C$22) -> 0 | AG43: =IF('כללי א1'!AG20=0,0,'כללי א1'!AG20/'כללי א1'!$C$22) -> 0 | AH43: =IF('כללי א1'!AH20=0,0,'כללי א1'!AH20/'כללי א1'!$C$22) -> 0 | AI43: =IF('כללי א1'!AI20=0,0,'כללי א1'!AI20/'כללי א1'!$C$22) -> 0 | AJ43: =IF('כללי א1'!AJ20=0,0,'כללי א1'!AJ20/'כללי א1'!$C$22) -> 0 | AK43: =IF('כללי א1'!AK20=0,0,'כללי א1'!AK20/'כללי א1'!$C$22) -> 0
A44: 2 | B44: תביעות שנדחו | C44: =SUM(D44:I44) -> 0 | D44: =IF('כללי א1'!D21=0,0,'כללי א1'!D21/'כללי א1'!$C$22) -> 0 | E44: =IF('כללי א1'!E21=0,0,'כללי א1'!E21/'כללי א1'!$C$22) -> 0 | F44: =IF('כללי א1'!F21=0,0,'כללי א1'!F21/'כללי א1'!$C$22) -> 0 | G44: =IF('כללי א1'!G21=0,0,'כללי א1'!G21/'כללי א1'!$C$22) -> 0 | H44: =IF('כללי א1'!H21=0,0,'כללי א1'!H21/'כללי א1'!$C$22) -> 0 | I44: =IF('כללי א1'!I21=0,0,'כללי א1'!I21/'כללי א1'!$C$22) -> 0 | J44: =SUM(K44:P44) -> 0 | K44: =IF('כללי א1'!K21=0,0,'כללי א1'!K21/'כללי א1'!$C$22) -> 0 | L44: =IF('כללי א1'!L21=0,0,'כללי א1'!L21/'כללי א1'!$C$22) -> 0 | M44: =IF('כללי א1'!M21=0,0,'כללי א1'!M21/'כללי א1'!$C$22) -> 0 | N44: =IF('כללי א1'!N21=0,0,'כללי א1'!N21/'כללי א1'!$C$22) -> 0 | O44: =IF('כללי א1'!O21=0,0,'כללי א1'!O21/'כללי א1'!$C$22) -> 0 | P44: =IF('כללי א1'!P21=0,0,'כללי א1'!P21/'כללי א1'!$C$22) -> 0 | Q44: =SUM(R44:W44) -> 0 | R44: =IF('כללי א1'!R21=0,0,'כללי א1'!R21/'כללי א1'!$C$22) -> 0 | S44: =IF('כללי א1'!S21=0,0,'כללי א1'!S21/'כללי א1'!$C$22) -> 0 | T44: =IF('כללי א1'!T21=0,0,'כללי א1'!T21/'כללי א1'!$C$22) -> 0 | U44: =IF('כללי א1'!U21=0,0,'כללי א1'!U21/'כללי א1'!$C$22) -> 0 | V44: =IF('כללי א1'!V21=0,0,'כללי א1'!V21/'כללי א1'!$C$22) -> 0 | W44: =IF('כללי א1'!W21=0,0,'כללי א1'!W21/'כללי א1'!$C$22) -> 0 | X44: =SUM(Y44:AD44) -> 0 | Y44: =IF('כללי א1'!Y21=0,0,'כללי א1'!Y21/'כללי א1'!$C$22) -> 0 | Z44: =IF('כללי א1'!Z21=0,0,'כללי א1'!Z21/'כללי א1'!$C$22) -> 0 | AA44: =IF('כללי א1'!AA21=0,0,'כללי א1'!AA21/'כללי א1'!$C$22) -> 0 | AB44: =IF('כללי א1'!AB21=0,0,'כללי א1'!AB21/'כללי א1'!$C$22) -> 0 | AC44: =IF('כללי א1'!AC21=0,0,'כללי א1'!AC21/'כללי א1'!$C$22) -> 0 | AD44: =IF('כללי א1'!AD21=0,0,'כללי א1'!AD21/'כללי א1'!$C$22) -> 0 | AE44: =SUM(AF44:AK44) -> 0 | AF44: =IF('כללי א1'!AF21=0,0,'כללי א1'!AF21/'כללי א1'!$C$22) -> 0 | AG44: =IF('כללי א1'!AG21=0,0,'כללי א1'!AG21/'כללי א1'!$C$22) -> 0 | AH44: =IF('כללי א1'!AH21=0,0,'כללי א1'!AH21/'כללי א1'!$C$22) -> 0 | AI44: =IF('כללי א1'!AI21=0,0,'כללי א1'!AI21/'כללי א1'!$C$22) -> 0 | AJ44: =IF('כללי א1'!AJ21=0,0,'כללי א1'!AJ21/'כללי א1'!$C$22) -> 0 | AK44: =IF('כללי א1'!AK21=0,0,'כללי א1'!AK21/'כללי א1'!$C$22) -> 0
A45: 3 | B45: סה"כ (ב1+ב2) | C45: =SUM(C43:C44) -> 0 | D45: =SUM(D43:D44) -> 0 | E45: =SUM(E43:E44) -> 0 | F45: =SUM(F43:F44) -> 0 | G45: =SUM(G43:G44) -> 0 | H45: =SUM(H43:H44) -> 0 | I45: =SUM(I43:I44) -> 0 | J45: =SUM(J43:J44) -> 0 | ... AK45: =SUM(AK43:AK44) -> 0
A46: ג | B46: תביעות שנסגרו בבית משפט:
A47: 1 | B47: תביעות שאושרו | C47: =SUM(D47:I47) -> 0 | D47: =IF('כללי א1'!D24=0,0,'כללי א1'!D24/'כללי א1'!$C$28) -> 0 | E47: =IF('כללי א1'!E24=0,0,'כללי א1'!E24/'כללי א1'!$C$28) -> 0 | F47: =IF('כללי א1'!F24=0,0,'כללי א1'!F24/'כללי א1'!$C$28) -> 0 | G47: =IF('כללי א1'!G24=0,0,'כללי א1'!G24/'כללי א1'!$C$28) -> 0 | H47: =IF('כללי א1'!H24=0,0,'כללי א1'!H24/'כללי א1'!$C$28) -> 0 | I47: =IF('כללי א1'!I24=0,0,'כללי א1'!I24/'כללי א1'!$C$28) -> 0 | J47: =SUM(K47:P47) -> 0 | K47: =IF('כללי א1'!K24=0,0,'כללי א1'!K24/'כללי א1'!$C$28) -> 0 | L47: =IF('כללי א1'!L24=0,0,'כללי א1'!L24/'כללי א1'!$C$28) -> 0 | M47: =IF('כללי א1'!M24=0,0,'כללי א1'!M24/'כללי א1'!$C$28) -> 0 | N47: =IF('כללי א1'!N24=0,0,'כללי א1'!N24/'כללי א1'!$C$28) -> 0 | O47: =IF('כללי א1'!O24=0,0,'כללי א1'!O24/'כללי א1'!$C$28) -> 0 | P47: =IF('כללי א1'!P24=0,0,'כללי א1'!P24/'כללי א1'!$C$28) -> 0 | Q47: =SUM(R47:W47) -> 0 | R47: =IF('כללי א1'!R24=0,0,'כללי א1'!R24/'כללי א1'!$C$28) -> 0 | S47: =IF('כללי א1'!S24=0,0,'כללי א1'!S24/'כללי א1'!$C$28) -> 0 | T47: =IF('כללי א1'!T24=0,0,'כללי א1'!T24/'כללי א1'!$C$28) -> 0 | U47: =IF('כללי א1'!U24=0,0,'כללי א1'!U24/'כללי א1'!$C$28) -> 0 | V47: =IF('כללי א1'!V24=0,0,'כללי א1'!V24/'כללי א1'!$C$28) -> 0 | W47: =IF('כללי א1'!W24=0,0,'כללי א1'!W24/'כללי א1'!$C$28) -> 0 | X47: =SUM(Y47:AD47) -> 0 | Y47: =IF('כללי א1'!Y24=0,0,'כללי א1'!Y24/'כללי א1'!$C$28) -> 0 | Z47: =IF('כללי א1'!Z24=0,0,'כללי א1'!Z24/'כללי א1'!$C$28) -> 0 | AA47: =IF('כללי א1'!AA24=0,0,'כללי א1'!AA24/'כללי א1'!$C$28) -> 0 | AB47: =IF('כללי א1'!AB24=0,0,'כללי א1'!AB24/'כללי א1'!$C$28) -> 0 | AC47: =IF('כללי א1'!AC24=0,0,'כללי א1'!AC24/'כללי א1'!$C$28) -> 0 | AD47: =IF('כללי א1'!AD24=0,0,'כללי א1'!AD24/'כללי א1'!$C$28) -> 0 | AE47: =SUM(AF47:AK47) -> 0 | AF47: =IF('כללי א1'!AF24=0,0,'כללי א1'!AF24/'כללי א1'!$C$28) -> 0 | AG47: =IF('כללי א1'!AG24=0,0,'כללי א1'!AG24/'כללי א1'!$C$28) -> 0 | AH47: =IF('כללי א1'!AH24=0,0,'כללי א1'!AH24/'כללי א1'!$C$28) -> 0 | AI47: =IF('כללי א1'!AI24=0,0,'כללי א1'!AI24/'כללי א1'!$C$28) -> 0 | AJ47: =IF('כללי א1'!AJ24=0,0,'כללי א1'!AJ24/'כללי א1'!$C$28) -> 0 | AK47: =IF('כללי א1'!AK24=0,0,'כללי א1'!AK24/'כללי א1'!$C$28) -> 0
A48: 2 | B48: תביעות שנדחו | C48: =SUM(D48:I48) -> 0 | D48: =IF('כללי א1'!D25=0,0,'כללי א1'!D25/'כללי א1'!$C$28) -> 0 | E48: =IF('כללי א1'!E25=0,0,'כללי א1'!E25/'כללי א1'!$C$28) -> 0 | F48: =IF('כללי א1'!F25=0,0,'כללי א1'!F25/'כללי א1'!$C$28) -> 0 | G48: =IF('כללי א1'!G25=0,0,'כללי א1'!G25/'כללי א1'!$C$28) -> 0 | H48: =IF('כללי א1'!H25=0,0,'כללי א1'!H25/'כללי א1'!$C$28) -> 0 | I48: =IF('כללי א1'!I25=0,0,'כללי א1'!I25/'כללי א1'!$C$28) -> 0 | J48: =SUM(K48:P48) -> 0 | K48: =IF('כללי א1'!K25=0,0,'כללי א1'!K25/'כללי א1'!$C$28) -> 0 | L48: =IF('כללי א1'!L25=0,0,'כללי א1'!L25/'כללי א1'!$C$28) -> 0 | M48: =IF('כללי א1'!M25=0,0,'כללי א1'!M25/'כללי א1'!$C$28) -> 0 | N48: =IF('כללי א1'!N25=0,0,'כללי א1'!N25/'כללי א1'!$C$28) -> 0 | O48: =IF('כללי א1'!O25=0,0,'כללי א1'!O25/'כללי א1'!$C$28) -> 0 | P48: =IF('כללי א1'!P25=0,0,'כללי א1'!P25/'כללי א1'!$C$28) -> 0 | Q48: =SUM(R48:W48) -> 0 | R48: =IF('כללי א1'!R25=0,0,'כללי א1'!R25/'כללי א1'!$C$28) -> 0 | S48: =IF('כללי א1'!S25=0,0,'כללי א1'!S25/'כללי א1'!$C$28) -> 0 | T48: =IF('כללי א1'!T25=0,0,'כללי א1'!T25/'כללי א1'!$C$28) -> 0 | U48: =IF('כללי א1'!U25=0,0,'כללי א1'!U25/'כללי א1'!$C$28) -> 0 | V48: =IF('כללי א1'!V25=0,0,'כללי א1'!V25/'כללי א1'!$C$28) -> 0 | W48: =IF('כללי א1'!W25=0,0,'כללי א1'!W25/'כללי א1'!$C$28) -> 0 | X48: =SUM(Y48:AD48) -> 0 | Y48: =IF('כללי א1'!Y25=0,0,'כללי א1'!Y25/'כללי א1'!$C$28) -> 0 | Z48: =IF('כללי א1'!Z25=0,0,'כללי א1'!Z25/'כללי א1'!$C$28) -> 0 | AA48: =IF('כללי א1'!AA25=0,0,'כללי א1'!AA25/'כללי א1'!$C$28) -> 0 | AB48: =IF('כללי א1'!AB25=0,0,'כללי א1'!AB25/'כללי א1'!$C$28) -> 0 | AC48: =IF('כללי א1'!AC25=0,0,'כללי א1'!AC25/'כללי א1'!$C$28) -> 0 | AD48: =IF('כללי א1'!AD25=0,0,'כללי א1'!AD25/'כללי א1'!$C$28) -> 0 | AE48: =SUM(AF48:AK48) -> 0 | AF48: =IF('כללי א1'!AF25=0,0,'כללי א1'!AF25/'כללי א1'!$C$28) -> 0 | AG48: =IF('כללי א1'!AG25=0,0,'כללי א1'!AG25/'כללי א1'!$C$28) -> 0 | AH48: =IF('כללי א1'!AH25=0,0,'כללי א1'!AH25/'כללי א1'!$C$28) -> 0 | AI48: =IF('כללי א1'!AI25=0,0,'כללי א1'!AI25/'כללי א1'!$C$28) -> 0 | AJ48: =IF('כללי א1'!AJ25=0,0,'כללי א1'!AJ25/'כללי א1'!$C$28) -> 0 | AK48: =IF('כללי א1'!AK25=0,0,'כללי א1'!AK25/'כללי א1'!$C$28) -> 0
A49: 3 | B49: פשרה | C49: =SUM(D49:I49) -> 0 | D49: =IF('כללי א1'!D26=0,0,'כללי א1'!D26/'כללי א1'!$C$28) -> 0 | E49: =IF('כללי א1'!E26=0,0,'כללי א1'!E26/'כללי א1'!$C$28) -> 0 | F49: =IF('כללי א1'!F26=0,0,'כללי א1'!F26/'כללי א1'!$C$28) -> 0 | G49: =IF('כללי א1'!G26=0,0,'כללי א1'!G26/'כללי א1'!$C$28) -> 0 | H49: =IF('כללי א1'!H26=0,0,'כללי א1'!H26/'כללי א1'!$C$28) -> 0 | I49: =IF('כללי א1'!I26=0,0,'כללי א1'!I26/'כללי א1'!$C$28) -> 0 | J49: =SUM(K49:P49) -> 0 | K49: =IF('כללי א1'!K26=0,0,'כללי א1'!K26/'כללי א1'!$C$28) -> 0 | L49: =IF('כללי א1'!L26=0,0,'כללי א1'!L26/'כללי א1'!$C$28) -> 0 | M49: =IF('כללי א1'!M26=0,0,'כללי א1'!M26/'כללי א1'!$C$28) -> 0 | N49: =IF('כללי א1'!N26=0,0,'כללי א1'!N26/'כללי א1'!$C$28) -> 0 | O49: =IF('כללי א1'!O26=0,0,'כללי א1'!O26/'כללי א1'!$C$28) -> 0 | P49: =IF('כללי א1'!P26=0,0,'כללי א1'!P26/'כללי א1'!$C$28) -> 0 | Q49: =SUM(R49:W49) -> 0 | R49: =IF('כללי א1'!R26=0,0,'כללי א1'!R26/'כללי א1'!$C$28) -> 0 | S49: =IF('כללי א1'!S26=0,0,'כללי א1'!S26/'כללי א1'!$C$28) -> 0 | T49: =IF('כללי א1'!T26=0,0,'כללי א1'!T26/'כללי א1'!$C$28) -> 0 | U49: =IF('כללי א1'!U26=0,0,'כללי א1'!U26/'כללי א1'!$C$28) -> 0 | V49: =IF('כללי א1'!V26=0,0,'כללי א1'!V26/'כללי א1'!$C$28) -> 0 | W49: =IF('כללי א1'!W26=0,0,'כללי א1'!W26/'כללי א1'!$C$28) -> 0 | X49: =SUM(Y49:AD49) -> 0 | Y49: =IF('כללי א1'!Y26=0,0,'כללי א1'!Y26/'כללי א1'!$C$28) -> 0 | Z49: =IF('כללי א1'!Z26=0,0,'כללי א1'!Z26/'כללי א1'!$C$28) -> 0 | AA49: =IF('כללי א1'!AA26=0,0,'כללי א1'!AA26/'כללי א1'!$C$28) -> 0 | AB49: =IF('כללי א1'!AB26=0,0,'כללי א1'!AB26/'כללי א1'!$C$28) -> 0 | AC49: =IF('כללי א1'!AC26=0,0,'כללי א1'!AC26/'כללי א1'!$C$28) -> 0 | AD49: =IF('כללי א1'!AD26=0,0,'כללי א1'!AD26/'כללי א1'!$C$28) -> 0 | AE49: =SUM(AF49:AK49) -> 0 | AF49: =IF('כללי א1'!AF26=0,0,'כללי א1'!AF26/'כללי א1'!$C$28) -> 0 | AG49: =IF('כללי א1'!AG26=0,0,'כללי א1'!AG26/'כללי א1'!$C$28) -> 0 | AH49: =IF('כללי א1'!AH26=0,0,'כללי א1'!AH26/'כללי א1'!$C$28) -> 0 | AI49: =IF('כללי א1'!AI26=0,0,'כללי א1'!AI26/'כללי א1'!$C$28) -> 0 | AJ49: =IF('כללי א1'!AJ26=0,0,'כללי א1'!AJ26/'כללי א1'!$C$28) -> 0 | AK49: =IF('כללי א1'!AK26=0,0,'כללי א1'!AK26/'כללי א1'!$C$28) -> 0
A50: 4 | B50: אחר | C50: =SUM(D50:I50) -> 0 | D50: =IF('כללי א1'!D27=0,0,'כללי א1'!D27/'כללי א1'!$C$28) -> 0 | E50: =IF('כללי א1'!E27=0,0,'כללי א1'!E27/'כללי א1'!$C$28) -> 0 | F50: =IF('כללי א1'!F27=0,0,'כללי א1'!F27/'כללי א1'!$C$28) -> 0 | G50: =IF('כללי א1'!G27=0,0,'כללי א1'!G27/'כללי א1'!$C$28) -> 0 | H50: =IF('כללי א1'!H27=0,0,'כללי א1'!H27/'כללי א1'!$C$28) -> 0 | I50: =IF('כללי א1'!I27=0,0,'כללי א1'!I27/'כללי א1'!$C$28) -> 0 | J50: =SUM(K50:P50) -> 0 | K50: =IF('כללי א1'!K27=0,0,'כללי א1'!K27/'כללי א1'!$C$28) -> 0 | L50: =IF('כללי א1'!L27=0,0,'כללי א1'!L27/'כללי א1'!$C$28) -> 0 | M50: =IF('כללי א1'!M27=0,0,'כללי א1'!M27/'כללי א1'!$C$28) -> 0 | N50: =IF('כללי א1'!N27=0,0,'כללי א1'!N27/'כללי א1'!$C$28) -> 0 | O50: =IF('כללי א1'!O27=0,0,'כללי א1'!O27/'כללי א1'!$C$28) -> 0 | P50: =IF('כללי א1'!P27=0,0,'כללי א1'!P27/'כללי א1'!$C$28) -> 0 | Q50: =SUM(R50:W50) -> 0 | R50: =IF('כללי א1'!R27=0,0,'כללי א1'!R27/'כללי א1'!$C$28) -> 0 | S50: =IF('כללי א1'!S27=0,0,'כללי א1'!S27/'כללי א1'!$C$28) -> 0 | T50: =IF('כללי א1'!T27=0,0,'כללי א1'!T27/'כללי א1'!$C$28) -> 0 | U50: =IF('כללי א1'!U27=0,0,'כללי א1'!U27/'כללי א1'!$C$28) -> 0 | V50: =IF('כללי א1'!V27=0,0,'כללי א1'!V27/'כללי א1'!$C$28) -> 0 | W50: =IF('כללי א1'!W27=0,0,'כללי א1'!W27/'כללי א1'!$C$28) -> 0 | X50: =SUM(Y50:AD50) -> 0 | Y50: =IF('כללי א1'!Y27=0,0,'כללי א1'!Y27/'כללי א1'!$C$28) -> 0 | Z50: =IF('כללי א1'!Z27=0,0,'כללי א1'!Z27/'כללי א1'!$C$28) -> 0 | AA50: =IF('כללי א1'!AA27=0,0,'כללי א1'!AA27/'כללי א1'!$C$28) -> 0 | AB50: =IF('כללי א1'!AB27=0,0,'כללי א1'!AB27/'כללי א1'!$C$28) -> 0 | AC50: =IF('כללי א1'!AC27=0,0,'כללי א1'!AC27/'כללי א1'!$C$28) -> 0 | AD50: =IF('כללי א1'!AD27=0,0,'כללי א1'!AD27/'כללי א1'!$C$28) -> 0 | AE50: =SUM(AF50:AK50) -> 0 | AF50: =IF('כללי א1'!AF27=0,0,'כללי א1'!AF27/'כללי א1'!$C$28) -> 0 | AG50: =IF('כללי א1'!AG27=0,0,'כללי א1'!AG27/'כללי א1'!$C$28) -> 0 | AH50: =IF('כללי א1'!AH27=0,0,'כללי א1'!AH27/'כללי א1'!$C$28) -> 0 | AI50: =IF('כללי א1'!AI27=0,0,'כללי א1'!AI27/'כללי א1'!$C$28) -> 0 | AJ50: =IF('כללי א1'!AJ27=0,0,'כללי א1'!AJ27/'כללי א1'!$C$28) -> 0 | AK50: =IF('כללי א1'!AK27=0,0,'כללי א1'!AK27/'כללי א1'!$C$28) -> 0
A51: 5 | B51: סה"כ (ג1+ג2+ג3+ג4) | C51: =SUM(C47:C50) -> 0 | D51: =SUM(D47:D50) -> 0 | E51: =SUM(E47:E50) -> 0 | F51: =SUM(F47:F50) -> 0 | G51: =SUM(G47:G50) -> 0 | H51: =SUM(H47:H50) -> 0 | I51: =SUM(I47:I50) -> 0 | J51: =SUM(J47:J50) -> 0 | ... AK51: =SUM(AK47:AK50) -> 0

Sheet כללי ג1
B1: =הוראות!B27 -> נספח ב1 מדדי תביעות בביטוח כללי
B2: =הוראות!B13 -> ק.ה.ר הקרן השתלמות לרוקחים בע"מ
B3: =CONCATENATE(הוראות!Z13,הוראות!F13) -> הנתונים ביחידות בודדות לשנת 2020
B4: חזרה
B6: מדדי התביעות (באחוזים) | E6: רכב חובה | L6: רכב רכוש | Z6: דירות
L7: נזק עצמי | S7: צד שלישי | Z7: נזק למבנה | AG7: נזק לתכולה
E8: סה"כ | F8: עד 60 יום | G8: 61 -120 יום | H8: 121 -360 יום | I8: 361 - 730 יום | J8: 731 - 1276 יום | K8: מעל 1277 יום | L8: סה"כ | M8: עד 14 יום | N8: 15-30 יום | O8: 31-60 יום | P8: 61-120 יום | Q8: 121-180 יום | R8: 181 יום ומעלה | S8: סה"כ | T8: עד 14 יום | U8: 15-30 יום | V8: 31-60 יום | W8: 61-120 יום | X8: 121-180 יום | Y8: 181 יום ומעלה | Z8: סה"כ | AA8: עד 14 יום | AB8: 15-30 יום | AC8: 31-60 יום | AD8: 61-120 יום | AE8: 121-180 יום | AF8: 181 יום ומעלה | AG8: סה"כ | AH8: עד 14 יום | AI8: 15-30 יום | AJ8: 31-60 יום | AK8: 61-120 יום | AL8: 121-180 יום | AM8: 181 יום ומעלה
E9: (1) | F9: (2) | G9: (3) | H9: (4) | I9: (5) | J9: (6) | K9: (7) | L9: (8) | M9: (9) | N9: (10) | O9: (11) | P9: (12) | Q9: (13) | R9: (14) | S9: (15) | T9: (16) | U9: (17) | V9: (18) | W9: (19) | X9: (20) | Y9: (21) | Z9: (22) | AA9: (23) | AB9: (24) | AC9: (25) | AD9: (26) | AE9: (27) | AF9: (28) | AG9: (29) | AH9: (30) | AI9: (31) | AJ9: (32) | AK9: (33) | AL9: (34) | AM9: (35)
A10: א | B10: תביעות:
A11: 3 | B11: תביעות ששולמו | E11: =SUM(F11:K11) -> 0 | F11: =IF('כללי א1'!D12=0,0,'כללי א1'!D12/'כללי א1'!$C$17) -> 0 | G11: =IF('כללי א1'!E12=0,0,'כללי א1'!E12/'כללי א1'!$C$17) -> 0 | H11: =IF('כללי א1'!F12=0,0,'כללי א1'!F12/'כללי א1'!$C$17) -> 0 | I11: =IF('כללי א1'!G12=0,0,'כללי א1'!G12/'כללי א1'!$C$17) -> 0 | J11: =IF('כללי א1'!H12=0,0,'כללי א1'!H12/'כללי א1'!$C$17) -> 0 | K11: =IF('כללי א1'!I12=0,0,'כללי א1'!I12/'כללי א1'!$C$17) -> 0 | L11: =SUM(M11:R11) -> 0 | M11: =IF('כללי א1'!K12=0,0,'כללי א1'!K12/'כללי א1'!$J$17) -> 0 | N11: =IF('כללי א1'!L12=0,0,'כללי א1'!L12/'כללי א1'!$J$17) -> 0 | O11: =IF('כללי א1'!M12=0,0,'כללי א1'!M12/'כללי א1'!$J$17) -> 0 | P11: =IF('כללי א1'!N12=0,0,'כללי א1'!N12/'כללי א1'!$J$17) -> 0 | Q11: =IF('כללי א1'!O12=0,0,'כללי א1'!O12/'כללי א1'!$J$17) -> 0 | R11: =IF('כללי א1'!P12=0,0,'כללי א1'!P12/'כללי א1'!$J$17) -> 0 | S11: =SUM(T11:Y11) -> 0 | T11: =IF('כללי א1'!R12=0,0,'כללי א1'!R12/'כללי א1'!$Q$17) -> 0 | U11: =IF('כללי א1'!S12=0,0,'כללי א1'!S12/'כללי א1'!$Q$17) -> 0 | V11: =IF('כללי א1'!T12=0,0,'כללי א1'!T12/'כללי א1'!$Q$17) -> 0 | W11: =IF('כללי א1'!U12=0,0,'כללי א1'!U12/'כללי א1'!$Q$17) -> 0 | X11: =IF('כללי א1'!V12=0,0,'כללי א1'!V12/'כללי א1'!$Q$17) -> 0 | Y11: =IF('כללי א1'!W12=0,0,'כללי א1'!W12/'כללי א1'!$Q$17) -> 0 | Z11: =SUM(AA11:AF11) -> 0 | AA11: =IF('כללי א1'!Y12=0,0,'כללי א1'!Y12/'כללי א1'!$X$17) -> 0 | AB11: =IF('כללי א1'!Z12=0,0,'כללי א1'!Z12/'כללי א1'!$X$17) -> 0 | AC11: =IF('כללי א1'!AA12=0,0,'כללי א1'!AA12/'כללי א1'!$X$17) -> 0 | AD11: =IF('כללי א1'!AB12=0,0,'כללי א1'!AB12/'כללי א1'!$X$17) -> 0 | AE11: =IF('כללי א1'!AC12=0,0,'כללי א1'!AC12/'כללי א1'!$X$17) -> 0 | AF11: =IF('כללי א1'!AD12=0,0,'כללי א1'!AD12/'כללי א1'!$X$17) -> 0 | AG11: =SUM(AH11:AM11) -> 0 | AH11: =IF('כללי א1'!AF12=0,0,'כללי א1'!AF12/'כללי א1'!$AE$17) -> 0 | AI11: =IF('כללי א1'!AG12=0,0,'כללי א1'!AG12/'כללי א1'!$AE$17) -> 0 | AJ11: =IF('כללי א1'!AH12=0,0,'כללי א1'!AH12/'כללי א1'!$AE$17) -> 0 | AK11: =IF('כללי א1'!AI12=0,0,'כללי א1'!AI12/'כללי א1'!$AE$17) -> 0 | AL11: =IF('כללי א1'!AJ12=0,0,'כללי א1'!AJ12/'כללי א1'!$AE$17) -> 0 | AM11: =IF('כללי א1'!AK12=0,0,'כללי א1'!AK12/'כללי א1'!$AE$17) -> 0
A12: 3א | B12: תביעות ששולמו חלקית | E12: =SUM(F12:K12) -> 0 | F12: =IF('כללי א1'!D13=0,0,'כללי א1'!D13/'כללי א1'!$C$17) -> 0 | G12: =IF('כללי א1'!E13=0,0,'כללי א1'!E13/'כללי א1'!$C$17) -> 0 | H12: =IF('כללי א1'!F13=0,0,'כללי א1'!F13/'כללי א1'!$C$17) -> 0 | I12: =IF('כללי א1'!G13=0,0,'כללי א1'!G13/'כללי א1'!$C$17) -> 0 | J12: =IF('כללי א1'!H13=0,0,'כללי א1'!H13/'כללי א1'!$C$17) -> 0 | K12: =IF('כללי א1'!I13=0,0,'כללי א1'!I13/'כללי א1'!$C$17) -> 0 | L12: =SUM(M12:R12) -> 0 | M12: =IF('כללי א1'!K13=0,0,'כללי א1'!K13/'כללי א1'!$J$17) -> 0 | N12: =IF('כללי א1'!L13=0,0,'כללי א1'!L13/'כללי א1'!$J$17) -> 0 | O12: =IF('כללי א1'!M13=0,0,'כללי א1'!M13/'כללי א1'!$J$17) -> 0 | P12: =IF('כללי א1'!N13=0,0,'כללי א1'!N13/'כללי א1'!$J$17) -> 0 | Q12: =IF('כללי א1'!O13=0,0,'כללי א1'!O13/'כללי א1'!$J$17) -> 0 | R12: =IF('כללי א1'!P13=0,0,'כללי א1'!P13/'כללי א1'!$J$17) -> 0 | S12: =SUM(T12:Y12) -> 0 | T12: =IF('כללי א1'!R13=0,0,'כללי א1'!R13/'כללי א1'!$C$17) -> 0 | U12: =IF('כללי א1'!S13=0,0,'כללי א1'!S13/'כללי א1'!$C$17) -> 0 | V12: =IF('כללי א1'!T13=0,0,'כללי א1'!T13/'כללי א1'!$C$17) -> 0 | W12: =IF('כללי א1'!U13=0,0,'כללי א1'!U13/'כללי א1'!$C$17) -> 0 | X12: =IF('כללי א1'!V13=0,0,'כללי א1'!V13/'כללי א1'!$C$17) -> 0 | Y12: =IF('כללי א1'!W13=0,0,'כללי א1'!W13/'כללי א1'!$C$17) -> 0 | Z12: =SUM(AA12:AF12) -> 0 | AA12: =IF('כללי א1'!Y13=0,0,'כללי א1'!Y13/'כללי א1'!$C$17) -> 0 | AB12: =IF('כללי א1'!Z13=0,0,'כללי א1'!Z13/'כללי א1'!$C$17) -> 0 | AC12: =IF('כללי א1'!AA13=0,0,'כללי א1'!AA13/'כללי א1'!$C$17) -> 0 | AD12: =IF('כללי א1'!AB13=0,0,'כללי א1'!AB13/'כללי א1'!$C$17) -> 0 | AE12: =IF('כללי א1'!AC13=0,0,'כללי א1'!AC13/'כללי א1'!$C$17) -> 0 | AF12: =IF('כללי א1'!AD13=0,0,'כללי א1'!AD13/'כללי א1'!$C$17) -> 0 | AG12: =SUM(AH12:AM12) -> 0 | AH12: =IF('כללי א1'!AF13=0,0,'כללי א1'!AF13/'כללי א1'!$C$17) -> 0 | AI12: =IF('כללי א1'!AG13=0,0,'כללי א1'!AG13/'כללי א1'!$C$17) -> 0 | AJ12: =IF('כללי א1'!AH13=0,0,'כללי א1'!AH13/'כללי א1'!$C$17) -> 0 | AK12: =IF('כללי א1'!AI13=0,0,'כללי א1'!AI13/'כללי א1'!$C$17) -> 0 | AL12: =IF('כללי א1'!AJ13=0,0,'כללי א1'!AJ13/'כללי א1'!$C$17) -> 0 | AM12: =IF('כללי א1'!AK13=0,0,'כללי א1'!AK13/'כללי א1'!$C$17) -> 0
A13: 4 | B13: תביעות שנדחו | E13: =SUM(F13:K13) -> 0 | F13: =IF('כללי א1'!D14=0,0,'כללי א1'!D14/'כללי א1'!$C$17) -> 0 | G13: =IF('כללי א1'!E14=0,0,'כללי א1'!E14/'כללי א1'!$C$17) -> 0 | H13: =IF('כללי א1'!F14=0,0,'כללי א1'!F14/'כללי א1'!$C$17) -> 0 | I13: =IF('כללי א1'!G14=0,0,'כללי א1'!G14/'כללי א1'!$C$17) -> 0 | J13: =IF('כללי א1'!H14=0,0,'כללי א1'!H14/'כללי א1'!$C$17) -> 0 | K13: =IF('כללי א1'!I14=0,0,'כללי א1'!I14/'כללי א1'!$C$17) -> 0 | L13: =SUM(M13:R13) -> 0 | M13: =IF('כללי א1'!K14=0,0,'כללי א1'!K14/'כללי א1'!$J$17) -> 0 | N13: =IF('כללי א1'!L14=0,0,'כללי א1'!L14/'כללי א1'!$J$17) -> 0 | O13: =IF('כללי א1'!M14=0,0,'כללי א1'!M14/'כללי א1'!$J$17) -> 0 | P13: =IF('כללי א1'!N14=0,0,'כללי א1'!N14/'כללי א1'!$J$17) -> 0 | Q13: =IF('כללי א1'!O14=0,0,'כללי א1'!O14/'כללי א1'!$J$17) -> 0 | R13: =IF('כללי א1'!P14=0,0,'כללי א1'!P14/'כללי א1'!$J$17) -> 0 | S13: =SUM(T13:Y13) -> 0 | T13: =IF('כללי א1'!R14=0,0,'כללי א1'!R14/'כללי א1'!$C$17) -> 0 | U13: =IF('כללי א1'!S14=0,0,'כללי א1'!S14/'כללי א1'!$C$17) -> 0 | V13: =IF('כללי א1'!T14=0,0,'כללי א1'!T14/'כללי א1'!$C$17) -> 0 | W13: =IF('כללי א1'!U14=0,0,'כללי א1'!U14/'כללי א1'!$C$17) -> 0 | X13: =IF('כללי א1'!V14=0,0,'כללי א1'!V14/'כללי א1'!$C$17) -> 0 | Y13: =IF('כללי א1'!W14=0,0,'כללי א1'!W14/'כללי א1'!$C$17) -> 0 | Z13: =SUM(AA13:AF13) -> 0 | AA13: =IF('כללי א1'!Y14=0,0,'כללי א1'!Y14/'כללי א1'!$C$17) -> 0 | AB13: =IF('כללי א1'!Z14=0,0,'כללי א1'!Z14/'כללי א1'!$C$17) -> 0 | AC13: =IF('כללי א1'!AA14=0,0,'כללי א1'!AA14/'כללי א1'!$C$17) -> 0 | AD13: =IF('כללי א1'!AB14=0,0,'כללי א1'!AB14/'כללי א1'!$C$17) -> 0 | AE13: =IF('כללי א1'!AC14=0,0,'כללי א1'!AC14/'כללי א1'!$C$17) -> 0 | AF13: =IF('כללי א1'!AD14=0,0,'כללי א1'!AD14/'כללי א1'!$C$17) -> 0 | AG13: =SUM(AH13:AM13) -> 0 | AH13: =IF('כללי א1'!AF14=0,0,'כללי א1'!AF14/'כללי א1'!$C$17) -> 0 | AI13: =IF('כללי א1'!AG14=0,0,'כללי א1'!AG14/'כללי א1'!$C$17) -> 0 | AJ13: =IF('כללי א1'!AH14=0,0,'כללי א1'!AH14/'כללי א1'!$C$17) -> 0 | AK13: =IF('כללי א1'!AI14=0,0,'כללי א1'!AI14/'כללי א1'!$C$17) -> 0 | AL13: =IF('כללי א1'!AJ14=0,0,'כללי א1'!AJ14/'כללי א1'!$C$17) -> 0 | AM13: =IF('כללי א1'!AK14=0,0,'כללי א1'!AK14/'כללי א1'!$C$17) -> 0
A14: 5 | B14: תביעות שנסגרו בפשרה | E14: =SUM(F14:K14) -> 0 | F14: =IF('כללי א1'!D15=0,0,'כללי א1'!D15/'כללי א1'!$C$17) -> 0 | G14: =IF('כללי א1'!E15=0,0,'כללי א1'!E15/'כללי א1'!$C$17) -> 0 | H14: =IF('כללי א1'!F15=0,0,'כללי א1'!F15/'כללי א1'!$C$17) -> 0 | I14: =IF('כללי א1'!G15=0,0,'כללי א1'!G15/'כללי א1'!$C$17) -> 0 | J14: =IF('כללי א1'!H15=0,0,'כללי א1'!H15/'כללי א1'!$C$17) -> 0 | K14: =IF('כללי א1'!I15=0,0,'כללי א1'!I15/'כללי א1'!$C$17) -> 0 | L14: =SUM(M14:R14) -> 0 | M14: =IF('כללי א1'!K15=0,0,'כללי א1'!K15/'כללי א1'!$J$17) -> 0 | N14: =IF('כללי א1'!L15=0,0,'כללי א1'!L15/'כללי א1'!$J$17) -> 0 | O14: =IF('כללי א1'!M15=0,0,'כללי א1'!M15/'כללי א1'!$J$17) -> 0 | P14: =IF('כללי א1'!N15=0,0,'כללי א1'!N15/'כללי א1'!$J$17) -> 0 | Q14: =IF('כללי א1'!O15=0,0,'כללי א1'!O15/'כללי א1'!$J$17) -> 0 | R14: =IF('כללי א1'!P15=0,0,'כללי א1'!P15/'כללי א1'!$J$17) -> 0 | S14: =SUM(T14:Y14) -> 0 | T14: =IF('כללי א1'!R15=0,0,'כללי א1'!R15/'כללי א1'!$C$17) -> 0 | U14: =IF('כללי א1'!S15=0,0,'כללי א1'!S15/'כללי א1'!$C$17) -> 0 | V14: =IF('כללי א1'!T15=0,0,'כללי א1'!T15/'כללי א1'!$C$17) -> 0 | W14: =IF('כללי א1'!U15=0,0,'כללי א1'!U15/'כללי א1'!$C$17) -> 0 | X14: =IF('כללי א1'!V15=0,0,'כללי א1'!V15/'כללי א1'!$C$17) -> 0 | Y14: =IF('כללי א1'!W15=0,0,'כללי א1'!W15/'כללי א1'!$C$17) -> 0 | Z14: =SUM(AA14:AF14) -> 0 | AA14: =IF('כללי א1'!Y15=0,0,'כללי א1'!Y15/'כללי א1'!$C$17) -> 0 | AB14: =IF('כללי א1'!Z15=0,0,'כללי א1'!Z15/'כללי א1'!$C$17) -> 0 | AC14: =IF('כללי א1'!AA15=0,0,'כללי א1'!AA15/'כללי א1'!$C$17) -> 0 | AD14: =IF('כללי א1'!AB15=0,0,'כללי א1'!AB15/'כללי א1'!$C$17) -> 0 | AE14: =IF('כללי א1'!AC15=0,0,'כללי א1'!AC15/'כללי א1'!$C$17) -> 0 | AF14: =IF('כללי א1'!AD15=0,0,'כללי א1'!AD15/'כללי א1'!$C$17) -> 0 | AG14: =SUM(AH14:AM14) -> 0 | AH14: =IF('כללי א1'!AF15=0,0,'כללי א1'!AF15/'כללי א1'!$C$17) -> 0 | AI14: =IF('כללי א1'!AG15=0,0,'כללי א1'!AG15/'כללי א1'!$C$17) -> 0 | AJ14: =IF('כללי א1'!AH15=0,0,'כללי א1'!AH15/'כללי א1'!$C$17) -> 0 | AK14: =IF('כללי א1'!AI15=0,0,'כללי א1'!AI15/'כללי א1'!$C$17) -> 0 | AL14: =IF('כללי א1'!AJ15=0,0,'כללי א1'!AJ15/'כללי א1'!$C$17) -> 0 | AM14: =IF('כללי א1'!AK15=0,0,'כללי א1'!AK15/'כללי א1'!$C$17) -> 0
A15: 6 | B15: תביעות שבוטלו | E15: =SUM(F15:K15) -> 0 | F15: =IF('כללי א1'!D16=0,0,'כללי א1'!D16/'כללי א1'!$C$17) -> 0 | G15: =IF('כללי א1'!E16=0,0,'כללי א1'!E16/'כללי א1'!$C$17) -> 0 | H15: =IF('כללי א1'!F16=0,0,'כללי א1'!F16/'כללי א1'!$C$17) -> 0 | I15: =IF('כללי א1'!G16=0,0,'כללי א1'!G16/'כללי א1'!$C$17) -> 0 | J15: =IF('כללי א1'!H16=0,0,'כללי א1'!H16/'כללי א1'!$C$17) -> 0 | K15: =IF('כללי א1'!I16=0,0,'כללי א1'!I16/'כללי א1'!$C$17) -> 0 | L15: =SUM(M15:R15) -> 0 | M15: =IF('כללי א1'!K16=0,0,'כללי א1'!K16/'כללי א1'!$J$17) -> 0 | N15: =IF('כללי א1'!L16=0,0,'כללי א1'!L16/'כללי א1'!$J$17) -> 0 | O15: =IF('כללי א1'!M16=0,0,'כללי א1'!M16/'כללי א1'!$J$17) -> 0 | P15: =IF('כללי א1'!N16=0,0,'כללי א1'!N16/'כללי א1'!$J$17) -> 0 | Q15: =IF('כללי א1'!O16=0,0,'כללי א1'!O16/'כללי א1'!$J$17) -> 0 | R15: =IF('כללי א1'!P16=0,0,'כללי א1'!P16/'כללי א1'!$J$17) -> 0 | S15: =SUM(T15:Y15) -> 0 | T15: =IF('כללי א1'!R16=0,0,'כללי א1'!R16/'כללי א1'!$C$17) -> 0 | U15: =IF('כללי א1'!S16=0,0,'כללי א1'!S16/'כללי א1'!$C$17) -> 0 | V15: =IF('כללי א1'!T16=0,0,'כללי א1'!T16/'כללי א1'!$C$17) -> 0 | W15: =IF('כללי א1'!U16=0,0,'כללי א1'!U16/'כללי א1'!$C$17) -> 0 | X15: =IF('כללי א1'!V16=0,0,'כללי א1'!V16/'כללי א1'!$C$17) -> 0 | Y15: =IF('כללי א1'!W16=0,0,'כללי א1'!W16/'כללי א1'!$C$17) -> 0 | Z15: =SUM(AA15:AF15) -> 0 | AA15: =IF('כללי א1'!Y16=0,0,'כללי א1'!Y16/'כללי א1'!$C$17) -> 0 | AB15: =IF('כללי א1'!Z16=0,0,'כללי א1'!Z16/'כללי א1'!$C$17) -> 0 | AC15: =IF('כללי א1'!AA16=0,0,'כללי א1'!AA16/'כללי א1'!$C$17) -> 0 | AD15: =IF('כללי א1'!AB16=0,0,'כללי א1'!AB16/'כללי א1'!$C$17) -> 0 | AE15: =IF('כללי א1'!AC16=0,0,'כללי א1'!AC16/'כללי א1'!$C$17) -> 0 | AF15: =IF('כללי א1'!AD16=0,0,'כללי א1'!AD16/'כללי א1'!$C$17) -> 0 | AG15: =SUM(AH15:AM15) -> 0 | AH15: =IF('כללי א1'!AF16=0,0,'כללי א1'!AF16/'כללי א1'!$C$17) -> 0 | AI15: =IF('כללי א1'!AG16=0,0,'כללי א1'!AG16/'כללי א1'!$C$17) -> 0 | AJ15: =IF('כללי א1'!AH16=0,0,'כללי א1'!AH16/'כללי א1'!$C$17) -> 0 | AK15: =IF('כללי א1'!AI16=0,0,'כללי א1'!AI16/'כללי א1'!$C$17) -> 0 | AL15: =IF('כללי א1'!AJ16=0,0,'כללי א1'!AJ16/'כללי א1'!$C$17) -> 0 | AM15: =IF('כללי א1'!AK16=0,0,'כללי א1'!AK16/'כללי א1'!$C$17) -> 0
A16: 7 | B16: תביעות שנסגרו (א3+א3א+א4+א5+א6) | E16: =SUM(E11:E15) -> 0 | F16: =SUM(F11:F15) -> 0 | G16: =SUM(G11:G15) -> 0 | H16: =SUM(H11:H15) -> 0 | I16: =SUM(I11:I15) -> 0 | J16: =SUM(J11:J15) -> 0 | K16: =SUM(K11:K15) -> 0 | L16: =SUM(L11:L15) -> 0 | ... AM16: =SUM(AM11:AM15) -> 0
A17: ב | B17: תביעות שנסגרו בבוררות:
A18: 1 | B18: תביעות שאושרו | E18: =SUM(F18:K18) -> 0 | F18: =IF('כללי א1'!D20=0,0,'כללי א1'!D20/'כללי א1'!$C$22) -> 0 | G18: =IF('כללי א1'!E20=0,0,'כללי א1'!E20/'כללי א1'!$C$22) -> 0 | H18: =IF('כללי א1'!F20=0,0,'כללי א1'!F20/'כללי א1'!$C$22) -> 0 | I18: =IF('כללי א1'!G20=0,0,'כללי א1'!G20/'כללי א1'!$C$22) -> 0 | J18: =IF('כללי א1'!H20=0,0,'כללי א1'!H20/'כללי א1'!$C$22) -> 0 | K18: =IF('כללי א1'!I20=0,0,'כללי א1'!I20/'כללי א1'!$C$22) -> 0 | L18: =SUM(M18:R18) -> 0 | M18: =IF('כללי א1'!K20=0,0,'כללי א1'!K20/'כללי א1'!$J$22) -> 0 | N18: =IF('כללי א1'!L20=0,0,'כללי א1'!L20/'כללי א1'!$J$22) -> 0 | O18: =IF('כללי א1'!M20=0,0,'כללי א1'!M20/'כללי א1'!$J$22) -> 0 | P18: =IF('כללי א1'!N20=0,0,'כללי א1'!N20/'כללי א1'!$J$22) -> 0 | Q18: =IF('כללי א1'!O20=0,0,'כללי א1'!O20/'כללי א1'!$J$22) -> 0 | R18: =IF('כללי א1'!P20=0,0,'כללי א1'!P20/'כללי א1'!$J$22) -> 0 | S18: =SUM(T18:Y18) -> 0 | T18: =IF('כללי א1'!R20=0,0,'כללי א1'!R20/'כללי א1'!$Q$22) -> 0 | U18: =IF('כללי א1'!S20=0,0,'כללי א1'!S20/'כללי א1'!$Q$22) -> 0 | V18: =IF('כללי א1'!T20=0,0,'כללי א1'!T20/'כללי א1'!$Q$22) -> 0 | W18: =IF('כללי א1'!U20=0,0,'כללי א1'!U20/'כללי א1'!$Q$22) -> 0 | X18: =IF('כללי א1'!V20=0,0,'כללי א1'!V20/'כללי א1'!$Q$22) -> 0 | Y18: =IF('כללי א1'!W20=0,0,'כללי א1'!W20/'כללי א1'!$Q$22) -> 0 | Z18: =SUM(AA18:AF18) -> 0 | AA18: =IF('כללי א1'!Y20=0,0,'כללי א1'!Y20/'כללי א1'!$X$22) -> 0 | AB18: =IF('כללי א1'!Z20=0,0,'כללי א1'!Z20/'כללי א1'!$X$22) -> 0 | AC18: =IF('כללי א1'!AA20=0,0,'כללי א1'!AA20/'כללי א1'!$X$22) -> 0 | AD18: =IF('כללי א1'!AB20=0,0,'כללי א1'!AB20/'כללי א1'!$X$22) -> 0 | AE18: =IF('כללי א1'!AC20=0,0,'כללי א1'!AC20/'כללי א1'!$X$22) -> 0 | AF18: =IF('כללי א1'!AD20=0,0,'כללי א1'!AD20/'כללי א1'!$X$22) -> 0 | AG18: =SUM(AH18:AM18) -> 0 | AH18: =IF('כללי א1'!AF20=0,0,'כללי א1'!AF20/'כללי א1'!$AE$22) -> 0 | AI18: =IF('כללי א1'!AG20=0,0,'כללי א1'!AG20/'כללי א1'!$AE$22) -> 0 | AJ18: =IF('כללי א1'!AH20=0,0,'כללי א1'!AH20/'כללי א1'!$AE$22) -> 0 | AK18: =IF('כללי א1'!AI20=0,0,'כללי א1'!AI20/'כללי א1'!$AE$22) -> 0 | AL18: =IF('כללי א1'!AJ20=0,0,'כללי א1'!AJ20/'כללי א1'!$AE$22) -> 0 | AM18: =IF('כללי א1'!AK20=0,0,'כללי א1'!AK20/'כללי א1'!$AE$22) -> 0
A19: 2 | B19: תביעות שנדחו | E19: =SUM(F19:K19) -> 0 | F19: =IF('כללי א1'!D21=0,0,'כללי א1'!D21/'כללי א1'!$C$22) -> 0 | G19: =IF('כללי א1'!E21=0,0,'כללי א1'!E21/'כללי א1'!$C$22) -> 0 | H19: =IF('כללי א1'!F21=0,0,'כללי א1'!F21/'כללי א1'!$C$22) -> 0 | I19: =IF('כללי א1'!G21=0,0,'כללי א1'!G21/'כללי א1'!$C$22) -> 0 | J19: =IF('כללי א1'!H21=0,0,'כללי א1'!H21/'כללי א1'!$C$22) -> 0 | K19: =IF('כללי א1'!I21=0,0,'כללי א1'!I21/'כללי א1'!$C$22) -> 0 | L19: =SUM(M19:R19) -> 0 | M19: =IF('כללי א1'!K21=0,0,'כללי א1'!K21/'כללי א1'!$J$22) -> 0 | N19: =IF('כללי א1'!L21=0,0,'כללי א1'!L21/'כללי א1'!$J$22) -> 0 | O19: =IF('כללי א1'!M21=0,0,'כללי א1'!M21/'כללי א1'!$J$22) -> 0 | P19: =IF('כללי א1'!N21=0,0,'כללי א1'!N21/'כללי א1'!$J$22) -> 0 | Q19: =IF('כללי א1'!O21=0,0,'כללי א1'!O21/'כללי א1'!$J$22) -> 0 | R19: =IF('כללי א1'!P21=0,0,'כללי א1'!P21/'כללי א1'!$J$22) -> 0 | S19: =SUM(T19:Y19) -> 0 | T19: =IF('כללי א1'!R21=0,0,'כללי א1'!R21/'כללי א1'!$Q$22) -> 0 | U19: =IF('כללי א1'!S21=0,0,'כללי א1'!S21/'כללי א1'!$Q$22) -> 0 | V19: =IF('כללי א1'!T21=0,0,'כללי א1'!T21/'כללי א1'!$Q$22) -> 0 | W19: =IF('כללי א1'!U21=0,0,'כללי א1'!U21/'כללי א1'!$Q$22) -> 0 | X19: =IF('כללי א1'!V21=0,0,'כללי א1'!V21/'כללי א1'!$Q$22) -> 0 | Y19: =IF('כללי א1'!W21=0,0,'כללי א1'!W21/'כללי א1'!$Q$22) -> 0 | Z19: =SUM(AA19:AF19) -> 0 | AA19: =IF('כללי א1'!Y21=0,0,'כללי א1'!Y21/'כללי א1'!$X$22) -> 0 | AB19: =IF('כללי א1'!Z21=0,0,'כללי א1'!Z21/'כללי א1'!$X$22) -> 0 | AC19: =IF('כללי א1'!AA21=0,0,'כללי א1'!AA21/'כללי א1'!$X$22) -> 0 | AD19: =IF('כללי א1'!AB21=0,0,'כללי א1'!AB21/'כללי א1'!$X$22) -> 0 | AE19: =IF('כללי א1'!AC21=0,0,'כללי א1'!AC21/'כללי א1'!$X$22) -> 0 | AF19: =IF('כללי א1'!AD21=0,0,'כללי א1'!AD21/'כללי א1'!$X$22) -> 0 | AG19: =SUM(AH19:AM19) -> 0 | AH19: =IF('כללי א1'!AF21=0,0,'כללי א1'!AF21/'כללי א1'!$AE$22) -> 0 | AI19: =IF('כללי א1'!AG21=0,0,'כללי א1'!AG21/'כללי א1'!$AE$22) -> 0 | AJ19: =IF('כללי א1'!AH21=0,0,'כללי א1'!AH21/'כללי א1'!$AE$22) -> 0 | AK19: =IF('כללי א1'!AI21=0,0,'כללי א1'!AI21/'כללי א1'!$AE$22) -> 0 | AL19: =IF('כללי א1'!AJ21=0,0,'כללי א1'!AJ21/'כללי א1'!$AE$22) -> 0 | AM19: =IF('כללי א1'!AK21=0,0,'כללי א1'!AK21/'כללי א1'!$AE$22) -> 0
A20: 3 | B20: סה"כ (ב1+ב2) | E20: =SUM(E18:E19) -> 0 | F20: =SUM(F18:F19) -> 0 | G20: =SUM(G18:G19) -> 0 | H20: =SUM(H18:H19) -> 0 | I20: =SUM(I18:I19) -> 0 | J20: =SUM(J18:J19) -> 0 | K20: =SUM(K18:K19) -> 0 | L20: =SUM(L18:L19) -> 0 | ... AM20: =SUM(AM18:AM19) -> 0
A21: ג | B21: תביעות שנסגרו בבית משפט:
A22: 1 | B22: תביעות שאושרו | E22: =SUM(F22:K22) -> 0 | F22: =IF('כללי א1'!D24=0,0,'כללי א1'!D24/'כללי א1'!$C$28) -> 0 | G22: =IF('כללי א1'!E24=0,0,'כללי א1'!E24/'כללי א1'!$C$28) -> 0 | H22: =IF('כללי א1'!F24=0,0,'כללי א1'!F24/'כללי א1'!$C$28) -> 0 | I22: =IF('כללי א1'!G24=0,0,'כללי א1'!G24/'כללי א1'!$C$28) -> 0 | J22: =IF('כללי א1'!H24=0,0,'כללי א1'!H24/'כללי א1'!$C$28) -> 0 | K22: =IF('כללי א1'!I24=0,0,'כללי א1'!I24/'כללי א1'!$C$28) -> 0 | L22: =SUM(M22:R22) -> 0 | M22: =IF('כללי א1'!K24=0,0,'כללי א1'!K24/'כללי א1'!$J$28) -> 0 | N22: =IF('כללי א1'!L24=0,0,'כללי א1'!L24/'כללי א1'!$J$28) -> 0 | O22: =IF('כללי א1'!M24=0,0,'כללי א1'!M24/'כללי א1'!$J$28) -> 0 | P22: =IF('כללי א1'!N24=0,0,'כללי א1'!N24/'כללי א1'!$J$28) -> 0 | Q22: =IF('כללי א1'!O24=0,0,'כללי א1'!O24/'כללי א1'!$J$28) -> 0 | R22: =IF('כללי א1'!P24=0,0,'כללי א1'!P24/'כללי א1'!$J$28) -> 0 | S22: =SUM(T22:Y22) -> 0 | T22: =IF('כללי א1'!R24=0,0,'כללי א1'!R24/'כללי א1'!$Q$28) -> 0 | U22: =IF('כללי א1'!S24=0,0,'כללי א1'!S24/'כללי א1'!$Q$28) -> 0 | V22: =IF('כללי א1'!T24=0,0,'כללי א1'!T24/'כללי א1'!$Q$28) -> 0 | W22: =IF('כללי א1'!U24=0,0,'כללי א1'!U24/'כללי א1'!$Q$28) -> 0 | X22: =IF('כללי א1'!V24=0,0,'כללי א1'!V24/'כללי א1'!$Q$28) -> 0 | Y22: =IF('כללי א1'!W24=0,0,'כללי א1'!W24/'כללי א1'!$Q$28) -> 0 | Z22: =SUM(AA22:AF22) -> 0 | AA22: =IF('כללי א1'!Y24=0,0,'כללי א1'!Y24/'כללי א1'!$X$28) -> 0 | AB22: =IF('כללי א1'!Z24=0,0,'כללי א1'!Z24/'כללי א1'!$X$28) -> 0 | AC22: =IF('כללי א1'!AA24=0,0,'כללי א1'!AA24/'כללי א1'!$X$28) -> 0 | AD22: =IF('כללי א1'!AB24=0,0,'כללי א1'!AB24/'כללי א1'!$X$28) -> 0 | AE22: =IF('כללי א1'!AC24=0,0,'כללי א1'!AC24/'כללי א1'!$X$28) -> 0 | AF22: =IF('כללי א1'!AD24=0,0,'כללי א1'!AD24/'כללי א1'!$X$28) -> 0 | AG22: =SUM(AH22:AM22) -> 0 | AH22: =IF('כללי א1'!AF24=0,0,'כללי א1'!AF24/'כללי א1'!$AE$28) -> 0 | AI22: =IF('כללי א1'!AG24=0,0,'כללי א1'!AG24/'כללי א1'!$AE$28) -> 0 | AJ22: =IF('כללי א1'!AH24=0,0,'כללי א1'!AH24/'כללי א1'!$AE$28) -> 0 | AK22: =IF('כללי א1'!AI24=0,0,'כללי א1'!AI24/'כללי א1'!$AE$28) -> 0 | AL22: =IF('כללי א1'!AJ24=0,0,'כללי א1'!AJ24/'כללי א1'!$AE$28) -> 0 | AM22: =IF('כללי א1'!AK24=0,0,'כללי א1'!AK24/'כללי א1'!$AE$28) -> 0
A23: 2 | B23: תביעות שנדחו | E23: =SUM(F23:K23) -> 0 | F23: =IF('כללי א1'!D25=0,0,'כללי א1'!D25/'כללי א1'!$C$28) -> 0 | G23: =IF('כללי א1'!E25=0,0,'כללי א1'!E25/'כללי א1'!$C$28) -> 0 | H23: =IF('כללי א1'!F25=0,0,'כללי א1'!F25/'כללי א1'!$C$28) -> 0 | I23: =IF('כללי א1'!G25=0,0,'כללי א1'!G25/'כללי א1'!$C$28) -> 0 | J23: =IF('כללי א1'!H25=0,0,'כללי א1'!H25/'כללי א1'!$C$28) -> 0 | K23: =IF('כללי א1'!I25=0,0,'כללי א1'!I25/'כללי א1'!$C$28) -> 0 | L23: =SUM(M23:R23) -> 0 | M23: =IF('כללי א1'!K25=0,0,'כללי א1'!K25/'כללי א1'!$J$28) -> 0 | N23: =IF('כללי א1'!L25=0,0,'כללי א1'!L25/'כללי א1'!$J$28) -> 0 | O23: =IF('כללי א1'!M25=0,0,'כללי א1'!M25/'כללי א1'!$J$28) -> 0 | P23: =IF('כללי א1'!N25=0,0,'כללי א1'!N25/'כללי א1'!$J$28) -> 0 | Q23: =IF('כללי א1'!O25=0,0,'כללי א1'!O25/'כללי א1'!$J$28) -> 0 | R23: =IF('כללי א1'!P25=0,0,'כללי א1'!P25/'כללי א1'!$J$28) -> 0 | S23: =SUM(T23:Y23) -> 0 | T23: =IF('כללי א1'!R25=0,0,'כללי א1'!R25/'כללי א1'!$Q$28) -> 0 | U23: =IF('כללי א1'!S25=0,0,'כללי א1'!S25/'כללי א1'!$Q$28) -> 0 | V23: =IF('כללי א1'!T25=0,0,'כללי א1'!T25/'כללי א1'!$Q$28) -> 0 | W23: =IF('כללי א1'!U25=0,0,'כללי א1'!U25/'כללי א1'!$Q$28) -> 0 | X23: =IF('כללי א1'!V25=0,0,'כללי א1'!V25/'כללי א1'!$Q$28) -> 0 | Y23: =IF('כללי א1'!W25=0,0,'כללי א1'!W25/'כללי א1'!$Q$28) -> 0 | Z23: =SUM(AA23:AF23) -> 0 | AA23: =IF('כללי א1'!Y25=0,0,'כללי א1'!Y25/'כללי א1'!$X$28) -> 0 | AB23: =IF('כללי א1'!Z25=0,0,'כללי א1'!Z25/'כללי א1'!$X$28) -> 0 | AC23: =IF('כללי א1'!AA25=0,0,'כללי א1'!AA25/'כללי א1'!$X$28) -> 0 | AD23: =IF('כללי א1'!AB25=0,0,'כללי א1'!AB25/'כללי א1'!$X$28) -> 0 | AE23: =IF('כללי א1'!AC25=0,0,'כללי א1'!AC25/'כללי א1'!$X$28) -> 0 | AF23: =IF('כללי א1'!AD25=0,0,'כללי א1'!AD25/'כללי א1'!$X$28) -> 0 | AG23: =SUM(AH23:AM23) -> 0 | AH23: =IF('כללי א1'!AF25=0,0,'כללי א1'!AF25/'כללי א1'!$AE$28) -> 0 | AI23: =IF('כללי א1'!AG25=0,0,'כללי א1'!AG25/'כללי א1'!$AE$28) -> 0 | AJ23: =IF('כללי א1'!AH25=0,0,'כללי א1'!AH25/'כללי א1'!$AE$28) -> 0 | AK23: =IF('כללי א1'!AI25=0,0,'כללי א1'!AI25/'כללי א1'!$AE$28) -> 0 | AL23: =IF('כללי א1'!AJ25=0,0,'כללי א1'!AJ25/'כללי א1'!$AE$28) -> 0 | AM23: =IF('כללי א1'!AK25=0,0,'כללי א1'!AK25/'כללי א1'!$AE$28) -> 0
A24: 3 | B24: פשרה | E24: =SUM(F24:K24) -> 0 | F24: =IF('כללי א1'!D26=0,0,'כללי א1'!D26/'כללי א1'!$C$28) -> 0 | G24: =IF('כללי א1'!E26=0,0,'כללי א1'!E26/'כללי א1'!$C$28) -> 0 | H24: =IF('כללי א1'!F26=0,0,'כללי א1'!F26/'כללי א1'!$C$28) -> 0 | I24: =IF('כללי א1'!G26=0,0,'כללי א1'!G26/'כללי א1'!$C$28) -> 0 | J24: =IF('כללי א1'!H26=0,0,'כללי א1'!H26/'כללי א1'!$C$28) -> 0 | K24: =IF('כללי א1'!I26=0,0,'כללי א1'!I26/'כללי א1'!$C$28) -> 0 | L24: =SUM(M24:R24) -> 0 | M24: =IF('כללי א1'!K26=0,0,'כללי א1'!K26/'כללי א1'!$J$28) -> 0 | N24: =IF('כללי א1'!L26=0,0,'כללי א1'!L26/'כללי א1'!$J$28) -> 0 | O24: =IF('כללי א1'!M26=0,0,'כללי א1'!M26/'כללי א1'!$J$28) -> 0 | P24: =IF('כללי א1'!N26=0,0,'כללי א1'!N26/'כללי א1'!$J$28) -> 0 | Q24: =IF('כללי א1'!O26=0,0,'כללי א1'!O26/'כללי א1'!$J$28) -> 0 | R24: =IF('כללי א1'!P26=0,0,'כללי א1'!P26/'כללי א1'!$J$28) -> 0 | S24: =SUM(T24:Y24) -> 0 | T24: =IF('כללי א1'!R26=0,0,'כללי א1'!R26/'כללי א1'!$Q$28) -> 0 | U24: =IF('כללי א1'!S26=0,0,'כללי א1'!S26/'כללי א1'!$Q$28) -> 0 | V24: =IF('כללי א1'!T26=0,0,'כללי א1'!T26/'כללי א1'!$Q$28) -> 0 | W24: =IF('כללי א1'!U26=0,0,'כללי א1'!U26/'כללי א1'!$Q$28) -> 0 | X24: =IF('כללי א1'!V26=0,0,'כללי א1'!V26/'כללי א1'!$Q$28) -> 0 | Y24: =IF('כללי א1'!W26=0,0,'כללי א1'!W26/'כללי א1'!$Q$28) -> 0 | Z24: =SUM(AA24:AF24) -> 0 | AA24: =IF('כללי א1'!Y26=0,0,'כללי א1'!Y26/'כללי א1'!$X$28) -> 0 | AB24: =IF('כללי א1'!Z26=0,0,'כללי א1'!Z26/'כללי א1'!$X$28) -> 0 | AC24: =IF('כללי א1'!AA26=0,0,'כללי א1'!AA26/'כללי א1'!$X$28) -> 0 | AD24: =IF('כללי א1'!AB26=0,0,'כללי א1'!AB26/'כללי א1'!$X$28) -> 0 | AE24: =IF('כללי א1'!AC26=0,0,'כללי א1'!AC26/'כללי א1'!$X$28) -> 0 | AF24: =IF('כללי א1'!AD26=0,0,'כללי א1'!AD26/'כללי א1'!$X$28) -> 0 | AG24: =SUM(AH24:AM24) -> 0 | AH24: =IF('כללי א1'!AF26=0,0,'כללי א1'!AF26/'כללי א1'!$AE$28) -> 0 | AI24: =IF('כללי א1'!AG26=0,0,'כללי א1'!AG26/'כללי א1'!$AE$28) -> 0 | AJ24: =IF('כללי א1'!AH26=0,0,'כללי א1'!AH26/'כללי א1'!$AE$28) -> 0 | AK24: =IF('כללי א1'!AI26=0,0,'כללי א1'!AI26/'כללי א1'!$AE$28) -> 0 | AL24: =IF('כללי א1'!AJ26=0,0,'כללי א1'!AJ26/'כללי א1'!$AE$28) -> 0 | AM24: =IF('כללי א1'!AK26=0,0,'כללי א1'!AK26/'כללי א1'!$AE$28) -> 0
A25: 4 | B25: אחר | E25: =SUM(F25:K25) -> 0 | F25: =IF('כללי א1'!D27=0,0,'כללי א1'!D27/'כללי א1'!$C$28) -> 0 | G25: =IF('כללי א1'!E27=0,0,'כללי א1'!E27/'כללי א1'!$C$28) -> 0 | H25: =IF('כללי א1'!F27=0,0,'כללי א1'!F27/'כללי א1'!$C$28) -> 0 | I25: =IF('כללי א1'!G27=0,0,'כללי א1'!G27/'כללי א1'!$C$28) -> 0 | J25: =IF('כללי א1'!H27=0,0,'כללי א1'!H27/'כללי א1'!$C$28) -> 0 | K25: =IF('כללי א1'!I27=0,0,'כללי א1'!I27/'כללי א1'!$C$28) -> 0 | L25: =SUM(M25:R25) -> 0 | M25: =IF('כללי א1'!K27=0,0,'כללי א1'!K27/'כללי א1'!$J$28) -> 0 | N25: =IF('כללי א1'!L27=0,0,'כללי א1'!L27/'כללי א1'!$J$28) -> 0 | O25: =IF('כללי א1'!M27=0,0,'כללי א1'!M27/'כללי א1'!$J$28) -> 0 | P25: =IF('כללי א1'!N27=0,0,'כללי א1'!N27/'כללי א1'!$J$28) -> 0 | Q25: =IF('כללי א1'!O27=0,0,'כללי א1'!O27/'כללי א1'!$J$28) -> 0 | R25: =IF('כללי א1'!P27=0,0,'כללי א1'!P27/'כללי א1'!$J$28) -> 0 | S25: =SUM(T25:Y25) -> 0 | T25: =IF('כללי א1'!R27=0,0,'כללי א1'!R27/'כללי א1'!$Q$28) -> 0 | U25: =IF('כללי א1'!S27=0,0,'כללי א1'!S27/'כללי א1'!$Q$28) -> 0 | V25: =IF('כללי א1'!T27=0,0,'כללי א1'!T27/'כללי א1'!$Q$28) -> 0 | W25: =IF('כללי א1'!U27=0,0,'כללי א1'!U27/'כללי א1'!$Q$28) -> 0 | X25: =IF('כללי א1'!V27=0,0,'כללי א1'!V27/'כללי א1'!$Q$28) -> 0 | Y25: =IF('כללי א1'!W27=0,0,'כללי א1'!W27/'כללי א1'!$Q$28) -> 0 | Z25: =SUM(AA25:AF25) -> 0 | AA25: =IF('כללי א1'!Y27=0,0,'כללי א1'!Y27/'כללי א1'!$X$28) -> 0 | AB25: =IF('כללי א1'!Z27=0,0,'כללי א1'!Z27/'כללי א1'!$X$28) -> 0 | AC25: =IF('כללי א1'!AA27=0,0,'כללי א1'!AA27/'כללי א1'!$X$28) -> 0 | AD25: =IF('כללי א1'!AB27=0,0,'כללי א1'!AB27/'כללי א1'!$X$28) -> 0 | AE25: =IF('כללי א1'!AC27=0,0,'כללי א1'!AC27/'כללי א1'!$X$28) -> 0 | AF25: =IF('כללי א1'!AD27=0,0,'כללי א1'!AD27/'כללי א1'!$X$28) -> 0 | AG25: =SUM(AH25:AM25) -> 0 | AH25: =IF('כללי א1'!AF27=0,0,'כללי א1'!AF27/'כללי א1'!$AE$28) -> 0 | AI25: =IF('כללי א1'!AG27=0,0,'כללי א1'!AG27/'כללי א1'!$AE$28) -> 0 | AJ25: =IF('כללי א1'!AH27=0,0,'כללי א1'!AH27/'כללי א1'!$AE$28) -> 0 | AK25: =IF('כללי א1'!AI27=0,0,'כללי א1'!AI27/'כללי א1'!$AE$28) -> 0 | AL25: =IF('כללי א1'!AJ27=0,0,'כללי א1'!AJ27/'כללי א1'!$AE$28) -> 0 | AM25: =IF('כללי א1'!AK27=0,0,'כללי א1'!AK27/'כללי א1'!$AE$28) -> 0
A26: 5 | B26: סה"כ (ג1+ג2+ג3+ג4) | E26: =SUM(E22:E25) -> 0 | F26: =SUM(F22:F25) -> 0 | G26: =SUM(G22:G25) -> 0 | H26: =SUM(H22:H25) -> 0 | I26: =SUM(I22:I25) -> 0 | J26: =SUM(J22:J25) -> 0 | K26: =SUM(K22:K25) -> 0 | L26: =SUM(L22:L25) -> 0 | ... AM26: =SUM(AM22:AM25) -> 0

Sheet  בריאות א2
B1: =הוראות!B19 -> נספח א2 מספרי תביעות בביטוח בריאות
B2: =הוראות!B13 -> ק.ה.ר הקרן השתלמות לרוקחים בע"מ
B3: =CONCATENATE(הוראות!Z13,הוראות!F13) -> הנתונים ביחידות בודדות לשנת 2020
B4: חזרה | C4: ניתוחים בארץ ובחו"ל | Q4: השתלות בארץ ובחו"ל | AE4: סיעודי | AS4: מחלות קשות | BG4: עובדים זרים | BN4: נכויות | CB4: תאונות אישיות | CP4: נסיעות לחו"ל (למעט כבודה) | DD4: תרופות
C5: פרט | J5: קבוצתי | Q5: פרט | X5: קבוצתי | AE5: פרט | AL5: קבוצתי | AS5: פרט | AZ5: קבוצתי | BN5: פרט | BU5: קבוצתי | CB5: פרט | CI5: קבוצתי | CP5: פרט | CW5: קבוצתי | DD5: פרט | DK5: קבוצתי
C6: סה"כ מספר תביעות | D6: מספר התביעות שנסגרו במהלך השנה | J6: =C6 -> סה"כ מספר תביעות | K6: מספר התביעות שנסגרו במהלך השנה | Q6: =J6 -> סה"כ מספר תביעות | R6: מספר התביעות שנסגרו במהלך השנה | X6: =Q6 -> סה"כ מספר תביעות | Y6: מספר התביעות שנסגרו במהלך השנה | AE6: =X6 -> סה"כ מספר תביעות | AF6: מספר התביעות שנסגרו במהלך השנה | AL6: =AE6 -> סה"כ מספר תביעות | AM6: מספר התביעות שנסגרו במהלך השנה | AS6: =AL6 -> סה"כ מספר תביעות | AT6: מספר התביעות שנסגרו במהלך השנה | AZ6: =AS6 -> סה"כ מספר תביעות | BA6: מספר התביעות שנסגרו במהלך השנה | BG6: =AZ6 -> סה"כ מספר תביעות | BH6: מספר התביעות שנסגרו במהלך השנה | BN6: =AZ6 -> סה"כ מספר תביעות | BO6: מספר התביעות שנסגרו במהלך השנה | BU6: =BG6 -> סה"כ מספר תביעות | BV6: מספר התביעות שנסגרו במהלך השנה | CB6: =BN6 -> סה"כ מספר תביעות | CC6: מספר התביעות שנסגרו במהלך השנה | CI6: =BU6 -> סה"כ מספר תביעות | CJ6: מספר התביעות שנסגרו במהלך השנה | CP6: =CB6 -> סה"כ מספר תביעות | CQ6: מספר התביעות שנסגרו במהלך השנה | CW6: =CI6 -> סה"כ מספר תביעות | CX6: מספר התביעות שנסגרו במהלך השנה | DD6: =CP6 -> סה"כ מספר תביעות | DE6: מספר התביעות שנסגרו במהלך השנה | DK6: =CW6 -> סה"כ מספר תביעות | DL6: מספר התביעות שנסגרו במהלך השנה
B7: מספרי התביעות (בערכים) | D7: עד 14 יום | E7: 15-30 יום | F7: 31-60 יום | G7: 61-120 יום | H7: 121-180 יום | I7: 181 יום ומעלה | K7: עד 14 יום | L7: 15-30 יום | M7: 31-60 יום | N7: 61-120 יום | O7: 121-180 יום | P7: 181 יום ומעלה | R7: עד 14 יום | S7: 15-30 יום | T7: 31-60 יום | U7: 61-120 יום | V7: 121-180 יום | W7: 181 יום ומעלה | Y7: עד 14 יום | Z7: 15-30 יום | AA7: 31-60 יום | AB7: 61-120 יום | AC7: 121-180 יום | AD7: 181 יום ומעלה | AF7: עד 14 יום | AG7: 15-30 יום | AH7: 31-60 יום | AI7: 61-120 יום | AJ7: 121-180 יום | AK7: 181 יום ומעלה | AM7: עד 14 יום | AN7: 15-30 יום | AO7: 31-60 יום | AP7: 61-120 יום | AQ7: 121-180 יום | AR7: 181 יום ומעלה | AT7: עד 14 יום | AU7: 15-30 יום | AV7: 31-60 יום | AW7: 61-120 יום | AX7: 121-180 יום | AY7: 181 יום ומעלה | BA7: עד 14 יום | BB7: 15-30 יום | BC7: 31-60 יום | BD7: 61-120 יום | BE7: 121-180 יום | BF7: 181 יום ומעלה | BH7: עד 14 יום | BI7: 15-30 יום | BJ7: 31-60 יום | BK7: 61-120 יום | BL7: 121-180 יום | BM7: 181 יום ומעלה | BO7: עד 14 יום | BP7: 15-30 יום | BQ7: 31-60 יום | BR7: 61-120 יום | BS7: 121-180 יום | BT7: 181 יום ומעלה | BV7: עד 14 יום | BW7: 15-30 יום | BX7: 31-60 יום | BY7: 61-120 יום | BZ7: 121-180 יום | CA7: 181 יום ומעלה | CC7: עד 14 יום | CD7: 15-30 יום | CE7: 31-60 יום | CF7: 61-120 יום | CG7: 121-180 יום | CH7: 181 יום ומעלה | CJ7: עד 14 יום | CK7: 15-30 יום | CL7: 31-60 יום | CM7: 61-120 יום | CN7: 121-180 יום | CO7: 181 יום ומעלה | CQ7: עד 14 יום | CR7: 15-30 יום | CS7: 31-60 יום | CT7: 61-120 יום | CU7: 121-180 יום | CV7: 181 יום ומעלה | CX7: עד 14 יום | CY7: 15-30 יום | CZ7: 31-60 יום | DA7: 61-120 יום | DB7: 121-180 יום | DC7: 181 יום ומעלה | DE7: עד 14 יום | DF7: 15-30 יום | DG7: 31-60 יום | DH7: 61-120 יום | DI7: 121-180 יום | DJ7: 181 יום ומעלה | DL7: עד 14 יום | DM7: 15-30 יום | DN7: 31-60 יום | DO7: 61-120 יום | DP7: 121-180 יום | DQ7: 181 יום ומעלה
C8: (1) | D8: (2) | E8: (3) | F8: (4) | G8: (5) | H8: (6) | I8: (7) | J8: (8) | K8: (9) | L8: (10) | M8: (11) | N8: (12) | O8: (13) | P8: (14) | Q8: (15) | R8: (16) | S8: (17) | T8: (18) | U8: (19) | V8: (20) | W8: (21) | X8: (22) | Y8: (23) | Z8: (24) | AA8: (25) | AB8: (26) | AC8: (27) | AD8: (28) | AE8: (29) | AF8: (30) | AG8: (31) | AH8: (32) | AI8: (33) | AJ8: (34) | AK8: (35) | AL8: (36) | AM8: (37) | AN8: (38) | AO8: (39) | AP8: (40) | AQ8: (41) | AR8: (42) | AS8: (43) | AT8: (44) | AU8: (45) | AV8: (46) | AW8: (47) | AX8: (48) | AY8: (49) | AZ8: (50) | BA8: (51) | BB8: (52) | BC8: (53) | BD8: (54) | BE8: (55) | BF8: (56) | BG8: (57) | BH8: (58) | BI8: (59) | BJ8: (60) | BK8: (61) | BL8: (62) | BM8: (63) | BN8: (64) | BO8: (65) | BP8: (66) | BQ8: (67) | BR8: (68) | BS8: (69) | BT8: (70) | BU8: (71) | BV8: (72) | BW8: (73) | BX8: (74) | BY8: (75) | BZ8: (76) | CA8: (77) | CB8: (78) | CC8: (79) | CD8: (80) | CE8: (81) | CF8: (82) | CG8: (83) | CH8: (84) | CI8: (85) | CJ8: (86) | CK8: (87) | CL8: (88) | CM8: (89) | CN8: (90) | CO8: (91) | CP8: (92) | CQ8: (93) | CR8: (94) | CS8: (95) | CT8: (96) | CU8: (97) | CV8: (98) | CW8: (99) | CX8: (100) | CY8: (101) | CZ8: (102) | DA8: (103) | DB8: (104) | DC8: (105) | DD8: (106) | DE8: (107) | DF8: (108) | DG8: (109) | DH8: (110) | DI8: (111) | DJ8: (112) | DK8: (113) | DL8: (114) | DM8: (115) | DN8: (116) | DO8: (117) | DP8: (118) | DQ8: (119)
A9: א | B9: תביעות:
A10: 1 | B10: תביעות פתוחות לתחילת השנה
A11: =A10+1 -> 2 | B11: תביעות שהוגשו במהלך השנה
A12: 3 | B12: תביעות ששולמו | C12: =SUM(D12:I12) -> 0 | J12: =SUM(K12:P12) -> 0 | Q12: =SUM(R12:W12) -> 0 | X12: =SUM(Y12:AD12) -> 0 | AE12: =SUM(AF12:AK12) -> 0 | AL12: =SUM(AM12:AR12) -> 0 | AS12: =SUM(AT12:AY12) -> 0 | AZ12: =SUM(BA12:BF12) -> 0 | BG12: =SUM(BH12:BM12) -> 0 | BN12: =SUM(BO12:BT12) -> 0 | BU12: =SUM(BV12:CA12) -> 0 | CB12: =SUM(CC12:CH12) -> 0 | CI12: =SUM(CJ12:CO12) -> 0 | CP12: =SUM(CQ12:CV12) -> 0 | CW12: =SUM(CX12:DC12) -> 0 | DD12: =SUM(DE12:DJ12) -> 0 | DK12: =SUM(DL12:DQ12) -> 0
A13: 3א | B13: תביעות ששולמו חלקית | C13: =SUM(D13:I13) -> 0 | J13: =SUM(K13:P13) -> 0 | Q13: =SUM(R13:W13) -> 0 | X13: =SUM(Y13:AD13) -> 0 | AE13: =SUM(AF13:AK13) -> 0 | AL13: =SUM(AM13:AR13) -> 0 | AS13: =SUM(AT13:AY13) -> 0 | AZ13: =SUM(BA13:BF13) -> 0 | BG13: =SUM(BH13:BM13) -> 0 | BN13: =SUM(BO13:BT13) -> 0 | BU13: =SUM(BV13:CA13) -> 0 | CB13: =SUM(CC13:CH13) -> 0 | CI13: =SUM(CJ13:CO13) -> 0 | CP13: =SUM(CQ13:CV13) -> 0 | CW13: =SUM(CX13:DC13) -> 0 | DD13: =SUM(DE13:DJ13) -> 0 | DK13: =SUM(DL13:DQ13) -> 0
A14: 4 | B14: תביעות שנדחו | C14: =SUM(D14:I14) -> 0 | J14: =SUM(K14:P14) -> 0 | Q14: =SUM(R14:W14) -> 0 | X14: =SUM(Y14:AD14) -> 0 | AE14: =SUM(AF14:AK14) -> 0 | AL14: =SUM(AM14:AR14) -> 0 | AS14: =SUM(AT14:AY14) -> 0 | AZ14: =SUM(BA14:BF14) -> 0 | BG14: =SUM(BH14:BM14) -> 0 | BN14: =SUM(BO14:BT14) -> 0 | BU14: =SUM(BV14:CA14) -> 0 | CB14: =SUM(CC14:CH14) -> 0 | CI14: =SUM(CJ14:CO14) -> 0 | CP14: =SUM(CQ14:CV14) -> 0 | CW14: =SUM(CX14:DC14) -> 0 | DD14: =SUM(DE14:DJ14) -> 0 | DK14: =SUM(DL14:DQ14) -> 0
A15: 5 | B15: תביעות שנסגרו בפשרה | C15: =SUM(D15:I15) -> 0 | J15: =SUM(K15:P15) -> 0 | Q15: =SUM(R15:W15) -> 0 | X15: =SUM(Y15:AD15) -> 0 | AE15: =SUM(AF15:AK15) -> 0 | AL15: =SUM(AM15:AR15) -> 0 | AS15: =SUM(AT15:AY15) -> 0 | AZ15: =SUM(BA15:BF15) -> 0 | BG15: =SUM(BH15:BM15) -> 0 | BN15: =SUM(BO15:BT15) -> 0 | BU15: =SUM(BV15:CA15) -> 0 | CB15: =SUM(CC15:CH15) -> 0 | CI15: =SUM(CJ15:CO15) -> 0 | CP15: =SUM(CQ15:CV15) -> 0 | CW15: =SUM(CX15:DC15) -> 0 | DD15: =SUM(DE15:DJ15) -> 0 | DK15: =SUM(DL15:DQ15) -> 0
A16: 6 | B16: תביעות שבוטלו | C16: =SUM(D16:I16) -> 0 | J16: =SUM(K16:P16) -> 0 | Q16: =SUM(R16:W16) -> 0 | X16: =SUM(Y16:AD16) -> 0 | AE16: =SUM(AF16:AK16) -> 0 | AL16: =SUM(AM16:AR16) -> 0 | AS16: =SUM(AT16:AY16) -> 0 | AZ16: =SUM(BA16:BF16) -> 0 | BG16: =SUM(BH16:BM16) -> 0 | BN16: =SUM(BO16:BT16) -> 0 | BU16: =SUM(BV16:CA16) -> 0 | CB16: =SUM(CC16:CH16) -> 0 | CI16: =SUM(CJ16:CO16) -> 0 | CP16: =SUM(CQ16:CV16) -> 0 | CW16: =SUM(CX16:DC16) -> 0 | DD16: =SUM(DE16:DJ16) -> 0 | DK16: =SUM(DL16:DQ16) -> 0
A17: 7 | B17: תביעות שנסגרו (א3+א3א+א4+א5+א6) | C17: =SUM(C12:C16) -> 0 | D17: =SUM(D12:D16) -> 0 | E17: =SUM(E12:E16) -> 0 | F17: =SUM(F12:F16) -> 0 | G17: =SUM(G12:G16) -> 0 | H17: =SUM(H12:H16) -> 0 | I17: =SUM(I12:I16) -> 0 | J17: =SUM(J12:J16) -> 0 | ... DQ17: =SUM(DQ12:DQ16) -> 0
A18: 8 | B18: תביעות פתוחות לסוף השנה (א1+א2-א7) | C18: =IF(C10+C11-C17=0,0,C10+C11-C17) -> 0 | J18: =IF(J10+J11-J17=0,0,J10+J11-J17) -> 0 | Q18: =IF(Q10+Q11-Q17=0,0,Q10+Q11-Q17) -> 0 | X18: =IF(X10+X11-X17=0,0,X10+X11-X17) -> 0 | AE18: =IF(AE10+AE11-AE17=0,0,AE10+AE11-AE17) -> 0 | AL18: =IF(AL10+AL11-AL17=0,0,AL10+AL11-AL17) -> 0 | AS18: =IF(AS10+AS11-AS17=0,0,AS10+AS11-AS17) -> 0 | AZ18: =IF(AZ10+AZ11-AZ17=0,0,AZ10+AZ11-AZ17) -> 0 | BG18: =IF(BG10+BG11-BG17=0,0,BG10+BG11-BG17) -> 0 | BN18: =IF(BN10+BN11-BN17=0,0,BN10+BN11-BN17) -> 0 | BU18: =IF(BU10+BU11-BU17=0,0,BU10+BU11-BU17) -> 0 | CB18: =IF(CB10+CB11-CB17=0,0,CB10+CB11-CB17) -> 0 | CI18: =IF(CI10+CI11-CI17=0,0,CI10+CI11-CI17) -> 0 | CP18: =IF(CP10+CP11-CP17=0,0,CP10+CP11-CP17) -> 0 | CW18: =IF(CW10+CW11-CW17=0,0,CW10+CW11-CW17) -> 0 | DD18: =IF(DD10+DD11-DD17=0,0,DD10+DD11-DD17) -> 0 | DK18: =IF(DK10+DK11-DK17=0,0,DK10+DK11-DK17) -> 0
A19: ב | B19: תביעות שנסגרו בבוררות:
A20: 1 | B20: תביעות שאושרו | C20: =SUM(D20:I20) -> 0 | J20: =SUM(K20:P20) -> 0 | Q20: =SUM(R20:W20) -> 0 | X20: =SUM(Y20:AD20) -> 0 | AE20: =SUM(AF20:AK20) -> 0 | AL20: =SUM(AM20:AR20) -> 0 | AS20: =SUM(AT20:AY20) -> 0 | AZ20: =SUM(BA20:BF20) -> 0 | BG20: =SUM(BH20:BM20) -> 0 | BN20: =SUM(BO20:BT20) -> 0 | BU20: =SUM(BV20:CA20) -> 0 | CB20: =SUM(CC20:CH20) -> 0 | CI20: =SUM(CJ20:CO20) -> 0 | CP20: =SUM(CQ20:CV20) -> 0 | CW20: =SUM(CX20:DC20) -> 0 | DD20: =SUM(DE20:DJ20) -> 0 | DK20: =SUM(DL20:DQ20) -> 0
A21: 2 | B21: תביעות שנדחו | C21: =SUM(D21:I21) -> 0 | J21: =SUM(K21:P21) -> 0 | Q21: =SUM(R21:W21) -> 0 | X21: =SUM(Y21:AD21) -> 0 | AE21: =SUM(AF21:AK21) -> 0 | AL21: =SUM(AM21:AR21) -> 0 | AS21: =SUM(AT21:AY21) -> 0 | AZ21: =SUM(BA21:BF21) -> 0 | BG21: =SUM(BH21:BM21) -> 0 | BN21: =SUM(BO21:BT21) -> 0 | BU21: =SUM(BV21:CA21) -> 0 | CB21: =SUM(CC21:CH21) -> 0 | CI21: =SUM(CJ21:CO21) -> 0 | CP21: =SUM(CQ21:CV21) -> 0 | CW21: =SUM(CX21:DC21) -> 0 | DD21: =SUM(DE21:DJ21) -> 0 | DK21: =SUM(DL21:DQ21) -> 0
A22: 3 | B22: סה"כ (ב1+ב2) | C22: =SUM(C20:C21) -> 0 | D22: =SUM(D20:D21) -> 0 | E22: =SUM(E20:E21) -> 0 | F22: =SUM(F20:F21) -> 0 | G22: =SUM(G20:G21) -> 0 | H22: =SUM(H20:H21) -> 0 | I22: =SUM(I20:I21) -> 0 | J22: =SUM(J20:J21) -> 0 | ... DQ22: =SUM(DQ20:DQ21) -> 0
A23: ג | B23: תביעות שנסגרו בבית משפט:
A24: 1 | B24: תביעות שאושרו | C24: =SUM(D24:I24) -> 0 | J24: =SUM(K24:P24) -> 0 | Q24: =SUM(R24:W24) -> 0 | X24: =SUM(Y24:AD24) -> 0 | AE24: =SUM(AF24:AK24) -> 0 | AL24: =SUM(AM24:AR24) -> 0 | AS24: =SUM(AT24:AY24) -> 0 | AZ24: =SUM(BA24:BF24) -> 0 | BG24: =SUM(BH24:BM24) -> 0 | BN24: =SUM(BO24:BT24) -> 0 | BU24: =SUM(BV24:CA24) -> 0 | CB24: =SUM(CC24:CH24) -> 0 | CI24: =SUM(CJ24:CO24) -> 0 | CP24: =SUM(CQ24:CV24) -> 0 | CW24: =SUM(CX24:DC24) -> 0 | DD24: =SUM(DE24:DJ24) -> 0 | DK24: =SUM(DL24:DQ24) -> 0
A25: 2 | B25: תביעות שנדחו | C25: =SUM(D25:I25) -> 0 | J25: =SUM(K25:P25) -> 0 | Q25: =SUM(R25:W25) -> 0 | X25: =SUM(Y25:AD25) -> 0 | AE25: =SUM(AF25:AK25) -> 0 | AL25: =SUM(AM25:AR25) -> 0 | AS25: =SUM(AT25:AY25) -> 0 | AZ25: =SUM(BA25:BF25) -> 0 | BG25: =SUM(BH25:BM25) -> 0 | BN25: =SUM(BO25:BT25) -> 0 | BU25: =SUM(BV25:CA25) -> 0 | CB25: =SUM(CC25:CH25) -> 0 | CI25: =SUM(CJ25:CO25) -> 0 | CP25: =SUM(CQ25:CV25) -> 0 | CW25: =SUM(CX25:DC25) -> 0 | DD25: =SUM(DE25:DJ25) -> 0 | DK25: =SUM(DL25:DQ25) -> 0
A26: 3 | B26: פשרה | C26: =SUM(D26:I26) -> 0 | J26: =SUM(K26:P26) -> 0 | Q26: =SUM(R26:W26) -> 0 | X26: =SUM(Y26:AD26) -> 0 | AE26: =SUM(AF26:AK26) -> 0 | AL26: =SUM(AM26:AR26) -> 0 | AS26: =SUM(AT26:AY26) -> 0 | AZ26: =SUM(BA26:BF26) -> 0 | BG26: =SUM(BH26:BM26) -> 0 | BN26: =SUM(BO26:BT26) -> 0 | BU26: =SUM(BV26:CA26) -> 0 | CB26: =SUM(CC26:CH26) -> 0 | CI26: =SUM(CJ26:CO26) -> 0 | CP26: =SUM(CQ26:CV26) -> 0 | CW26: =SUM(CX26:DC26) -> 0 | DD26: =SUM(DE26:DJ26) -> 0 | DK26: =SUM(DL26:DQ26) -> 0
A27: 4 | B27: אחר | C27: =SUM(D27:I27) -> 0 | J27: =SUM(K27:P27) -> 0 | Q27: =SUM(R27:W27) -> 0 | X27: =SUM(Y27:AD27) -> 0 | AE27: =SUM(AF27:AK27) -> 0 | AL27: =SUM(AM27:AR27) -> 0 | AS27: =SUM(AT27:AY27) -> 0 | AZ27: =SUM(BA27:BF27) -> 0 | BG27: =SUM(BH27:BM27) -> 0 | BN27: =SUM(BO27:BT27) -> 0 | BU27: =SUM(BV27:CA27) -> 0 | CB27: =SUM(CC27:CH27) -> 0 | CI27: =SUM(CJ27:CO27) -> 0 | CP27: =SUM(CQ27:CV27) -> 0 | CW27: =SUM(CX27:DC27) -> 0 | DD27: =SUM(DE27:DJ27) -> 0 | DK27: =SUM(DL27:DQ27) -> 0
A28: 5 | B28: סה"כ (ג1+ג2+ג3+ג4) | C28: =SUM(C24:C27) -> 0 | D28: =SUM(D24:D27) -> 0 | E28: =SUM(E24:E27) -> 0 | F28: =SUM(F24:F27) -> 0 | G28: =SUM(G24:G27) -> 0 | H28: =SUM(H24:H27) -> 0 | I28: =SUM(I24:I27) -> 0 | J28: =SUM(J24:J27) -> 0 | ... DQ28: =SUM(DQ24:DQ27) -> 0
B31: מדדי התביעות (באחוזים) | C31: ניתוחים בארץ ובחו"ל | J31: השתלות בארץ ובחו"ל | Q31: סיעודי | X31: מחלות קשות | AE31: עובדים זרים | AL31: נכויות | AS31: תאונות אישיות | AZ31: נסיעות לחו"ל (למעט כבודה) | BG31: תרופות
C32: סה"כ | D32: עד 14 יום | E32: 15-30 יום | F32: 31-60 יום | G32: 61-120 יום | H32: 121-180 יום | I32: 181 יום ומעלה | J32: סה"כ | K32: עד 14 יום | L32: 15-30 יום | M32: 31-60 יום | N32: 61-120 יום | O32: 121-180 יום | P32: 181 יום ומעלה | Q32: סה"כ | R32: עד 14 יום | S32: 15-30 יום | T32: 31-60 יום | U32: 61-120 יום | V32: 121-180 יום | W32: 181 יום ומעלה | X32: סה"כ | Y32: עד 14 יום | Z32: 15-30 יום | AA32: 31-60 יום | AB32: 61-120 יום | AC32: 121-180 יום | AD32: 181 יום ומעלה | AE32: סה"כ | AF32: עד 14 יום | AG32: 15-30 יום | AH32: 31-60 יום | AI32: 61-120 יום | AJ32: 121-180 יום | AK32: 181 יום ומעלה | AL32: סה"כ | AM32: עד 14 יום | AN32: 15-30 יום | AO32: 31-60 יום | AP32: 61-120 יום | AQ32: 121-180 יום | AR32: 181 יום ומעלה | AS32: סה"כ | AT32: עד 14 יום | AU32: 15-30 יום | AV32: 31-60 יום | AW32: 61-120 יום | AX32: 121-180 יום | AY32: 181 יום ומעלה | AZ32: סה"כ | BA32: עד 14 יום | BB32: 15-30 יום | BC32: 31-60 יום | BD32: 61-120 יום | BE32: 121-180 יום | BF32: 181 יום ומעלה | BG32: סה"כ | BH32: עד 14 יום | BI32: 15-30 יום | BJ32: 31-60 יום | BK32: 61-120 יום | BL32: 121-180 יום | BM32: 181 יום ומעלה
C33: (1) | D33: (2) | E33: (3) | F33: (4) | G33: (5) | H33: (6) | I33: (7) | J33: (8) | K33: (9) | L33: (10) | M33: (11) | N33: (12) | O33: (13) | P33: (14) | Q33: (15) | R33: (16) | S33: (17) | T33: (18) | U33: (19) | V33: (20) | W33: (21) | X33: (22) | Y33: (23) | Z33: (24) | AA33: (25) | AB33: (26) | AC33: (27) | AD33: (28) | AE33: (29) | AF33: (30) | AG33: (31) | AH33: (32) | AI33: (33) | AJ33: (34) | AK33: (35) | AL33: (36) | AM33: (37) | AN33: (38) | AO33: (39) | AP33: (40) | AQ33: (41) | AR33: (42) | AS33: (43) | AT33: (44) | AU33: (45) | AV33: (46) | AW33: (47) | AX33: (48) | AY33: (49) | AZ33: (50) | BA33: (51) | BB33: (52) | BC33: (53) | BD33: (54) | BE33: (55) | BF33: (56) | BG33: (57) | BH33: (58) | BI33: (59) | BJ33: (60) | BK33: (61) | BL33: (62) | BM33: (63)
A34: א | B34: תביעות:
A35: 3 | B35: תביעות ששולמו | C35: =SUM(D35:I35) -> 0 | D35: =IF((' בריאות א2'!D12+' בריאות א2'!K12)=0,0,(' בריאות א2'!D12+' בריאות א2'!K12)/(' בריאות א2'!$C$17+' בריאות א2'!$J$17)) -> 0 | E35: =IF((' בריאות א2'!E12+' בריאות א2'!L12)=0,0,(' בריאות א2'!E12+' בריאות א2'!L12)/(' בריאות א2'!$C$17+' בריאות א2'!$J$17)) -> 0 | F35: =IF((' בריאות א2'!F12+' בריאות א2'!M12)=0,0,(' בריאות א2'!F12+' בריאות א2'!M12)/(' בריאות א2'!$C$17+' בריאות א2'!$J$17)) -> 0 | G35: =IF((' בריאות א2'!G12+' בריאות א2'!N12)=0,0,(' בריאות א2'!G12+' בריאות א2'!N12)/(' בריאות א2'!$C$17+' בריאות א2'!$J$17)) -> 0 | H35: =IF((' בריאות א2'!H12+' בריאות א2'!O12)=0,0,(' בריאות א2'!H12+' בריאות א2'!O12)/(' בריאות א2'!$C$17+' בריאות א2'!$J$17)) -> 0 | I35: =IF((' בריאות א2'!I12+' בריאות א2'!P12)=0,0,(' בריאות א2'!I12+' בריאות א2'!P12)/(' בריאות א2'!$C$17+' בריאות א2'!$J$17)) -> 0 | J35: =SUM(K35:P35) -> 0 | K35: =IF((' בריאות א2'!R12+' בריאות א2'!Y12)=0,0,(' בריאות א2'!R12+' בריאות א2'!Y12)/(' בריאות א2'!$Q$17+' בריאות א2'!$X$17)) -> 0 | L35: =IF((' בריאות א2'!S12+' בריאות א2'!Z12)=0,0,(' בריאות א2'!S12+' בריאות א2'!Z12)/(' בריאות א2'!$Q$17+' בריאות א2'!$X$17)) -> 0 | M35: =IF((' בריאות א2'!T12+' בריאות א2'!AA12)=0,0,(' בריאות א2'!T12+' בריאות א2'!AA12)/(' בריאות א2'!$Q$17+' בריאות א2'!$X$17)) -> 0 | N35: =IF((' בריאות א2'!U12+' בריאות א2'!AB12)=0,0,(' בריאות א2'!U12+' בריאות א2'!AB12)/(' בריאות א2'!$Q$17+' בריאות א2'!$X$17)) -> 0 | O35: =IF((' בריאות א2'!V12+' בריאות א2'!AC12)=0,0,(' בריאות א2'!V12+' בריאות א2'!AC12)/(' בריאות א2'!$Q$17+' בריאות א2'!$X$17)) -> 0 | P35: =IF((' בריאות א2'!W12+' בריאות א2'!AD12)=0,0,(' בריאות א2'!W12+' בריאות א2'!AD12)/(' בריאות א2'!$Q$17+' בריאות א2'!$X$17)) -> 0 | Q35: =SUM(R35:W35) -> 0 | R35: =IF((' בריאות א2'!AF12+' בריאות א2'!AM12)=0,0,(' בריאות א2'!AF12+' בריאות א2'!AM12)/(' בריאות א2'!$AE$17+' בריאות א2'!$AL$17)) -> 0 | S35: =IF((' בריאות א2'!AG12+' בריאות א2'!AN12)=0,0,(' בריאות א2'!AG12+' בריאות א2'!AN12)/(' בריאות א2'!$AE$17+' בריאות א2'!$AL$17)) -> 0 | T35: =IF((' בריאות א2'!AH12+' בריאות א2'!AO12)=0,0,(' בריאות א2'!AH12+' בריאות א2'!AO12)/(' בריאות א2'!$AE$17+' בריאות א2'!$AL$17)) -> 0 | U35: =IF((' בריאות א2'!AI12+' בריאות א2'!AP12)=0,0,(' בריאות א2'!AI12+' בריאות א2'!AP12)/(' בריאות א2'!$AE$17+' בריאות א2'!$AL$17)) -> 0 | V35: =IF((' בריאות א2'!AJ12+' בריאות א2'!AQ12)=0,0,(' בריאות א2'!AJ12+' בריאות א2'!AQ12)/(' בריאות א2'!$AE$17+' בריאות א2'!$AL$17)) -> 0 | W35: =IF((' בריאות א2'!AK12+' בריאות א2'!AR12)=0,0,(' בריאות א2'!AK12+' בריאות א2'!AR12)/(' בריאות א2'!$AE$17+' בריאות א2'!$AL$17)) -> 0 | X35: =SUM(Y35:AD35) -> 0 | Y35: =IF((' בריאות א2'!AT12+' בריאות א2'!BA12)=0,0,(' בריאות א2'!AT12+' בריאות א2'!BA12)/(' בריאות א2'!$AZ$17+' בריאות א2'!$AS$17)) -> 0 | Z35: =IF((' בריאות א2'!AU12+' בריאות א2'!BB12)=0,0,(' בריאות א2'!AU12+' בריאות א2'!BB12)/(' בריאות א2'!$AZ$17+' בריאות א2'!$AS$17)) -> 0 | AA35: =IF((' בריאות א2'!AV12+' בריאות א2'!BC12)=0,0,(' בריאות א2'!AV12+' בריאות א2'!BC12)/(' בריאות א2'!$AZ$17+' בריאות א2'!$AS$17)) -> 0 | AB35: =IF((' בריאות א2'!AW12+' בריאות א2'!BD12)=0,0,(' בריאות א2'!AW12+' בריאות א2'!BD12)/(' בריאות א2'!$AZ$17+' בריאות א2'!$AS$17)) -> 0 | AC35: =IF((' בריאות א2'!AX12+' בריאות א2'!BE12)=0,0,(' בריאות א2'!AX12+' בריאות א2'!BE12)/(' בריאות א2'!$AZ$17+' בריאות א2'!$AS$17)) -> 0 | AD35: =IF((' בריאות א2'!AY12+' בריאות א2'!BF12)=0,0,(' בריאות א2'!AY12+' בריאות א2'!BF12)/(' בריאות א2'!$AZ$17+' בריאות א2'!$AS$17)) -> 0 | AE35: =SUM(AF35:AK35) -> 0 | AF35: =IF(' בריאות א2'!BH12=0,0,' בריאות א2'!BH12/' בריאות א2'!$BG$17) -> 0 | AG35: =IF(' בריאות א2'!BI12=0,0,' בריאות א2'!BI12/' בריאות א2'!$BG$17) -> 0 | AH35: =IF(' בריאות א2'!BJ12=0,0,' בריאות א2'!BJ12/' בריאות א2'!$BG$17) -> 0 | AI35: =IF(' בריאות א2'!BK12=0,0,' בריאות א2'!BK12/' בריאות א2'!$BG$17) -> 0 | AJ35: =IF(' בריאות א2'!BL12=0,0,' בריאות א2'!BL12/' בריאות א2'!$BG$17) -> 0 | AK35: =IF(' בריאות א2'!BM12=0,0,' בריאות א2'!BM12/' בריאות א2'!$BG$17) -> 0 | AL35: =SUM(AM35:AR35) -> 0 | AM35: =IF((' בריאות א2'!BO12+' בריאות א2'!BV12)=0,0,(' בריאות א2'!BO12+' בריאות א2'!BV12)/(' בריאות א2'!$BN$17+' בריאות א2'!$BU$17)) -> 0 | AN35: =IF((' בריאות א2'!BP12+' בריאות א2'!BW12)=0,0,(' בריאות א2'!BP12+' בריאות א2'!BW12)/(' בריאות א2'!$BN$17+' בריאות א2'!$BU$17)) -> 0 | AO35: =IF((' בריאות א2'!BQ12+' בריאות א2'!BX12)=0,0,(' בריאות א2'!BQ12+' בריאות א2'!BX12)/(' בריאות א2'!$BN$17+' בריאות א2'!$BU$17)) -> 0 | AP35: =IF((' בריאות א2'!BR12+' בריאות א2'!BY12)=0,0,(' בריאות א2'!BR12+' בריאות א2'!BY12)/(' בריאות א2'!$BN$17+' בריאות א2'!$BU$17)) -> 0 | AQ35: =IF((' בריאות א2'!BS12+' בריאות א2'!BZ12)=0,0,(' בריאות א2'!BS12+' בריאות א2'!BZ12)/(' בריאות א2'!$BN$17+' בריאות א2'!$BU$17)) -> 0 | AR35: =IF((' בריאות א2'!BT12+' בריאות א2'!CA12)=0,0,(' בריאות א2'!BT12+' בריאות א2'!CA12)/(' בריאות א2'!$BN$17+' בריאות א2'!$BU$17)) -> 0 | AS35: =SUM(AT35:AY35) -> 0 | AT35: =IF((' בריאות א2'!CC12+' בריאות א2'!CJ12)=0,0,(' בריאות א2'!CC12+' בריאות א2'!CJ12)/(' בריאות א2'!$CB$17+' בריאות א2'!$CI$17)) -> 0 | AU35: =IF((' בריאות א2'!CD12+' בריאות א2'!CK12)=0,0,(' בריאות א2'!CD12+' בריאות א2'!CK12)/(' בריאות א2'!$CB$17+' בריאות א2'!$CI$17)) -> 0 | AV35: =IF((' בריאות א2'!CE12+' בריאות א2'!CL12)=0,0,(' בריאות א2'!CE12+' בריאות א2'!CL12)/(' בריאות א2'!$CB$17+' בריאות א2'!$CI$17)) -> 0 | AW35: =IF((' בריאות א2'!CF12+' בריאות א2'!CM12)=0,0,(' בריאות א2'!CF12+' בריאות א2'!CM12)/(' בריאות א2'!$CB$17+' בריאות א2'!$CI$17)) -> 0 | AX35: =IF((' בריאות א2'!CG12+' בריאות א2'!CN12)=0,0,(' בריאות א2'!CG12+' בריאות א2'!CN12)/(' בריאות א2'!$CB$17+' בריאות א2'!$CI$17)) -> 0 | AY35: =IF((' בריאות א2'!CH12+' בריאות א2'!CO12)=0,0,(' בריאות א2'!CH12+' בריאות א2'!CO12)/(' בריאות א2'!$CB$17+' בריאות א2'!$CI$17)) -> 0 | AZ35: =SUM(BA35:BF35) -> 0 | BA35: =IF((' בריאות א2'!CQ12+' בריאות א2'!CX12)=0,0,(' בריאות א2'!CQ12+' בריאות א2'!CX12)/(' בריאות א2'!$CP$17+' בריאות א2'!$CW$17)) -> 0 | BB35: =IF((' בריאות א2'!CR12+' בריאות א2'!CY12)=0,0,(' בריאות א2'!CR12+' בריאות א2'!CY12)/(' בריאות א2'!$CP$17+' בריאות א2'!$CW$17)) -> 0 | BC35: =IF((' בריאות א2'!CS12+' בריאות א2'!CZ12)=0,0,(' בריאות א2'!CS12+' בריאות א2'!CZ12)/(' בריאות א2'!$CP$17+' בריאות א2'!$CW$17)) -> 0 | BD35: =IF((' בריאות א2'!CT12+' בריאות א2'!DA12)=0,0,(' בריאות א2'!CT12+' בריאות א2'!DA12)/(' בריאות א2'!$CP$17+' בריאות א2'!$CW$17)) -> 0 | BE35: =IF((' בריאות א2'!CU12+' בריאות א2'!DB12)=0,0,(' בריאות א2'!CU12+' בריאות א2'!DB12)/(' בריאות א2'!$CP$17+' בריאות א2'!$CW$17)) -> 0 | BF35: =IF((' בריאות א2'!CV12+' בריאות א2'!DC12)=0,0,(' בריאות א2'!CV12+' בריאות א2'!DC12)/(' בריאות א2'!$CP$17+' בריאות א2'!$CW$17)) -> 0 | BG35: =SUM(BH35:BM35) -> 0 | BH35: =IF((' בריאות א2'!DE12+' בריאות א2'!DL12)=0,0,(' בריאות א2'!DE12+' בריאות א2'!DL12)/(' בריאות א2'!$DD$17+' בריאות א2'!$DK$17)) -> 0 | BI35: =IF((' בריאות א2'!DF12+' בריאות א2'!DM12)=0,0,(' בריאות א2'!DF12+' בריאות א2'!DM12)/(' בריאות א2'!$DD$17+' בריאות א2'!$DK$17)) -> 0 | BJ35: =IF((' בריאות א2'!DG12+' בריאות א2'!DN12)=0,0,(' בריאות א2'!DG12+' בריאות א2'!DN12)/(' בריאות א2'!$DD$17+' בריאות א2'!$DK$17)) -> 0 | BK35: =IF((' בריאות א2'!DH12+' בריאות א2'!DO12)=0,0,(' בריאות א2'!DH12+' בריאות א2'!DO12)/(' בריאות א2'!$DD$17+' בריאות א2'!$DK$17)) -> 0 | BL35: =IF((' בריאות א2'!DI12+' בריאות א2'!DP12)=0,0,(' בריאות א2'!DI12+' בריאות א2'!DP12)/(' בריאות א2'!$DD$17+' בריאות א2'!$DK$17)) -> 0 | BM35: =IF((' בריאות א2'!DJ12+' בריאות א2'!DQ12)=0,0,(' בריאות א2'!DJ12+' בריאות א2'!DQ12)/(' בריאות א2'!$DD$17+' בריאות א2'!$DK$17)) -> 0
A36: 3א | B36: תביעות ששולמו חלקית | C36: =SUM(D36:I36) -> 0 | D36: =IF((' בריאות א2'!D13+' בריאות א2'!K13)=0,0,(' בריאות א2'!D13+' בריאות א2'!K13)/(' בריאות א2'!$C$17+' בריאות א2'!$J$17)) -> 0 | E36: =IF((' בריאות א2'!E13+' בריאות א2'!L13)=0,0,(' בריאות א2'!E13+' בריאות א2'!L13)/(' בריאות א2'!$C$17+' בריאות א2'!$J$17)) -> 0 | F36: =IF((' בריאות א2'!F13+' בריאות א2'!M13)=0,0,(' בריאות א2'!F13+' בריאות א2'!M13)/(' בריאות א2'!$C$17+' בריאות א2'!$J$17)) -> 0 | G36: =IF((' בריאות א2'!G13+' בריאות א2'!N13)=0,0,(' בריאות א2'!G13+' בריאות א2'!N13)/(' בריאות א2'!$C$17+' בריאות א2'!$J$17)) -> 0 | H36: =IF((' בריאות א2'!H13+' בריאות א2'!O13)=0,0,(' בריאות א2'!H13+' בריאות א2'!O13)/(' בריאות א2'!$C$17+' בריאות א2'!$J$17)) -> 0 | I36: =IF((' בריאות א2'!I13+' בריאות א2'!P13)=0,0,(' בריאות א2'!I13+' בריאות א2'!P13)/(' בריאות א2'!$C$17+' בריאות א2'!$J$17)) -> 0 | J36: =SUM(K36:P36) -> 0 | K36: =IF((' בריאות א2'!R13+' בריאות א2'!Y13)=0,0,(' בריאות א2'!R13+' בריאות א2'!Y13)/(' בריאות א2'!$Q$17+' בריאות א2'!$X$17)) -> 0 | L36: =IF((' בריאות א2'!S13+' בריאות א2'!Z13)=0,0,(' בריאות א2'!S13+' בריאות א2'!Z13)/(' בריאות א2'!$Q$17+' בריאות א2'!$X$17)) -> 0 | M36: =IF((' בריאות א2'!T13+' בריאות א2'!AA13)=0,0,(' בריאות א2'!T13+' בריאות א2'!AA13)/(' בריאות א2'!$Q$17+' בריאות א2'!$X$17)) -> 0 | N36: =IF((' בריאות א2'!U13+' בריאות א2'!AB13)=0,0,(' בריאות א2'!U13+' בריאות א2'!AB13)/(' בריאות א2'!$Q$17+' בריאות א2'!$X$17)) -> 0 | O36: =IF((' בריאות א2'!V13+' בריאות א2'!AC13)=0,0,(' בריאות א2'!V13+' בריאות א2'!AC13)/(' בריאות א2'!$Q$17+' בריאות א2'!$X$17)) -> 0 | P36: =IF((' בריאות א2'!W13+' בריאות א2'!AD13)=0,0,(' בריאות א2'!W13+' בריאות א2'!AD13)/(' בריאות א2'!$Q$17+' בריאות א2'!$X$17)) -> 0 | Q36: =SUM(R36:W36) -> 0 | R36: =IF((' בריאות א2'!AF13+' בריאות א2'!AM13)=0,0,(' בריאות א2'!AF13+' בריאות א2'!AM13)/(' בריאות א2'!$AE$17+' בריאות א2'!$AL$17)) -> 0 | S36: =IF((' בריאות א2'!AG13+' בריאות א2'!AN13)=0,0,(' בריאות א2'!AG13+' בריאות א2'!AN13)/(' בריאות א2'!$AE$17+' בריאות א2'!$AL$17)) -> 0 | T36: =IF((' בריאות א2'!AH13+' בריאות א2'!AO13)=0,0,(' בריאות א2'!AH13+' בריאות א2'!AO13)/(' בריאות א2'!$AE$17+' בריאות א2'!$AL$17)) -> 0 | U36: =IF((' בריאות א2'!AI13+' בריאות א2'!AP13)=0,0,(' בריאות א2'!AI13+' בריאות א2'!AP13)/(' בריאות א2'!$AE$17+' בריאות א2'!$AL$17)) -> 0 | V36: =IF((' בריאות א2'!AJ13+' בריאות א2'!AQ13)=0,0,(' בריאות א2'!AJ13+' בריאות א2'!AQ13)/(' בריאות א2'!$AE$17+' בריאות א2'!$AL$17)) -> 0 | W36: =IF((' בריאות א2'!AK13+' בריאות א2'!AR13)=0,0,(' בריאות א2'!AK13+' בריאות א2'!AR13)/(' בריאות א2'!$AE$17+' בריאות א2'!$AL$17)) -> 0 | X36: =SUM(Y36:AD36) -> 0 | Y36: =IF((' בריאות א2'!AT13+' בריאות א2'!BA13)=0,0,(' בריאות א2'!AT13+' בריאות א2'!BA13)/(' בריאות א2'!$AZ$17+' בריאות א2'!$AS$17)) -> 0 | Z36: =IF((' בריאות א2'!AU13+' בריאות א2'!BB13)=0,0,(' בריאות א2'!AU13+' בריאות א2'!BB13)/(' בריאות א2'!$AZ$17+' בריאות א2'!$AS$17)) -> 0 | AA36: =IF((' בריאות א2'!AV13+' בריאות א2'!BC13)=0,0,(' בריאות א2'!AV13+' בריאות א2'!BC13)/(' בריאות א2'!$AZ$17+' בריאות א2'!$AS$17)) -> 0 | AB36: =IF((' בריאות א2'!AW13+' בריאות א2'!BD13)=0,0,(' בריאות א2'!AW13+' בריאות א2'!BD13)/(' בריאות א2'!$AZ$17+' בריאות א2'!$AS$17)) -> 0 | AC36: =IF((' בריאות א2'!AX13+' בריאות א2'!BE13)=0,0,(' בריאות א2'!AX13+' בריאות א2'!BE13)/(' בריאות א2'!$AZ$17+' בריאות א2'!$AS$17)) -> 0 | AD36: =IF((' בריאות א2'!AY13+' בריאות א2'!BF13)=0,0,(' בריאות א2'!AY13+' בריאות א2'!BF13)/(' בריאות א2'!$AZ$17+' בריאות א2'!$AS$17)) -> 0 | AE36: =SUM(AF36:AK36) -> 0 | AF36: =IF(' בריאות א2'!BH13=0,0,' בריאות א2'!BH13/' בריאות א2'!$BG$17) -> 0 | AG36: =IF(' בריאות א2'!BI13=0,0,' בריאות א2'!BI13/' בריאות א2'!$BG$17) -> 0 | AH36: =IF(' בריאות א2'!BJ13=0,0,' בריאות א2'!BJ13/' בריאות א2'!$BG$17) -> 0 | AI36: =IF(' בריאות א2'!BK13=0,0,' בריאות א2'!BK13/' בריאות א2'!$BG$17) -> 0 | AJ36: =IF(' בריאות א2'!BL13=0,0,' בריאות א2'!BL13/' בריאות א2'!$BG$17) -> 0 | AK36: =IF(' בריאות א2'!BM13=0,0,' בריאות א2'!BM13/' בריאות א2'!$BG$17) -> 0 | AL36: =SUM(AM36:AR36) -> 0 | AM36: =IF((' בריאות א2'!BO13+' בריאות א2'!BV13)=0,0,(' בריאות א2'!BO13+' בריאות א2'!BV13)/(' בריאות א2'!$BN$17+' בריאות א2'!$BU$17)) -> 0 | AN36: =IF((' בריאות א2'!BP13+' בריאות א2'!BW13)=0,0,(' בריאות א2'!BP13+' בריאות א2'!BW13)/(' בריאות א2'!$BN$17+' בריאות א2'!$BU$17)) -> 0 | AO36: =IF((' בריאות א2'!BQ13+' בריאות א2'!BX13)=0,0,(' בריאות א2'!BQ13+' בריאות א2'!BX13)/(' בריאות א2'!$BN$17+' בריאות א2'!$BU$17)) -> 0 | AP36: =IF((' בריאות א2'!BR13+' בריאות א2'!BY13)=0,0,(' בריאות א2'!BR13+' בריאות א2'!BY13)/(' בריאות א2'!$BN$17+' בריאות א2'!$BU$17)) -> 0 | AQ36: =IF((' בריאות א2'!BS13+' בריאות א2'!BZ13)=0,0,(' בריאות א2'!BS13+' בריאות א2'!BZ13)/(' בריאות א2'!$BN$17+' בריאות א2'!$BU$17)) -> 0 | AR36: =IF((' בריאות א2'!BT13+' בריאות א2'!CA13)=0,0,(' בריאות א2'!BT13+' בריאות א2'!CA13)/(' בריאות א2'!$BN$17+' בריאות א2'!$BU$17)) -> 0 | AS36: =SUM(AT36:AY36) -> 0 | AT36: =IF((' בריאות א2'!CC13+' בריאות א2'!CJ13)=0,0,(' בריאות א2'!CC13+' בריאות א2'!CJ13)/(' בריאות א2'!$CB$17+' בריאות א2'!$CI$17)) -> 0 | AU36: =IF((' בריאות א2'!CD13+' בריאות א2'!CK13)=0,0,(' בריאות א2'!CD13+' בריאות א2'!CK13)/(' בריאות א2'!$CB$17+' בריאות א2'!$CI$17)) -> 0 | AV36: =IF((' בריאות א2'!CE13+' בריאות א2'!CL13)=0,0,(' בריאות א2'!CE13+' בריאות א2'!CL13)/(' בריאות א2'!$CB$17+' בריאות א2'!$CI$17)) -> 0 | AW36: =IF((' בריאות א2'!CF13+' בריאות א2'!CM13)=0,0,(' בריאות א2'!CF13+' בריאות א2'!CM13)/(' בריאות א2'!$CB$17+' בריאות א2'!$CI$17)) -> 0 | AX36: =IF((' בריאות א2'!CG13+' בריאות א2'!CN13)=0,0,(' בריאות א2'!CG13+' בריאות א2'!CN13)/(' בריאות א2'!$CB$17+' בריאות א2'!$CI$17)) -> 0 | AY36: =IF((' בריאות א2'!CH13+' בריאות א2'!CO13)=0,0,(' בריאות א2'!CH13+' בריאות א2'!CO13)/(' בריאות א2'!$CB$17+' בריאות א2'!$CI$17)) -> 0 | AZ36: =SUM(BA36:BF36) -> 0 | BA36: =IF((' בריאות א2'!CQ13+' בריאות א2'!CX13)=0,0,(' בריאות א2'!CQ13+' בריאות א2'!CX13)/(' בריאות א2'!$CP$17+' בריאות א2'!$CW$17)) -> 0 | BB36: =IF((' בריאות א2'!CR13+' בריאות א2'!CY13)=0,0,(' בריאות א2'!CR13+' בריאות א2'!CY13)/(' בריאות א2'!$CP$17+' בריאות א2'!$CW$17)) -> 0 | BC36: =IF((' בריאות א2'!CS13+' בריאות א2'!CZ13)=0,0,(' בריאות א2'!CS13+' בריאות א2'!CZ13)/(' בריאות א2'!$CP$17+' בריאות א2'!$CW$17)) -> 0 | BD36: =IF((' בריאות א2'!CT13+' בריאות א2'!DA13)=0,0,(' בריאות א2'!CT13+' בריאות א2'!DA13)/(' בריאות א2'!$CP$17+' בריאות א2'!$CW$17)) -> 0 | BE36: =IF((' בריאות א2'!CU13+' בריאות א2'!DB13)=0,0,(' בריאות א2'!CU13+' בריאות א2'!DB13)/(' בריאות א2'!$CP$17+' בריאות א2'!$CW$17)) -> 0 | BF36: =IF((' בריאות א2'!CV13+' בריאות א2'!DC13)=0,0,(' בריאות א2'!CV13+' בריאות א2'!DC13)/(' בריאות א2'!$CP$17+' בריאות א2'!$CW$17)) -> 0 | BG36: =SUM(BH36:BM36) -> 0 | BH36: =IF((' בריאות א2'!DE13+' בריאות א2'!DL13)=0,0,(' בריאות א2'!DE13+' בריאות א2'!DL13)/(' בריאות א2'!$DD$17+' בריאות א2'!$DK$17)) -> 0 | BI36: =IF((' בריאות א2'!DF13+' בריאות א2'!DM13)=0,0,(' בריאות א2'!DF13+' בריאות א2'!DM13)/(' בריאות א2'!$DD$17+' בריאות א2'!$DK$17)) -> 0 | BJ36: =IF((' בריאות א2'!DG13+' בריאות א2'!DN13)=0,0,(' בריאות א2'!DG13+' בריאות א2'!DN13)/(' בריאות א2'!$DD$17+' בריאות א2'!$DK$17)) -> 0 | BK36: =IF((' בריאות א2'!DH13+' בריאות א2'!DO13)=0,0,(' בריאות א2'!DH13+' בריאות א2'!DO13)/(' בריאות א2'!$DD$17+' בריאות א2'!$DK$17)) -> 0 | BL36: =IF((' בריאות א2'!DI13+' בריאות א2'!DP13)=0,0,(' בריאות א2'!DI13+' בריאות א2'!DP13)/(' בריאות א2'!$DD$17+' בריאות א2'!$DK$17)) -> 0 | BM36: =IF((' בריאות א2'!DJ13+' בריאות א2'!DQ13)=0,0,(' בריאות א2'!DJ13+' בריאות א2'!DQ13)/(' בריאות א2'!$DD$17+' בריאות א2'!$DK$17)) -> 0
A37: 4 | B37: תביעות שנדחו | C37: =SUM(D37:I37) -> 0 | D37: =IF((' בריאות א2'!D14+' בריאות א2'!K14)=0,0,(' בריאות א2'!D14+' בריאות א2'!K14)/(' בריאות א2'!$C$17+' בריאות א2'!$J$17)) -> 0 | E37: =IF((' בריאות א2'!E14+' בריאות א2'!L14)=0,0,(' בריאות א2'!E14+' בריאות א2'!L14)/(' בריאות א2'!$C$17+' בריאות א2'!$J$17)) -> 0 | F37: =IF((' בריאות א2'!F14+' בריאות א2'!M14)=0,0,(' בריאות א2'!F14+' בריאות א2'!M14)/(' בריאות א2'!$C$17+' בריאות א2'!$J$17)) -> 0 | G37: =IF((' בריאות א2'!G14+' בריאות א2'!N14)=0,0,(' בריאות א2'!G14+' בריאות א2'!N14)/(' בריאות א2'!$C$17+' בריאות א2'!$J$17)) -> 0 | H37: =IF((' בריאות א2'!H14+' בריאות א2'!O14)=0,0,(' בריאות א2'!H14+' בריאות א2'!O14)/(' בריאות א2'!$C$17+' בריאות א2'!$J$17)) -> 0 | I37: =IF((' בריאות א2'!I14+' בריאות א2'!P14)=0,0,(' בריאות א2'!I14+' בריאות א2'!P14)/(' בריאות א2'!$C$17+' בריאות א2'!$J$17)) -> 0 | J37: =SUM(K37:P37) -> 0 | K37: =IF((' בריאות א2'!R14+' בריאות א2'!Y14)=0,0,(' בריאות א2'!R14+' בריאות א2'!Y14)/(' בריאות א2'!$Q$17+' בריאות א2'!$X$17)) -> 0 | L37: =IF((' בריאות א2'!S14+' בריאות א2'!Z14)=0,0,(' בריאות א2'!S14+' בריאות א2'!Z14)/(' בריאות א2'!$Q$17+' בריאות א2'!$X$17)) -> 0 | M37: =IF((' בריאות א2'!T14+' בריאות א2'!AA14)=0,0,(' בריאות א2'!T14+' בריאות א2'!AA14)/(' בריאות א2'!$Q$17+' בריאות א2'!$X$17)) -> 0 | N37: =IF((' בריאות א2'!U14+' בריאות א2'!AB14)=0,0,(' בריאות א2'!U14+' בריאות א2'!AB14)/(' בריאות א2'!$Q$17+' בריאות א2'!$X$17)) -> 0 | O37: =IF((' בריאות א2'!V14+' בריאות א2'!AC14)=0,0,(' בריאות א2'!V14+' בריאות א2'!AC14)/(' בריאות א2'!$Q$17+' בריאות א2'!$X$17)) -> 0 | P37: =IF((' בריאות א2'!W14+' בריאות א2'!AD14)=0,0,(' בריאות א2'!W14+' בריאות א2'!AD14)/(' בריאות א2'!$Q$17+' בריאות א2'!$X$17)) -> 0 | Q37: =SUM(R37:W37) -> 0 | R37: =IF((' בריאות א2'!AF14+' בריאות א2'!AM14)=0,0,(' בריאות א2'!AF14+' בריאות א2'!AM14)/(' בריאות א2'!$AE$17+' בריאות א2'!$AL$17)) -> 0 | S37: =IF((' בריאות א2'!AG14+' בריאות א2'!AN14)=0,0,(' בריאות א2'!AG14+' בריאות א2'!AN14)/(' בריאות א2'!$AE$17+' בריאות א2'!$AL$17)) -> 0 | T37: =IF((' בריאות א2'!AH14+' בריאות א2'!AO14)=0,0,(' בריאות א2'!AH14+' בריאות א2'!AO14)/(' בריאות א2'!$AE$17+' בריאות א2'!$AL$17)) -> 0 | U37: =IF((' בריאות א2'!AI14+' בריאות א2'!AP14)=0,0,(' בריאות א2'!AI14+' בריאות א2'!AP14)/(' בריאות א2'!$AE$17+' בריאות א2'!$AL$17)) -> 0 | V37: =IF((' בריאות א2'!AJ14+' בריאות א2'!AQ14)=0,0,(' בריאות א2'!AJ14+' בריאות א2'!AQ14)/(' בריאות א2'!$AE$17+' בריאות א2'!$AL$17)) -> 0 | W37: =IF((' בריאות א2'!AK14+' בריאות א2'!AR14)=0,0,(' בריאות א2'!AK14+' בריאות א2'!AR14)/(' בריאות א2'!$AE$17+' בריאות א2'!$AL$17)) -> 0 | X37: =SUM(Y37:AD37) -> 0 | Y37: =IF((' בריאות א2'!AT14+' בריאות א2'!BA14)=0,0,(' בריאות א2'!AT14+' בריאות א2'!BA14)/(' בריאות א2'!$AZ$17+' בריאות א2'!$AS$17)) -> 0 | Z37: =IF((' בריאות א2'!AU14+' בריאות א2'!BB14)=0,0,(' בריאות א2'!AU14+' בריאות א2'!BB14)/(' בריאות א2'!$AZ$17+' בריאות א2'!$AS$17)) -> 0 | AA37: =IF((' בריאות א2'!AV14+' בריאות א2'!BC14)=0,0,(' בריאות א2'!AV14+' בריאות א2'!BC14)/(' בריאות א2'!$AZ$17+' בריאות א2'!$AS$17)) -> 0 | AB37: =IF((' בריאות א2'!AW14+' בריאות א2'!BD14)=0,0,(' בריאות א2'!AW14+' בריאות א2'!BD14)/(' בריאות א2'!$AZ$17+' בריאות א2'!$AS$17)) -> 0 | AC37: =IF((' בריאות א2'!AX14+' בריאות א2'!BE14)=0,0,(' בריאות א2'!AX14+' בריאות א2'!BE14)/(' בריאות א2'!$AZ$17+' בריאות א2'!$AS$17)) -> 0 | AD37: =IF((' בריאות א2'!AY14+' בריאות א2'!BF14)=0,0,(' בריאות א2'!AY14+' בריאות א2'!BF14)/(' בריאות א2'!$AZ$17+' בריאות א2'!$AS$17)) -> 0 | AE37: =SUM(AF37:AK37) -> 0 | AF37: =IF(' בריאות א2'!BH14=0,0,' בריאות א2'!BH14/' בריאות א2'!$BG$17) -> 0 | AG37: =IF(' בריאות א2'!BI14=0,0,' בריאות א2'!BI14/' בריאות א2'!$BG$17) -> 0 | AH37: =IF(' בריאות א2'!BJ14=0,0,' בריאות א2'!BJ14/' בריאות א2'!$BG$17) -> 0 | AI37: =IF(' בריאות א2'!BK14=0,0,' בריאות א2'!BK14/' בריאות א2'!$BG$17) -> 0 | AJ37: =IF(' בריאות א2'!BL14=0,0,' בריאות א2'!BL14/' בריאות א2'!$BG$17) -> 0 | AK37: =IF(' בריאות א2'!BM14=0,0,' בריאות א2'!BM14/' בריאות א2'!$BG$17) -> 0 | AL37: =SUM(AM37:AR37) -> 0 | AM37: =IF((' בריאות א2'!BO14+' בריאות א2'!BV14)=0,0,(' בריאות א2'!BO14+' בריאות א2'!BV14)/(' בריאות א2'!$BN$17+' בריאות א2'!$BU$17)) -> 0 | AN37: =IF((' בריאות א2'!BP14+' בריאות א2'!BW14)=0,0,(' בריאות א2'!BP14+' בריאות א2'!BW14)/(' בריאות א2'!$BN$17+' בריאות א2'!$BU$17)) -> 0 | AO37: =IF((' בריאות א2'!BQ14+' בריאות א2'!BX14)=0,0,(' בריאות א2'!BQ14+' בריאות א2'!BX14)/(' בריאות א2'!$BN$17+' בריאות א2'!$BU$17)) -> 0 | AP37: =IF((' בריאות א2'!BR14+' בריאות א2'!BY14)=0,0,(' בריאות א2'!BR14+' בריאות א2'!BY14)/(' בריאות א2'!$BN$17+' בריאות א2'!$BU$17)) -> 0 | AQ37: =IF((' בריאות א2'!BS14+' בריאות א2'!BZ14)=0,0,(' בריאות א2'!BS14+' בריאות א2'!BZ14)/(' בריאות א2'!$BN$17+' בריאות א2'!$BU$17)) -> 0 | AR37: =IF((' בריאות א2'!BT14+' בריאות א2'!CA14)=0,0,(' בריאות א2'!BT14+' בריאות א2'!CA14)/(' בריאות א2'!$BN$17+' בריאות א2'!$BU$17)) -> 0 | AS37: =SUM(AT37:AY37) -> 0 | AT37: =IF((' בריאות א2'!CC14+' בריאות א2'!CJ14)=0,0,(' בריאות א2'!CC14+' בריאות א2'!CJ14)/(' בריאות א2'!$CB$17+' בריאות א2'!$CI$17)) -> 0 | AU37: =IF((' בריאות א2'!CD14+' בריאות א2'!CK14)=0,0,(' בריאות א2'!CD14+' בריאות א2'!CK14)/(' בריאות א2'!$CB$17+' בריאות א2'!$CI$17)) -> 0 | AV37: =IF((' בריאות א2'!CE14+' בריאות א2'!CL14)=0,0,(' בריאות א2'!CE14+' בריאות א2'!CL14)/(' בריאות א2'!$CB$17+' בריאות א2'!$CI$17)) -> 0 | AW37: =IF((' בריאות א2'!CF14+' בריאות א2'!CM14)=0,0,(' בריאות א2'!CF14+' בריאות א2'!CM14)/(' בריאות א2'!$CB$17+' בריאות א2'!$CI$17)) -> 0 | AX37: =IF((' בריאות א2'!CG14+' בריאות א2'!CN14)=0,0,(' בריאות א2'!CG14+' בריאות א2'!CN14)/(' בריאות א2'!$CB$17+' בריאות א2'!$CI$17)) -> 0 | AY37: =IF((' בריאות א2'!CH14+' בריאות א2'!CO14)=0,0,(' בריאות א2'!CH14+' בריאות א2'!CO14)/(' בריאות א2'!$CB$17+' בריאות א2'!$CI$17)) -> 0 | AZ37: =SUM(BA37:BF37) -> 0 | BA37: =IF((' בריאות א2'!CQ14+' בריאות א2'!CX14)=0,0,(' בריאות א2'!CQ14+' בריאות א2'!CX14)/(' בריאות א2'!$CP$17+' בריאות א2'!$CW$17)) -> 0 | BB37: =IF((' בריאות א2'!CR14+' בריאות א2'!CY14)=0,0,(' בריאות א2'!CR14+' בריאות א2'!CY14)/(' בריאות א2'!$CP$17+' בריאות א2'!$CW$17)) -> 0 | BC37: =IF((' בריאות א2'!CS14+' בריאות א2'!CZ14)=0,0,(' בריאות א2'!CS14+' בריאות א2'!CZ14)/(' בריאות א2'!$CP$17+' בריאות א2'!$CW$17)) -> 0 | BD37: =IF((' בריאות א2'!CT14+' בריאות א2'!DA14)=0,0,(' בריאות א2'!CT14+' בריאות א2'!DA14)/(' בריאות א2'!$CP$17+' בריאות א2'!$CW$17)) -> 0 | BE37: =IF((' בריאות א2'!CU14+' בריאות א2'!DB14)=0,0,(' בריאות א2'!CU14+' בריאות א2'!DB14)/(' בריאות א2'!$CP$17+' בריאות א2'!$CW$17)) -> 0 | BF37: =IF((' בריאות א2'!CV14+' בריאות א2'!DC14)=0,0,(' בריאות א2'!CV14+' בריאות א2'!DC14)/(' בריאות א2'!$CP$17+' בריאות א2'!$CW$17)) -> 0 | BG37: =SUM(BH37:BM37) -> 0 | BH37: =IF((' בריאות א2'!DE14+' בריאות א2'!DL14)=0,0,(' בריאות א2'!DE14+' בריאות א2'!DL14)/(' בריאות א2'!$DD$17+' בריאות א2'!$DK$17)) -> 0 | BI37: =IF((' בריאות א2'!DF14+' בריאות א2'!DM14)=0,0,(' בריאות א2'!DF14+' בריאות א2'!DM14)/(' בריאות א2'!$DD$17+' בריאות א2'!$DK$17)) -> 0 | BJ37: =IF((' בריאות א2'!DG14+' בריאות א2'!DN14)=0,0,(' בריאות א2'!DG14+' בריאות א2'!DN14)/(' בריאות א2'!$DD$17+' בריאות א2'!$DK$17)) -> 0 | BK37: =IF((' בריאות א2'!DH14+' בריאות א2'!DO14)=0,0,(' בריאות א2'!DH14+' בריאות א2'!DO14)/(' בריאות א2'!$DD$17+' בריאות א2'!$DK$17)) -> 0 | BL37: =IF((' בריאות א2'!DI14+' בריאות א2'!DP14)=0,0,(' בריאות א2'!DI14+' בריאות א2'!DP14)/(' בריאות א2'!$DD$17+' בריאות א2'!$DK$17)) -> 0 | BM37: =IF((' בריאות א2'!DJ14+' בריאות א2'!DQ14)=0,0,(' בריאות א2'!DJ14+' בריאות א2'!DQ14)/(' בריאות א2'!$DD$17+' בריאות א2'!$DK$17)) -> 0
A38: 5 | B38: תביעות שנסגרו בפשרה | C38: =SUM(D38:I38) -> 0 | D38: =IF((' בריאות א2'!D15+' בריאות א2'!K15)=0,0,(' בריאות א2'!D15+' בריאות א2'!K15)/(' בריאות א2'!$C$17+' בריאות א2'!$J$17)) -> 0 | E38: =IF((' בריאות א2'!E15+' בריאות א2'!L15)=0,0,(' בריאות א2'!E15+' בריאות א2'!L15)/(' בריאות א2'!$C$17+' בריאות א2'!$J$17)) -> 0 | F38: =IF((' בריאות א2'!F15+' בריאות א2'!M15)=0,0,(' בריאות א2'!F15+' בריאות א2'!M15)/(' בריאות א2'!$C$17+' בריאות א2'!$J$17)) -> 0 | G38: =IF((' בריאות א2'!G15+' בריאות א2'!N15)=0,0,(' בריאות א2'!G15+' בריאות א2'!N15)/(' בריאות א2'!$C$17+' בריאות א2'!$J$17)) -> 0 | H38: =IF((' בריאות א2'!H15+' בריאות א2'!O15)=0,0,(' בריאות א2'!H15+' בריאות א2'!O15)/(' בריאות א2'!$C$17+' בריאות א2'!$J$17)) -> 0 | I38: =IF((' בריאות א2'!I15+' בריאות א2'!P15)=0,0,(' בריאות א2'!I15+' בריאות א2'!P15)/(' בריאות א2'!$C$17+' בריאות א2'!$J$17)) -> 0 | J38: =SUM(K38:P38) -> 0 | K38: =IF((' בריאות א2'!R15+' בריאות א2'!Y15)=0,0,(' בריאות א2'!R15+' בריאות א2'!Y15)/(' בריאות א2'!$Q$17+' בריאות א2'!$X$17)) -> 0 | L38: =IF((' בריאות א2'!S15+' בריאות א2'!Z15)=0,0,(' בריאות א2'!S15+' בריאות א2'!Z15)/(' בריאות א2'!$Q$17+' בריאות א2'!$X$17)) -> 0 | M38: =IF((' בריאות א2'!T15+' בריאות א2'!AA15)=0,0,(' בריאות א2'!T15+' בריאות א2'!AA15)/(' בריאות א2'!$Q$17+' בריאות א2'!$X$17)) -> 0 | N38: =IF((' בריאות א2'!U15+' בריאות א2'!AB15)=0,0,(' בריאות א2'!U15+' בריאות א2'!AB15)/(' בריאות א2'!$Q$17+' בריאות א2'!$X$17)) -> 0 | O38: =IF((' בריאות א2'!V15+' בריאות א2'!AC15)=0,0,(' בריאות א2'!V15+' בריאות א2'!AC15)/(' בריאות א2'!$Q$17+' בריאות א2'!$X$17)) -> 0 | P38: =IF((' בריאות א2'!W15+' בריאות א2'!AD15)=0,0,(' בריאות א2'!W15+' בריאות א2'!AD15)/(' בריאות א2'!$Q$17+' בריאות א2'!$X$17)) -> 0 | Q38: =SUM(R38:W38) -> 0 | R38: =IF((' בריאות א2'!AF15+' בריאות א2'!AM15)=0,0,(' בריאות א2'!AF15+' בריאות א2'!AM15)/(' בריאות א2'!$AE$17+' בריאות א2'!$AL$17)) -> 0 | S38: =IF((' בריאות א2'!AG15+' בריאות א2'!AN15)=0,0,(' בריאות א2'!AG15+' בריאות א2'!AN15)/(' בריאות א2'!$AE$17+' בריאות א2'!$AL$17)) -> 0 | T38: =IF((' בריאות א2'!AH15+' בריאות א2'!AO15)=0,0,(' בריאות א2'!AH15+' בריאות א2'!AO15)/(' בריאות א2'!$AE$17+' בריאות א2'!$AL$17)) -> 0 | U38: =IF((' בריאות א2'!AI15+' בריאות א2'!AP15)=0,0,(' בריאות א2'!AI15+' בריאות א2'!AP15)/(' בריאות א2'!$AE$17+' בריאות א2'!$AL$17)) -> 0 | V38: =IF((' בריאות א2'!AJ15+' בריאות א2'!AQ15)=0,0,(' בריאות א2'!AJ15+' בריאות א2'!AQ15)/(' בריאות א2'!$AE$17+' בריאות א2'!$AL$17)) -> 0 | W38: =IF((' בריאות א2'!AK15+' בריאות א2'!AR15)=0,0,(' בריאות א2'!AK15+' בריאות א2'!AR15)/(' בריאות א2'!$AE$17+' בריאות א2'!$AL$17)) -> 0 | X38: =SUM(Y38:AD38) -> 0 | Y38: =IF((' בריאות א2'!AT15+' בריאות א2'!BA15)=0,0,(' בריאות א2'!AT15+' בריאות א2'!BA15)/(' בריאות א2'!$AZ$17+' בריאות א2'!$AS$17)) -> 0 | Z38: =IF((' בריאות א2'!AU15+' בריאות א2'!BB15)=0,0,(' בריאות א2'!AU15+' בריאות א2'!BB15)/(' בריאות א2'!$AZ$17+' בריאות א2'!$AS$17)) -> 0 | AA38: =IF((' בריאות א2'!AV15+' בריאות א2'!BC15)=0,0,(' בריאות א2'!AV15+' בריאות א2'!BC15)/(' בריאות א2'!$AZ$17+' בריאות א2'!$AS$17)) -> 0 | AB38: =IF((' בריאות א2'!AW15+' בריאות א2'!BD15)=0,0,(' בריאות א2'!AW15+' בריאות א2'!BD15)/(' בריאות א2'!$AZ$17+' בריאות א2'!$AS$17)) -> 0 | AC38: =IF((' בריאות א2'!AX15+' בריאות א2'!BE15)=0,0,(' בריאות א2'!AX15+' בריאות א2'!BE15)/(' בריאות א2'!$AZ$17+' בריאות א2'!$AS$17)) -> 0 | AD38: =IF((' בריאות א2'!AY15+' בריאות א2'!BF15)=0,0,(' בריאות א2'!AY15+' בריאות א2'!BF15)/(' בריאות א2'!$AZ$17+' בריאות א2'!$AS$17)) -> 0 | AE38: =SUM(AF38:AK38) -> 0 | AF38: =IF(' בריאות א2'!BH15=0,0,' בריאות א2'!BH15/' בריאות א2'!$BG$17) -> 0 | AG38: =IF(' בריאות א2'!BI15=0,0,' בריאות א2'!BI15/' בריאות א2'!$BG$17) -> 0 | AH38: =IF(' בריאות א2'!BJ15=0,0,' בריאות א2'!BJ15/' בריאות א2'!$BG$17) -> 0 | AI38: =IF(' בריאות א2'!BK15=0,0,' בריאות א2'!BK15/' בריאות א2'!$BG$17) -> 0 | AJ38: =IF(' בריאות א2'!BL15=0,0,' בריאות א2'!BL15/' בריאות א2'!$BG$17) -> 0 | AK38: =IF(' בריאות א2'!BM15=0,0,' בריאות א2'!BM15/' בריאות א2'!$BG$17) -> 0 | AL38: =SUM(AM38:AR38) -> 0 | AM38: =IF((' בריאות א2'!BO15+' בריאות א2'!BV15)=0,0,(' בריאות א2'!BO15+' בריאות א2'!BV15)/(' בריאות א2'!$BN$17+' בריאות א2'!$BU$17)) -> 0 | AN38: =IF((' בריאות א2'!BP15+' בריאות א2'!BW15)=0,0,(' בריאות א2'!BP15+' בריאות א2'!BW15)/(' בריאות א2'!$BN$17+' בריאות א2'!$BU$17)) -> 0 | AO38: =IF((' בריאות א2'!BQ15+' בריאות א2'!BX15)=0,0,(' בריאות א2'!BQ15+' בריאות א2'!BX15)/(' בריאות א2'!$BN$17+' בריאות א2'!$BU$17)) -> 0 | AP38: =IF((' בריאות א2'!BR15+' בריאות א2'!BY15)=0,0,(' בריאות א2'!BR15+' בריאות א2'!BY15)/(' בריאות א2'!$BN$17+' בריאות א2'!$BU$17)) -> 0 | AQ38: =IF((' בריאות א2'!BS15+' בריאות א2'!BZ15)=0,0,(' בריאות א2'!BS15+' בריאות א2'!BZ15)/(' בריאות א2'!$BN$17+' בריאות א2'!$BU$17)) -> 0 | AR38: =IF((' בריאות א2'!BT15+' בריאות א2'!CA15)=0,0,(' בריאות א2'!BT15+' בריאות א2'!CA15)/(' בריאות א2'!$BN$17+' בריאות א2'!$BU$17)) -> 0 | AS38: =SUM(AT38:AY38) -> 0 | AT38: =IF((' בריאות א2'!CC15+' בריאות א2'!CJ15)=0,0,(' בריאות א2'!CC15+' בריאות א2'!CJ15)/(' בריאות א2'!$CB$17+' בריאות א2'!$CI$17)) -> 0 | AU38: =IF((' בריאות א2'!CD15+' בריאות א2'!CK15)=0,0,(' בריאות א2'!CD15+' בריאות א2'!CK15)/(' בריאות א2'!$CB$17+' בריאות א2'!$CI$17)) -> 0 | AV38: =IF((' בריאות א2'!CE15+' בריאות א2'!CL15)=0,0,(' בריאות א2'!CE15+' בריאות א2'!CL15)/(' בריאות א2'!$CB$17+' בריאות א2'!$CI$17)) -> 0 | AW38: =IF((' בריאות א2'!CF15+' בריאות א2'!CM15)=0,0,(' בריאות א2'!CF15+' בריאות א2'!CM15)/(' בריאות א2'!$CB$17+' בריאות א2'!$CI$17)) -> 0 | AX38: =IF((' בריאות א2'!CG15+' בריאות א2'!CN15)=0,0,(' בריאות א2'!CG15+' בריאות א2'!CN15)/(' בריאות א2'!$CB$17+' בריאות א2'!$CI$17)) -> 0 | AY38: =IF((' בריאות א2'!CH15+' בריאות א2'!CO15)=0,0,(' בריאות א2'!CH15+' בריאות א2'!CO15)/(' בריאות א2'!$CB$17+' בריאות א2'!$CI$17)) -> 0 | AZ38: =SUM(BA38:BF38) -> 0 | BA38: =IF((' בריאות א2'!CQ15+' בריאות א2'!CX15)=0,0,(' בריאות א2'!CQ15+' בריאות א2'!CX15)/(' בריאות א2'!$CP$17+' בריאות א2'!$CW$17)) -> 0 | BB38: =IF((' בריאות א2'!CR15+' בריאות א2'!CY15)=0,0,(' בריאות א2'!CR15+' בריאות א2'!CY15)/(' בריאות א2'!$CP$17+' בריאות א2'!$CW$17)) -> 0 | BC38: =IF((' בריאות א2'!CS15+' בריאות א2'!CZ15)=0,0,(' בריאות א2'!CS15+' בריאות א2'!CZ15)/(' בריאות א2'!$CP$17+' בריאות א2'!$CW$17)) -> 0 | BD38: =IF((' בריאות א2'!CT15+' בריאות א2'!DA15)=0,0,(' בריאות א2'!CT15+' בריאות א2'!DA15)/(' בריאות א2'!$CP$17+' בריאות א2'!$CW$17)) -> 0 | BE38: =IF((' בריאות א2'!CU15+' בריאות א2'!DB15)=0,0,(' בריאות א2'!CU15+' בריאות א2'!DB15)/(' בריאות א2'!$CP$17+' בריאות א2'!$CW$17)) -> 0 | BF38: =IF((' בריאות א2'!CV15+' בריאות א2'!DC15)=0,0,(' בריאות א2'!CV15+' בריאות א2'!DC15)/(' בריאות א2'!$CP$17+' בריאות א2'!$CW$17)) -> 0 | BG38: =SUM(BH38:BM38) -> 0 | BH38: =IF((' בריאות א2'!DE15+' בריאות א2'!DL15)=0,0,(' בריאות א2'!DE15+' בריאות א2'!DL15)/(' בריאות א2'!$DD$17+' בריאות א2'!$DK$17)) -> 0 | BI38: =IF((' בריאות א2'!DF15+' בריאות א2'!DM15)=0,0,(' בריאות א2'!DF15+' בריאות א2'!DM15)/(' בריאות א2'!$DD$17+' בריאות א2'!$DK$17)) -> 0 | BJ38: =IF((' בריאות א2'!DG15+' בריאות א2'!DN15)=0,0,(' בריאות א2'!DG15+' בריאות א2'!DN15)/(' בריאות א2'!$DD$17+' בריאות א2'!$DK$17)) -> 0 | BK38: =IF((' בריאות א2'!DH15+' בריאות א2'!DO15)=0,0,(' בריאות א2'!DH15+' בריאות א2'!DO15)/(' בריאות א2'!$DD$17+' בריאות א2'!$DK$17)) -> 0 | BL38: =IF((' בריאות א2'!DI15+' בריאות א2'!DP15)=0,0,(' בריאות א2'!DI15+' בריאות א2'!DP15)/(' בריאות א2'!$DD$17+' בריאות א2'!$DK$17)) -> 0 | BM38: =IF((' בריאות א2'!DJ15+' בריאות א2'!DQ15)=0,0,(' בריאות א2'!DJ15+' בריאות א2'!DQ15)/(' בריאות א2'!$DD$17+' בריאות א2'!$DK$17)) -> 0
A39: 6 | B39: תביעות שבוטלו | C39: =SUM(D39:I39) -> 0 | D39: =IF((' בריאות א2'!D16+' בריאות א2'!K16)=0,0,(' בריאות א2'!D16+' בריאות א2'!K16)/(' בריאות א2'!$C$17+' בריאות א2'!$J$17)) -> 0 | E39: =IF((' בריאות א2'!E16+' בריאות א2'!L16)=0,0,(' בריאות א2'!E16+' בריאות א2'!L16)/(' בריאות א2'!$C$17+' בריאות א2'!$J$17)) -> 0 | F39: =IF((' בריאות א2'!F16+' בריאות א2'!M16)=0,0,(' בריאות א2'!F16+' בריאות א2'!M16)/(' בריאות א2'!$C$17+' בריאות א2'!$J$17)) -> 0 | G39: =IF((' בריאות א2'!G16+' בריאות א2'!N16)=0,0,(' בריאות א2'!G16+' בריאות א2'!N16)/(' בריאות א2'!$C$17+' בריאות א2'!$J$17)) -> 0 | H39: =IF((' בריאות א2'!H16+' בריאות א2'!O16)=0,0,(' בריאות א2'!H16+' בריאות א2'!O16)/(' בריאות א2'!$C$17+' בריאות א2'!$J$17)) -> 0 | I39: =IF((' בריאות א2'!I16+' בריאות א2'!P16)=0,0,(' בריאות א2'!I16+' בריאות א2'!P16)/(' בריאות א2'!$C$17+' בריאות א2'!$J$17)) -> 0 | J39: =SUM(K39:P39) -> 0 | K39: =IF((' בריאות א2'!R16+' בריאות א2'!Y16)=0,0,(' בריאות א2'!R16+' בריאות א2'!Y16)/(' בריאות א2'!$Q$17+' בריאות א2'!$X$17)) -> 0 | L39: =IF((' בריאות א2'!S16+' בריאות א2'!Z16)=0,0,(' בריאות א2'!S16+' בריאות א2'!Z16)/(' בריאות א2'!$Q$17+' בריאות א2'!$X$17)) -> 0 | M39: =IF((' בריאות א2'!T16+' בריאות א2'!AA16)=0,0,(' בריאות א2'!T16+' בריאות א2'!AA16)/(' בריאות א2'!$Q$17+' בריאות א2'!$X$17)) -> 0 | N39: =IF((' בריאות א2'!U16+' בריאות א2'!AB16)=0,0,(' בריאות א2'!U16+' בריאות א2'!AB16)/(' בריאות א2'!$Q$17+' בריאות א2'!$X$17)) -> 0 | O39: =IF((' בריאות א2'!V16+' בריאות א2'!AC16)=0,0,(' בריאות א2'!V16+' בריאות א2'!AC16)/(' בריאות א2'!$Q$17+' בריאות א2'!$X$17)) -> 0 | P39: =IF((' בריאות א2'!W16+' בריאות א2'!AD16)=0,0,(' בריאות א2'!W16+' בריאות א2'!AD16)/(' בריאות א2'!$Q$17+' בריאות א2'!$X$17)) -> 0 | Q39: =SUM(R39:W39) -> 0 | R39: =IF((' בריאות א2'!AF16+' בריאות א2'!AM16)=0,0,(' בריאות א2'!AF16+' בריאות א2'!AM16)/(' בריאות א2'!$AE$17+' בריאות א2'!$AL$17)) -> 0 | S39: =IF((' בריאות א2'!AG16+' בריאות א2'!AN16)=0,0,(' בריאות א2'!AG16+' בריאות א2'!AN16)/(' בריאות א2'!$AE$17+' בריאות א2'!$AL$17)) -> 0 | T39: =IF((' בריאות א2'!AH16+' בריאות א2'!AO16)=0,0,(' בריאות א2'!AH16+' בריאות א2'!AO16)/(' בריאות א2'!$AE$17+' בריאות א2'!$AL$17)) -> 0 | U39: =IF((' בריאות א2'!AI16+' בריאות א2'!AP16)=0,0,(' בריאות א2'!AI16+' בריאות א2'!AP16)/(' בריאות א2'!$AE$17+' בריאות א2'!$AL$17)) -> 0 | V39: =IF((' בריאות א2'!AJ16+' בריאות א2'!AQ16)=0,0,(' בריאות א2'!AJ16+' בריאות א2'!AQ16)/(' בריאות א2'!$AE$17+' בריאות א2'!$AL$17)) -> 0 | W39: =IF((' בריאות א2'!AK16+' בריאות א2'!AR16)=0,0,(' בריאות א2'!AK16+' בריאות א2'!AR16)/(' בריאות א2'!$AE$17+' בריאות א2'!$AL$17)) -> 0 | X39: =SUM(Y39:AD39) -> 0 | Y39: =IF((' בריאות א2'!AT16+' בריאות א2'!BA16)=0,0,(' בריאות א2'!AT16+' בריאות א2'!BA16)/(' בריאות א2'!$AZ$17+' בריאות א2'!$AS$17)) -> 0 | Z39: =IF((' בריאות א2'!AU16+' בריאות א2'!BB16)=0,0,(' בריאות א2'!AU16+' בריאות א2'!BB16)/(' בריאות א2'!$AZ$17+' בריאות א2'!$AS$17)) -> 0 | AA39: =IF((' בריאות א2'!AV16+' בריאות א2'!BC16)=0,0,(' בריאות א2'!AV16+' בריאות א2'!BC16)/(' בריאות א2'!$AZ$17+' בריאות א2'!$AS$17)) -> 0 | AB39: =IF((' בריאות א2'!AW16+' בריאות א2'!BD16)=0,0,(' בריאות א2'!AW16+' בריאות א2'!BD16)/(' בריאות א2'!$AZ$17+' בריאות א2'!$AS$17)) -> 0 | AC39: =IF((' בריאות א2'!AX16+' בריאות א2'!BE16)=0,0,(' בריאות א2'!AX16+' בריאות א2'!BE16)/(' בריאות א2'!$AZ$17+' בריאות א2'!$AS$17)) -> 0 | AD39: =IF((' בריאות א2'!AY16+' בריאות א2'!BF16)=0,0,(' בריאות א2'!AY16+' בריאות א2'!BF16)/(' בריאות א2'!$AZ$17+' בריאות א2'!$AS$17)) -> 0 | AE39: =SUM(AF39:AK39) -> 0 | AF39: =IF(' בריאות א2'!BH16=0,0,' בריאות א2'!BH16/' בריאות א2'!$BG$17) -> 0 | AG39: =IF(' בריאות א2'!BI16=0,0,' בריאות א2'!BI16/' בריאות א2'!$BG$17) -> 0 | AH39: =IF(' בריאות א2'!BJ16=0,0,' בריאות א2'!BJ16/' בריאות א2'!$BG$17) -> 0 | AI39: =IF(' בריאות א2'!BK16=0,0,' בריאות א2'!BK16/' בריאות א2'!$BG$17) -> 0 | AJ39: =IF(' בריאות א2'!BL16=0,0,' בריאות א2'!BL16/' בריאות א2'!$BG$17) -> 0 | AK39: =IF(' בריאות א2'!BM16=0,0,' בריאות א2'!BM16/' בריאות א2'!$BG$17) -> 0 | AL39: =SUM(AM39:AR39) -> 0 | AM39: =IF((' בריאות א2'!BO16+' בריאות א2'!BV16)=0,0,(' בריאות א2'!BO16+' בריאות א2'!BV16)/(' בריאות א2'!$BN$17+' בריאות א2'!$BU$17)) -> 0 | AN39: =IF((' בריאות א2'!BP16+' בריאות א2'!BW16)=0,0,(' בריאות א2'!BP16+' בריאות א2'!BW16)/(' בריאות א2'!$BN$17+' בריאות א2'!$BU$17)) -> 0 | AO39: =IF((' בריאות א2'!BQ16+' בריאות א2'!BX16)=0,0,(' בריאות א2'!BQ16+' בריאות א2'!BX16)/(' בריאות א2'!$BN$17+' בריאות א2'!$BU$17)) -> 0 | AP39: =IF((' בריאות א2'!BR16+' בריאות א2'!BY16)=0,0,(' בריאות א2'!BR16+' בריאות א2'!BY16)/(' בריאות א2'!$BN$17+' בריאות א2'!$BU$17)) -> 0 | AQ39: =IF((' בריאות א2'!BS16+' בריאות א2'!BZ16)=0,0,(' בריאות א2'!BS16+' בריאות א2'!BZ16)/(' בריאות א2'!$BN$17+' בריאות א2'!$BU$17)) -> 0 | AR39: =IF((' בריאות א2'!BT16+' בריאות א2'!CA16)=0,0,(' בריאות א2'!BT16+' בריאות א2'!CA16)/(' בריאות א2'!$BN$17+' בריאות א2'!$BU$17)) -> 0 | AS39: =SUM(AT39:AY39) -> 0 | AT39: =IF((' בריאות א2'!CC16+' בריאות א2'!CJ16)=0,0,(' בריאות א2'!CC16+' בריאות א2'!CJ16)/(' בריאות א2'!$CB$17+' בריאות א2'!$CI$17)) -> 0 | AU39: =IF((' בריאות א2'!CD16+' בריאות א2'!CK16)=0,0,(' בריאות א2'!CD16+' בריאות א2'!CK16)/(' בריאות א2'!$CB$17+' בריאות א2'!$CI$17)) -> 0 | AV39: =IF((' בריאות א2'!CE16+' בריאות א2'!CL16)=0,0,(' בריאות א2'!CE16+' בריאות א2'!CL16)/(' בריאות א2'!$CB$17+' בריאות א2'!$CI$17)) -> 0 | AW39: =IF((' בריאות א2'!CF16+' בריאות א2'!CM16)=0,0,(' בריאות א2'!CF16+' בריאות א2'!CM16)/(' בריאות א2'!$CB$17+' בריאות א2'!$CI$17)) -> 0 | AX39: =IF((' בריאות א2'!CG16+' בריאות א2'!CN16)=0,0,(' בריאות א2'!CG16+' בריאות א2'!CN16)/(' בריאות א2'!$CB$17+' בריאות א2'!$CI$17)) -> 0 | AY39: =IF((' בריאות א2'!CH16+' בריאות א2'!CO16)=0,0,(' בריאות א2'!CH16+' בריאות א2'!CO16)/(' בריאות א2'!$CB$17+' בריאות א2'!$CI$17)) -> 0 | AZ39: =SUM(BA39:BF39) -> 0 | BA39: =IF((' בריאות א2'!CQ16+' בריאות א2'!CX16)=0,0,(' בריאות א2'!CQ16+' בריאות א2'!CX16)/(' בריאות א2'!$CP$17+' בריאות א2'!$CW$17)) -> 0 | BB39: =IF((' בריאות א2'!CR16+' בריאות א2'!CY16)=0,0,(' בריאות א2'!CR16+' בריאות א2'!CY16)/(' בריאות א2'!$CP$17+' בריאות א2'!$CW$17)) -> 0 | BC39: =IF((' בריאות א2'!CS16+' בריאות א2'!CZ16)=0,0,(' בריאות א2'!CS16+' בריאות א2'!CZ16)/(' בריאות א2'!$CP$17+' בריאות א2'!$CW$17)) -> 0 | BD39: =IF((' בריאות א2'!CT16+' בריאות א2'!DA16)=0,0,(' בריאות א2'!CT16+' בריאות א2'!DA16)/(' בריאות א2'!$CP$17+' בריאות א2'!$CW$17)) -> 0 | BE39: =IF((' בריאות א2'!CU16+' בריאות א2'!DB16)=0,0,(' בריאות א2'!CU16+' בריאות א2'!DB16)/(' בריאות א2'!$CP$17+' בריאות א2'!$CW$17)) -> 0 | BF39: =IF((' בריאות א2'!CV16+' בריאות א2'!DC16)=0,0,(' בריאות א2'!CV16+' בריאות א2'!DC16)/(' בריאות א2'!$CP$17+' בריאות א2'!$CW$17)) -> 0 | BG39: =SUM(BH39:BM39) -> 0 | BH39: =IF((' בריאות א2'!DE16+' בריאות א2'!DL16)=0,0,(' בריאות א2'!DE16+' בריאות א2'!DL16)/(' בריאות א2'!$DD$17+' בריאות א2'!$DK$17)) -> 0 | BI39: =IF((' בריאות א2'!DF16+' בריאות א2'!DM16)=0,0,(' בריאות א2'!DF16+' בריאות א2'!DM16)/(' בריאות א2'!$DD$17+' בריאות א2'!$DK$17)) -> 0 | BJ39: =IF((' בריאות א2'!DG16+' בריאות א2'!DN16)=0,0,(' בריאות א2'!DG16+' בריאות א2'!DN16)/(' בריאות א2'!$DD$17+' בריאות א2'!$DK$17)) -> 0 | BK39: =IF((' בריאות א2'!DH16+' בריאות א2'!DO16)=0,0,(' בריאות א2'!DH16+' בריאות א2'!DO16)/(' בריאות א2'!$DD$17+' בריאות א2'!$DK$17)) -> 0 | BL39: =IF((' בריאות א2'!DI16+' בריאות א2'!DP16)=0,0,(' בריאות א2'!DI16+' בריאות א2'!DP16)/(' בריאות א2'!$DD$17+' בריאות א2'!$DK$17)) -> 0 | BM39: =IF((' בריאות א2'!DJ16+' בריאות א2'!DQ16)=0,0,(' בריאות א2'!DJ16+' בריאות א2'!DQ16)/(' בריאות א2'!$DD$17+' בריאות א2'!$DK$17)) -> 0
A40: 7 | B40: תביעות שנסגרו (א3+א3א+א4+א5+א6) | C40: =SUM(C35:C39) -> 0 | D40: =SUM(D35:D39) -> 0 | E40: =SUM(E35:E39) -> 0 | F40: =SUM(F35:F39) -> 0 | G40: =SUM(G35:G39) -> 0 | H40: =SUM(H35:H39) -> 0 | I40: =SUM(I35:I39) -> 0 | J40: =SUM(J35:J39) -> 0 | ... BM40: =SUM(BM35:BM39) -> 0
A41: ב | B41: תביעות שנסגרו בבוררות:
A42: 1 | B42: תביעות שאושרו | C42: =SUM(D42:I42) -> 0 | D42: =IF(' בריאות א2'!D20+' בריאות א2'!K20=0,0,(' בריאות א2'!D20+' בריאות א2'!K20)/(' בריאות א2'!$C$22+' בריאות א2'!$J$22)) -> 0 | E42: =IF(' בריאות א2'!E20+' בריאות א2'!L20=0,0,(' בריאות א2'!E20+' בריאות א2'!L20)/(' בריאות א2'!$C$22+' בריאות א2'!$J$22)) -> 0 | F42: =IF(' בריאות א2'!F20+' בריאות א2'!M20=0,0,(' בריאות א2'!F20+' בריאות א2'!M20)/(' בריאות א2'!$C$22+' בריאות א2'!$J$22)) -> 0 | G42: =IF(' בריאות א2'!G20+' בריאות א2'!N20=0,0,(' בריאות א2'!G20+' בריאות א2'!N20)/(' בריאות א2'!$C$22+' בריאות א2'!$J$22)) -> 0 | H42: =IF(' בריאות א2'!H20+' בריאות א2'!O20=0,0,(' בריאות א2'!H20+' בריאות א2'!O20)/(' בריאות א2'!$C$22+' בריאות א2'!$J$22)) -> 0 | I42: =IF(' בריאות א2'!I20+' בריאות א2'!P20=0,0,(' בריאות א2'!I20+' בריאות א2'!P20)/(' בריאות א2'!$C$22+' בריאות א2'!$J$22)) -> 0 | J42: =SUM(K42:P42) -> 0 | K42: =IF(' בריאות א2'!R20+' בריאות א2'!Y20=0,0,(' בריאות א2'!R20+' בריאות א2'!Y20)/(' בריאות א2'!$Q$22+' בריאות א2'!$X$22)) -> 0 | L42: =IF(' בריאות א2'!S20+' בריאות א2'!Z20=0,0,(' בריאות א2'!S20+' בריאות א2'!Z20)/(' בריאות א2'!$Q$22+' בריאות א2'!$X$22)) -> 0 | M42: =IF(' בריאות א2'!T20+' בריאות א2'!AA20=0,0,(' בריאות א2'!T20+' בריאות א2'!AA20)/(' בריאות א2'!$Q$22+' בריאות א2'!$X$22)) -> 0 | N42: =IF(' בריאות א2'!U20+' בריאות א2'!AB20=0,0,(' בריאות א2'!U20+' בריאות א2'!AB20)/(' בריאות א2'!$Q$22+' בריאות א2'!$X$22)) -> 0 | O42: =IF(' בריאות א2'!V20+' בריאות א2'!AC20=0,0,(' בריאות א2'!V20+' בריאות א2'!AC20)/(' בריאות א2'!$Q$22+' בריאות א2'!$X$22)) -> 0 | P42: =IF(' בריאות א2'!W20+' בריאות א2'!AD20=0,0,(' בריאות א2'!W20+' בריאות א2'!AD20)/(' בריאות א2'!$Q$22+' בריאות א2'!$X$22)) -> 0 | Q42: =SUM(R42:W42) -> 0 | R42: =IF(' בריאות א2'!AF20+' בריאות א2'!AM20=0,0,(' בריאות א2'!AF20+' בריאות א2'!AM20)/(' בריאות א2'!$AE$22+' בריאות א2'!$AL$22)) -> 0 | S42: =IF(' בריאות א2'!AG20+' בריאות א2'!AN20=0,0,(' בריאות א2'!AG20+' בריאות א2'!AN20)/(' בריאות א2'!$AE$22+' בריאות א2'!$AL$22)) -> 0 | T42: =IF(' בריאות א2'!AH20+' בריאות א2'!AO20=0,0,(' בריאות א2'!AH20+' בריאות א2'!AO20)/(' בריאות א2'!$AE$22+' בריאות א2'!$AL$22)) -> 0 | U42: =IF(' בריאות א2'!AI20+' בריאות א2'!AP20=0,0,(' בריאות א2'!AI20+' בריאות א2'!AP20)/(' בריאות א2'!$AE$22+' בריאות א2'!$AL$22)) -> 0 | V42: =IF(' בריאות א2'!AJ20+' בריאות א2'!AQ20=0,0,(' בריאות א2'!AJ20+' בריאות א2'!AQ20)/(' בריאות א2'!$AE$22+' בריאות א2'!$AL$22)) -> 0 | W42: =IF(' בריאות א2'!AK20+' בריאות א2'!AR20=0,0,(' בריאות א2'!AK20+' בריאות א2'!AR20)/(' בריאות א2'!$AE$22+' בריאות א2'!$AL$22)) -> 0 | X42: =SUM(Y42:AD42) -> 0 | Y42: =IF((' בריאות א2'!AT20+' בריאות א2'!BA20)=0,0,(' בריאות א2'!AT20+' בריאות א2'!BA20)/(' בריאות א2'!$AL$22+' בריאות א2'!$AS$22)) -> 0 | Z42: =IF((' בריאות א2'!AU20+' בריאות א2'!BB20)=0,0,(' בריאות א2'!AU20+' בריאות א2'!BB20)/(' בריאות א2'!$AL$22+' בריאות א2'!$AS$22)) -> 0 | AA42: =IF((' בריאות א2'!AV20+' בריאות א2'!BC20)=0,0,(' בריאות א2'!AV20+' בריאות א2'!BC20)/(' בריאות א2'!$AL$22+' בריאות א2'!$AS$22)) -> 0 | AB42: =IF((' בריאות א2'!AW20+' בריאות א2'!BD20)=0,0,(' בריאות א2'!AW20+' בריאות א2'!BD20)/(' בריאות א2'!$AL$22+' בריאות א2'!$AS$22)) -> 0 | AC42: =IF((' בריאות א2'!AX20+' בריאות א2'!BE20)=0,0,(' בריאות א2'!AX20+' בריאות א2'!BE20)/(' בריאות א2'!$AL$22+' בריאות א2'!$AS$22)) -> 0 | AD42: =IF((' בריאות א2'!AY20+' בריאות א2'!BF20)=0,0,(' בריאות א2'!AY20+' בריאות א2'!BF20)/(' בריאות א2'!$AL$22+' בריאות א2'!$AS$22)) -> 0 | AE42: =SUM(AF42:AK42) -> 0 | AF42: =IF(' בריאות א2'!BH20=0,0,' בריאות א2'!BH20/' בריאות א2'!$BG$22) -> 0 | AG42: =IF(' בריאות א2'!BI20=0,0,' בריאות א2'!BI20/' בריאות א2'!$BG$22) -> 0 | AH42: =IF(' בריאות א2'!BJ20=0,0,' בריאות א2'!BJ20/' בריאות א2'!$BG$22) -> 0 | AI42: =IF(' בריאות א2'!BK20=0,0,' בריאות א2'!BK20/' בריאות א2'!$BG$22) -> 0 | AJ42: =IF(' בריאות א2'!BL20=0,0,' בריאות א2'!BL20/' בריאות א2'!$BG$22) -> 0 | AK42: =IF(' בריאות א2'!BM20=0,0,' בריאות א2'!BM20/' בריאות א2'!$BG$22) -> 0 | AL42: =SUM(AM42:AR42) -> 0 | AM42: =IF((' בריאות א2'!BO20+' בריאות א2'!BV20)=0,0,(' בריאות א2'!BO20+' בריאות א2'!BV20)/(' בריאות א2'!$BN$22+' בריאות א2'!$BU$22)) -> 0 | AN42: =IF((' בריאות א2'!BP20+' בריאות א2'!BW20)=0,0,(' בריאות א2'!BP20+' בריאות א2'!BW20)/(' בריאות א2'!$BN$22+' בריאות א2'!$BU$22)) -> 0 | AO42: =IF((' בריאות א2'!BQ20+' בריאות א2'!BX20)=0,0,(' בריאות א2'!BQ20+' בריאות א2'!BX20)/(' בריאות א2'!$BN$22+' בריאות א2'!$BU$22)) -> 0 | AP42: =IF((' בריאות א2'!BR20+' בריאות א2'!BY20)=0,0,(' בריאות א2'!BR20+' בריאות א2'!BY20)/(' בריאות א2'!$BN$22+' בריאות א2'!$BU$22)) -> 0 | AQ42: =IF((' בריאות א2'!BS20+' בריאות א2'!BZ20)=0,0,(' בריאות א2'!BS20+' בריאות א2'!BZ20)/(' בריאות א2'!$BN$22+' בריאות א2'!$BU$22)) -> 0 | AR42: =IF((' בריאות א2'!BT20+' בריאות א2'!CA20)=0,0,(' בריאות א2'!BT20+' בריאות א2'!CA20)/(' בריאות א2'!$BN$22+' בריאות א2'!$BU$22)) -> 0 | AS42: =SUM(AT42:AY42) -> 0 | AT42: =IF((' בריאות א2'!CC20+' בריאות א2'!CJ20)=0,0,(' בריאות א2'!CC20+' בריאות א2'!CJ20)/(' בריאות א2'!$CB$22+' בריאות א2'!$CI$22)) -> 0 | AU42: =IF((' בריאות א2'!CD20+' בריאות א2'!CK20)=0,0,(' בריאות א2'!CD20+' בריאות א2'!CK20)/(' בריאות א2'!$CB$22+' בריאות א2'!$CI$22)) -> 0 | AV42: =IF((' בריאות א2'!CE20+' בריאות א2'!CL20)=0,0,(' בריאות א2'!CE20+' בריאות א2'!CL20)/(' בריאות א2'!$CB$22+' בריאות א2'!$CI$22)) -> 0 | AW42: =IF((' בריאות א2'!CF20+' בריאות א2'!CM20)=0,0,(' בריאות א2'!CF20+' בריאות א2'!CM20)/(' בריאות א2'!$CB$22+' בריאות א2'!$CI$22)) -> 0 | AX42: =IF((' בריאות א2'!CG20+' בריאות א2'!CN20)=0,0,(' בריאות א2'!CG20+' בריאות א2'!CN20)/(' בריאות א2'!$CB$22+' בריאות א2'!$CI$22)) -> 0 | AY42: =IF((' בריאות א2'!CH20+' בריאות א2'!CO20)=0,0,(' בריאות א2'!CH20+' בריאות א2'!CO20)/(' בריאות א2'!$CB$22+' בריאות א2'!$CI$22)) -> 0 | AZ42: =SUM(BA42:BF42) -> 0 | BA42: =IF((' בריאות א2'!CQ20+' בריאות א2'!CX20)=0,0,(' בריאות א2'!CQ20+' בריאות א2'!CX20)/(' בריאות א2'!$CP$22+' בריאות א2'!$CW$22)) -> 0 | BB42: =IF((' בריאות א2'!CR20+' בריאות א2'!CY20)=0,0,(' בריאות א2'!CR20+' בריאות א2'!CY20)/(' בריאות א2'!$CP$22+' בריאות א2'!$CW$22)) -> 0 | BC42: =IF((' בריאות א2'!CS20+' בריאות א2'!CZ20)=0,0,(' בריאות א2'!CS20+' בריאות א2'!CZ20)/(' בריאות א2'!$CP$22+' בריאות א2'!$CW$22)) -> 0 | BD42: =IF((' בריאות א2'!CT20+' בריאות א2'!DA20)=0,0,(' בריאות א2'!CT20+' בריאות א2'!DA20)/(' בריאות א2'!$CP$22+' בריאות א2'!$CW$22)) -> 0 | BE42: =IF((' בריאות א2'!CU20+' בריאות א2'!DB20)=0,0,(' בריאות א2'!CU20+' בריאות א2'!DB20)/(' בריאות א2'!$CP$22+' בריאות א2'!$CW$22)) -> 0 | BF42: =IF((' בריאות א2'!CV20+' בריאות א2'!DC20)=0,0,(' בריאות א2'!CV20+' בריאות א2'!DC20)/(' בריאות א2'!$CP$22+' בריאות א2'!$CW$22)) -> 0 | BG42: =SUM(BH42:BM42) -> 0 | BH42: =IF((' בריאות א2'!DE20+' בריאות א2'!DL20)=0,0,(' בריאות א2'!DE20+' בריאות א2'!DL20)/(' בריאות א2'!$DD$22+' בריאות א2'!$DK$22)) -> 0 | BI42: =IF((' בריאות א2'!DF20+' בריאות א2'!DM20)=0,0,(' בריאות א2'!DF20+' בריאות א2'!DM20)/(' בריאות א2'!$DD$22+' בריאות א2'!$DK$22)) -> 0 | BJ42: =IF((' בריאות א2'!DG20+' בריאות א2'!DN20)=0,0,(' בריאות א2'!DG20+' בריאות א2'!DN20)/(' בריאות א2'!$DD$22+' בריאות א2'!$DK$22)) -> 0 | BK42: =IF((' בריאות א2'!DH20+' בריאות א2'!DO20)=0,0,(' בריאות א2'!DH20+' בריאות א2'!DO20)/(' בריאות א2'!$DD$22+' בריאות א2'!$DK$22)) -> 0 | BL42: =IF((' בריאות א2'!DI20+' בריאות א2'!DP20)=0,0,(' בריאות א2'!DI20+' בריאות א2'!DP20)/(' בריאות א2'!$DD$22+' בריאות א2'!$DK$22)) -> 0 | BM42: =IF((' בריאות א2'!DJ20+' בריאות א2'!DQ20)=0,0,(' בריאות א2'!DJ20+' בריאות א2'!DQ20)/(' בריאות א2'!$DD$22+' בריאות א2'!$DK$22)) -> 0
A43: 2 | B43: תביעות שנדחו | C43: =SUM(D43:I43) -> 0 | D43: =IF(' בריאות א2'!D21+' בריאות א2'!K21=0,0,(' בריאות א2'!D21+' בריאות א2'!K21)/(' בריאות א2'!$C$22+' בריאות א2'!$J$22)) -> 0 | E43: =IF(' בריאות א2'!E21+' בריאות א2'!L21=0,0,(' בריאות א2'!E21+' בריאות א2'!L21)/(' בריאות א2'!$C$22+' בריאות א2'!$J$22)) -> 0 | F43: =IF(' בריאות א2'!F21+' בריאות א2'!M21=0,0,(' בריאות א2'!F21+' בריאות א2'!M21)/(' בריאות א2'!$C$22+' בריאות א2'!$J$22)) -> 0 | G43: =IF(' בריאות א2'!G21+' בריאות א2'!N21=0,0,(' בריאות א2'!G21+' בריאות א2'!N21)/(' בריאות א2'!$C$22+' בריאות א2'!$J$22)) -> 0 | H43: =IF(' בריאות א2'!H21+' בריאות א2'!O21=0,0,(' בריאות א2'!H21+' בריאות א2'!O21)/(' בריאות א2'!$C$22+' בריאות א2'!$J$22)) -> 0 | I43: =IF(' בריאות א2'!I21+' בריאות א2'!P21=0,0,(' בריאות א2'!I21+' בריאות א2'!P21)/(' בריאות א2'!$C$22+' בריאות א2'!$J$22)) -> 0 | J43: =SUM(K43:P43) -> 0 | K43: =IF(' בריאות א2'!R21+' בריאות א2'!Y21=0,0,(' בריאות א2'!R21+' בריאות א2'!Y21)/(' בריאות א2'!$Q$22+' בריאות א2'!$X$22)) -> 0 | L43: =IF(' בריאות א2'!S21+' בריאות א2'!Z21=0,0,(' בריאות א2'!S21+' בריאות א2'!Z21)/(' בריאות א2'!$Q$22+' בריאות א2'!$X$22)) -> 0 | M43: =IF(' בריאות א2'!T21+' בריאות א2'!AA21=0,0,(' בריאות א2'!T21+' בריאות א2'!AA21)/(' בריאות א2'!$Q$22+' בריאות א2'!$X$22)) -> 0 | N43: =IF(' בריאות א2'!U21+' בריאות א2'!AB21=0,0,(' בריאות א2'!U21+' בריאות א2'!AB21)/(' בריאות א2'!$Q$22+' בריאות א2'!$X$22)) -> 0 | O43: =IF(' בריאות א2'!V21+' בריאות א2'!AC21=0,0,(' בריאות א2'!V21+' בריאות א2'!AC21)/(' בריאות א2'!$Q$22+' בריאות א2'!$X$22)) -> 0 | P43: =IF(' בריאות א2'!W21+' בריאות א2'!AD21=0,0,(' בריאות א2'!W21+' בריאות א2'!AD21)/(' בריאות א2'!$Q$22+' בריאות א2'!$X$22)) -> 0 | Q43: =SUM(R43:W43) -> 0 | R43: =IF(' בריאות א2'!AF21+' בריאות א2'!AM21=0,0,(' בריאות א2'!AF21+' בריאות א2'!AM21)/(' בריאות א2'!$AE$22+' בריאות א2'!$AL$22)) -> 0 | S43: =IF(' בריאות א2'!AG21+' בריאות א2'!AN21=0,0,(' בריאות א2'!AG21+' בריאות א2'!AN21)/(' בריאות א2'!$AE$22+' בריאות א2'!$AL$22)) -> 0 | T43: =IF(' בריאות א2'!AH21+' בריאות א2'!AO21=0,0,(' בריאות א2'!AH21+' בריאות א2'!AO21)/(' בריאות א2'!$AE$22+' בריאות א2'!$AL$22)) -> 0 | U43: =IF(' בריאות א2'!AI21+' בריאות א2'!AP21=0,0,(' בריאות א2'!AI21+' בריאות א2'!AP21)/(' בריאות א2'!$AE$22+' בריאות א2'!$AL$22)) -> 0 | V43: =IF(' בריאות א2'!AJ21+' בריאות א2'!AQ21=0,0,(' בריאות א2'!AJ21+' בריאות א2'!AQ21)/(' בריאות א2'!$AE$22+' בריאות א2'!$AL$22)) -> 0 | W43: =IF(' בריאות א2'!AK21+' בריאות א2'!AR21=0,0,(' בריאות א2'!AK21+' בריאות א2'!AR21)/(' בריאות א2'!$AE$22+' בריאות א2'!$AL$22)) -> 0 | X43: =SUM(Y43:AD43) -> 0 | Y43: =IF((' בריאות א2'!AT21+' בריאות א2'!BA21)=0,0,(' בריאות א2'!AT21+' בריאות א2'!BA21)/(' בריאות א2'!$AL$22+' בריאות א2'!$AS$22)) -> 0 | Z43: =IF((' בריאות א2'!AU21+' בריאות א2'!BB21)=0,0,(' בריאות א2'!AU21+' בריאות א2'!BB21)/(' בריאות א2'!$AL$22+' בריאות א2'!$AS$22)) -> 0 | AA43: =IF((' בריאות א2'!AV21+' בריאות א2'!BC21)=0,0,(' בריאות א2'!AV21+' בריאות א2'!BC21)/(' בריאות א2'!$AL$22+' בריאות א2'!$AS$22)) -> 0 | AB43: =IF((' בריאות א2'!AW21+' בריאות א2'!BD21)=0,0,(' בריאות א2'!AW21+' בריאות א2'!BD21)/(' בריאות א2'!$AL$22+' בריאות א2'!$AS$22)) -> 0 | AC43: =IF((' בריאות א2'!AX21+' בריאות א2'!BE21)=0,0,(' בריאות א2'!AX21+' בריאות א2'!BE21)/(' בריאות א2'!$AL$22+' בריאות א2'!$AS$22)) -> 0 | AD43: =IF((' בריאות א2'!AY21+' בריאות א2'!BF21)=0,0,(' בריאות א2'!AY21+' בריאות א2'!BF21)/(' בריאות א2'!$AL$22+' בריאות א2'!$AS$22)) -> 0 | AE43: =SUM(AF43:AK43) -> 0 | AF43: =IF(' בריאות א2'!BH21=0,0,' בריאות א2'!BH21/' בריאות א2'!$BG$22) -> 0 | AG43: =IF(' בריאות א2'!BI21=0,0,' בריאות א2'!BI21/' בריאות א2'!$BG$22) -> 0 | AH43: =IF(' בריאות א2'!BJ21=0,0,' בריאות א2'!BJ21/' בריאות א2'!$BG$22) -> 0 | AI43: =IF(' בריאות א2'!BK21=0,0,' בריאות א2'!BK21/' בריאות א2'!$BG$22) -> 0 | AJ43: =IF(' בריאות א2'!BL21=0,0,' בריאות א2'!BL21/' בריאות א2'!$BG$22) -> 0 | AK43: =IF(' בריאות א2'!BM21=0,0,' בריאות א2'!BM21/' בריאות א2'!$BG$22) -> 0 | AL43: =SUM(AM43:AR43) -> 0 | AM43: =IF((' בריאות א2'!BO21+' בריאות א2'!BV21)=0,0,(' בריאות א2'!BO21+' בריאות א2'!BV21)/(' בריאות א2'!$BN$22+' בריאות א2'!$BU$22)) -> 0 | AN43: =IF((' בריאות א2'!BP21+' בריאות א2'!BW21)=0,0,(' בריאות א2'!BP21+' בריאות א2'!BW21)/(' בריאות א2'!$BN$22+' בריאות א2'!$BU$22)) -> 0 | AO43: =IF((' בריאות א2'!BQ21+' בריאות א2'!BX21)=0,0,(' בריאות א2'!BQ21+' בריאות א2'!BX21)/(' בריאות א2'!$BN$22+' בריאות א2'!$BU$22)) -> 0 | AP43: =IF((' בריאות א2'!BR21+' בריאות א2'!BY21)=0,0,(' בריאות א2'!BR21+' בריאות א2'!BY21)/(' בריאות א2'!$BN$22+' בריאות א2'!$BU$22)) -> 0 | AQ43: =IF((' בריאות א2'!BS21+' בריאות א2'!BZ21)=0,0,(' בריאות א2'!BS21+' בריאות א2'!BZ21)/(' בריאות א2'!$BN$22+' בריאות א2'!$BU$22)) -> 0 | AR43: =IF((' בריאות א2'!BT21+' בריאות א2'!CA21)=0,0,(' בריאות א2'!BT21+' בריאות א2'!CA21)/(' בריאות א2'!$BN$22+' בריאות א2'!$BU$22)) -> 0 | AS43: =SUM(AT43:AY43) -> 0 | AT43: =IF((' בריאות א2'!CC21+' בריאות א2'!CJ21)=0,0,(' בריאות א2'!CC21+' בריאות א2'!CJ21)/(' בריאות א2'!$CB$22+' בריאות א2'!$CI$22)) -> 0 | AU43: =IF((' בריאות א2'!CD21+' בריאות א2'!CK21)=0,0,(' בריאות א2'!CD21+' בריאות א2'!CK21)/(' בריאות א2'!$CB$22+' בריאות א2'!$CI$22)) -> 0 | AV43: =IF((' בריאות א2'!CE21+' בריאות א2'!CL21)=0,0,(' בריאות א2'!CE21+' בריאות א2'!CL21)/(' בריאות א2'!$CB$22+' בריאות א2'!$CI$22)) -> 0 | AW43: =IF((' בריאות א2'!CF21+' בריאות א2'!CM21)=0,0,(' בריאות א2'!CF21+' בריאות א2'!CM21)/(' בריאות א2'!$CB$22+' בריאות א2'!$CI$22)) -> 0 | AX43: =IF((' בריאות א2'!CG21+' בריאות א2'!CN21)=0,0,(' בריאות א2'!CG21+' בריאות א2'!CN21)/(' בריאות א2'!$CB$22+' בריאות א2'!$CI$22)) -> 0 | AY43: =IF((' בריאות א2'!CH21+' בריאות א2'!CO21)=0,0,(' בריאות א2'!CH21+' בריאות א2'!CO21)/(' בריאות א2'!$CB$22+' בריאות א2'!$CI$22)) -> 0 | AZ43: =SUM(BA43:BF43) -> 0 | BA43: =IF((' בריאות א2'!CQ21+' בריאות א2'!CX21)=0,0,(' בריאות א2'!CQ21+' בריאות א2'!CX21)/(' בריאות א2'!$CP$22+' בריאות א2'!$CW$22)) -> 0 | BB43: =IF((' בריאות א2'!CR21+' בריאות א2'!CY21)=0,0,(' בריאות א2'!CR21+' בריאות א2'!CY21)/(' בריאות א2'!$CP$22+' בריאות א2'!$CW$22)) -> 0 | BC43: =IF((' בריאות א2'!CS21+' בריאות א2'!CZ21)=0,0,(' בריאות א2'!CS21+' בריאות א2'!CZ21)/(' בריאות א2'!$CP$22+' בריאות א2'!$CW$22)) -> 0 | BD43: =IF((' בריאות א2'!CT21+' בריאות א2'!DA21)=0,0,(' בריאות א2'!CT21+' בריאות א2'!DA21)/(' בריאות א2'!$CP$22+' בריאות א2'!$CW$22)) -> 0 | BE43: =IF((' בריאות א2'!CU21+' בריאות א2'!DB21)=0,0,(' בריאות א2'!CU21+' בריאות א2'!DB21)/(' בריאות א2'!$CP$22+' בריאות א2'!$CW$22)) -> 0 | BF43: =IF((' בריאות א2'!CV21+' בריאות א2'!DC21)=0,0,(' בריאות א2'!CV21+' בריאות א2'!DC21)/(' בריאות א2'!$CP$22+' בריאות א2'!$CW$22)) -> 0 | BG43: =SUM(BH43:BM43) -> 0 | BH43: =IF((' בריאות א2'!DE21+' בריאות א2'!DL21)=0,0,(' בריאות א2'!DE21+' בריאות א2'!DL21)/(' בריאות א2'!$DD$22+' בריאות א2'!$DK$22)) -> 0 | BI43: =IF((' בריאות א2'!DF21+' בריאות א2'!DM21)=0,0,(' בריאות א2'!DF21+' בריאות א2'!DM21)/(' בריאות א2'!$DD$22+' בריאות א2'!$DK$22)) -> 0 | BJ43: =IF((' בריאות א2'!DG21+' בריאות א2'!DN21)=0,0,(' בריאות א2'!DG21+' בריאות א2'!DN21)/(' בריאות א2'!$DD$22+' בריאות א2'!$DK$22)) -> 0 | BK43: =IF((' בריאות א2'!DH21+' בריאות א2'!DO21)=0,0,(' בריאות א2'!DH21+' בריאות א2'!DO21)/(' בריאות א2'!$DD$22+' בריאות א2'!$DK$22)) -> 0 | BL43: =IF((' בריאות א2'!DI21+' בריאות א2'!DP21)=0,0,(' בריאות א2'!DI21+' בריאות א2'!DP21)/(' בריאות א2'!$DD$22+' בריאות א2'!$DK$22)) -> 0 | BM43: =IF((' בריאות א2'!DJ21+' בריאות א2'!DQ21)=0,0,(' בריאות א2'!DJ21+' בריאות א2'!DQ21)/(' בריאות א2'!$DD$22+' בריאות א2'!$DK$22)) -> 0
A44: 3 | B44: סה"כ (ב1+ב2) | C44: =SUM(C42:C43) -> 0 | D44: =SUM(D42:D43) -> 0 | E44: =SUM(E42:E43) -> 0 | F44: =SUM(F42:F43) -> 0 | G44: =SUM(G42:G43) -> 0 | H44: =SUM(H42:H43) -> 0 | I44: =SUM(I42:I43) -> 0 | J44: =SUM(J42:J43) -> 0 | ... BM44: =SUM(BM42:BM43) -> 0
A45: ג | B45: תביעות שנסגרו בבית משפט:
A46: 1 | B46: תביעות שאושרו | C46: =SUM(D46:I46) -> 0 | D46: =IF(' בריאות א2'!D24+' בריאות א2'!K24=0,0,(' בריאות א2'!D24+' בריאות א2'!K24)/(' בריאות א2'!$C$28+' בריאות א2'!$J$28)) -> 0 | E46: =IF(' בריאות א2'!E24+' בריאות א2'!L24=0,0,(' בריאות א2'!E24+' בריאות א2'!L24)/(' בריאות א2'!$C$28+' בריאות א2'!$J$28)) -> 0 | F46: =IF(' בריאות א2'!F24+' בריאות א2'!M24=0,0,(' בריאות א2'!F24+' בריאות א2'!M24)/(' בריאות א2'!$C$28+' בריאות א2'!$J$28)) -> 0 | G46: =IF(' בריאות א2'!G24+' בריאות א2'!N24=0,0,(' בריאות א2'!G24+' בריאות א2'!N24)/(' בריאות א2'!$C$28+' בריאות א2'!$J$28)) -> 0 | H46: =IF(' בריאות א2'!H24+' בריאות א2'!O24=0,0,(' בריאות א2'!H24+' בריאות א2'!O24)/(' בריאות א2'!$C$28+' בריאות א2'!$J$28)) -> 0 | I46: =IF(' בריאות א2'!I24+' בריאות א2'!P24=0,0,(' בריאות א2'!I24+' בריאות א2'!P24)/(' בריאות א2'!$C$28+' בריאות א2'!$J$28)) -> 0 | J46: =SUM(K46:P46) -> 0 | K46: =IF(' בריאות א2'!R24+' בריאות א2'!Y24=0,0,(' בריאות א2'!R24+' בריאות א2'!Y24)/(' בריאות א2'!$Q$28+' בריאות א2'!$X$28)) -> 0 | L46: =IF(' בריאות א2'!S24+' בריאות א2'!Z24=0,0,(' בריאות א2'!S24+' בריאות א2'!Z24)/(' בריאות א2'!$Q$28+' בריאות א2'!$X$28)) -> 0 | M46: =IF(' בריאות א2'!T24+' בריאות א2'!AA24=0,0,(' בריאות א2'!T24+' בריאות א2'!AA24)/(' בריאות א2'!$Q$28+' בריאות א2'!$X$28)) -> 0 | N46: =IF(' בריאות א2'!U24+' בריאות א2'!AB24=0,0,(' בריאות א2'!U24+' בריאות א2'!AB24)/(' בריאות א2'!$Q$28+' בריאות א2'!$X$28)) -> 0 | O46: =IF(' בריאות א2'!V24+' בריאות א2'!AC24=0,0,(' בריאות א2'!V24+' בריאות א2'!AC24)/(' בריאות א2'!$Q$28+' בריאות א2'!$X$28)) -> 0 | P46: =IF(' בריאות א2'!W24+' בריאות א2'!AD24=0,0,(' בריאות א2'!W24+' בריאות א2'!AD24)/(' בריאות א2'!$Q$28+' בריאות א2'!$X$28)) -> 0 | Q46: =SUM(R46:W46) -> 0 | R46: =IF(' בריאות א2'!AF24+' בריאות א2'!AM24=0,0,(' בריאות א2'!AF24+' בריאות א2'!AM24)/(' בריאות א2'!$AE$28+' בריאות א2'!$AL$28)) -> 0 | S46: =IF(' בריאות א2'!AG24+' בריאות א2'!AN24=0,0,(' בריאות א2'!AG24+' בריאות א2'!AN24)/(' בריאות א2'!$AE$28+' בריאות א2'!$AL$28)) -> 0 | T46: =IF(' בריאות א2'!AH24+' בריאות א2'!AO24=0,0,(' בריאות א2'!AH24+' בריאות א2'!AO24)/(' בריאות א2'!$AE$28+' בריאות א2'!$AL$28)) -> 0 | U46: =IF(' בריאות א2'!AI24+' בריאות א2'!AP24=0,0,(' בריאות א2'!AI24+' בריאות א2'!AP24)/(' בריאות א2'!$AE$28+' בריאות א2'!$AL$28)) -> 0 | V46: =IF(' בריאות א2'!AJ24+' בריאות א2'!AQ24=0,0,(' בריאות א2'!AJ24+' בריאות א2'!AQ24)/(' בריאות א2'!$AE$28+' בריאות א2'!$AL$28)) -> 0 | W46: =IF(' בריאות א2'!AK24+' בריאות א2'!AR24=0,0,(' בריאות א2'!AK24+' בריאות א2'!AR24)/(' בריאות א2'!$AE$28+' בריאות א2'!$AL$28)) -> 0 | X46: =SUM(Y46:AD46) -> 0 | Y46: =IF((' בריאות א2'!AT24+' בריאות א2'!BA24)=0,0,(' בריאות א2'!AT24+' בריאות א2'!BA24)/(' בריאות א2'!$AZ$28+' בריאות א2'!$AS$28)) -> 0 | Z46: =IF((' בריאות א2'!AU24+' בריאות א2'!BB24)=0,0,(' בריאות א2'!AU24+' בריאות א2'!BB24)/(' בריאות א2'!$AZ$28+' בריאות א2'!$AS$28)) -> 0 | AA46: =IF((' בריאות א2'!AV24+' בריאות א2'!BC24)=0,0,(' בריאות א2'!AV24+' בריאות א2'!BC24)/(' בריאות א2'!$AZ$28+' בריאות א2'!$AS$28)) -> 0 | AB46: =IF((' בריאות א2'!AW24+' בריאות א2'!BD24)=0,0,(' בריאות א2'!AW24+' בריאות א2'!BD24)/(' בריאות א2'!$AZ$28+' בריאות א2'!$AS$28)) -> 0 | AC46: =IF((' בריאות א2'!AX24+' בריאות א2'!BE24)=0,0,(' בריאות א2'!AX24+' בריאות א2'!BE24)/(' בריאות א2'!$AZ$28+' בריאות א2'!$AS$28)) -> 0 | AD46: =IF((' בריאות א2'!AY24+' בריאות א2'!BF24)=0,0,(' בריאות א2'!AY24+' בריאות א2'!BF24)/(' בריאות א2'!$AZ$28+' בריאות א2'!$AS$28)) -> 0 | AE46: =SUM(AF46:AK46) -> 0 | AF46: =IF(' בריאות א2'!BH24=0,0,' בריאות א2'!BH24/' בריאות א2'!$BG$28) -> 0 | AG46: =IF(' בריאות א2'!BI24=0,0,' בריאות א2'!BI24/' בריאות א2'!$BG$28) -> 0 | AH46: =IF(' בריאות א2'!BJ24=0,0,' בריאות א2'!BJ24/' בריאות א2'!$BG$28) -> 0 | AI46: =IF(' בריאות א2'!BK24=0,0,' בריאות א2'!BK24/' בריאות א2'!$BG$28) -> 0 | AJ46: =IF(' בריאות א2'!BL24=0,0,' בריאות א2'!BL24/' בריאות א2'!$BG$28) -> 0 | AK46: =IF(' בריאות א2'!BM24=0,0,' בריאות א2'!BM24/' בריאות א2'!$BG$28) -> 0 | AL46: =SUM(AM46:AR46) -> 0 | AM46: =IF((' בריאות א2'!BO24+' בריאות א2'!BV24)=0,0,(' בריאות א2'!BO24+' בריאות א2'!BV24)/(' בריאות א2'!$BN$28+' בריאות א2'!$BU$28)) -> 0 | AN46: =IF((' בריאות א2'!BP24+' בריאות א2'!BW24)=0,0,(' בריאות א2'!BP24+' בריאות א2'!BW24)/(' בריאות א2'!$BN$28+' בריאות א2'!$BU$28)) -> 0 | AO46: =IF((' בריאות א2'!BQ24+' בריאות א2'!BX24)=0,0,(' בריאות א2'!BQ24+' בריאות א2'!BX24)/(' בריאות א2'!$BN$28+' בריאות א2'!$BU$28)) -> 0 | AP46: =IF((' בריאות א2'!BR24+' בריאות א2'!BY24)=0,0,(' בריאות א2'!BR24+' בריאות א2'!BY24)/(' בריאות א2'!$BN$28+' בריאות א2'!$BU$28)) -> 0 | AQ46: =IF((' בריאות א2'!BS24+' בריאות א2'!BZ24)=0,0,(' בריאות א2'!BS24+' בריאות א2'!BZ24)/(' בריאות א2'!$BN$28+' בריאות א2'!$BU$28)) -> 0 | AR46: =IF((' בריאות א2'!BT24+' בריאות א2'!CA24)=0,0,(' בריאות א2'!BT24+' בריאות א2'!CA24)/(' בריאות א2'!$BN$28+' בריאות א2'!$BU$28)) -> 0 | AS46: =SUM(AT46:AY46) -> 0 | AT46: =IF((' בריאות א2'!CC24+' בריאות א2'!CJ24)=0,0,(' בריאות א2'!CC24+' בריאות א2'!CJ24)/(' בריאות א2'!$CB$28+' בריאות א2'!$CI$28)) -> 0 | AU46: =IF((' בריאות א2'!CD24+' בריאות א2'!CK24)=0,0,(' בריאות א2'!CD24+' בריאות א2'!CK24)/(' בריאות א2'!$CB$28+' בריאות א2'!$CI$28)) -> 0 | AV46: =IF((' בריאות א2'!CE24+' בריאות א2'!CL24)=0,0,(' בריאות א2'!CE24+' בריאות א2'!CL24)/(' בריאות א2'!$CB$28+' בריאות א2'!$CI$28)) -> 0 | AW46: =IF((' בריאות א2'!CF24+' בריאות א2'!CM24)=0,0,(' בריאות א2'!CF24+' בריאות א2'!CM24)/(' בריאות א2'!$CB$28+' בריאות א2'!$CI$28)) -> 0 | AX46: =IF((' בריאות א2'!CG24+' בריאות א2'!CN24)=0,0,(' בריאות א2'!CG24+' בריאות א2'!CN24)/(' בריאות א2'!$CB$28+' בריאות א2'!$CI$28)) -> 0 | AY46: =IF((' בריאות א2'!CH24+' בריאות א2'!CO24)=0,0,(' בריאות א2'!CH24+' בריאות א2'!CO24)/(' בריאות א2'!$CB$28+' בריאות א2'!$CI$28)) -> 0 | AZ46: =SUM(BA46:BF46) -> 0 | BA46: =IF((' בריאות א2'!CQ24+' בריאות א2'!CX24)=0,0,(' בריאות א2'!CQ24+' בריאות א2'!CX24)/(' בריאות א2'!$CP$28+' בריאות א2'!$CW$28)) -> 0 | BB46: =IF((' בריאות א2'!CR24+' בריאות א2'!CY24)=0,0,(' בריאות א2'!CR24+' בריאות א2'!CY24)/(' בריאות א2'!$CP$28+' בריאות א2'!$CW$28)) -> 0 | BC46: =IF((' בריאות א2'!CS24+' בריאות א2'!CZ24)=0,0,(' בריאות א2'!CS24+' בריאות א2'!CZ24)/(' בריאות א2'!$CP$28+' בריאות א2'!$CW$28)) -> 0 | BD46: =IF((' בריאות א2'!CT24+' בריאות א2'!DA24)=0,0,(' בריאות א2'!CT24+' בריאות א2'!DA24)/(' בריאות א2'!$CP$28+' בריאות א2'!$CW$28)) -> 0 | BE46: =IF((' בריאות א2'!CU24+' בריאות א2'!DB24)=0,0,(' בריאות א2'!CU24+' בריאות א2'!DB24)/(' בריאות א2'!$CP$28+' בריאות א2'!$CW$28)) -> 0 | BF46: =IF((' בריאות א2'!CV24+' בריאות א2'!DC24)=0,0,(' בריאות א2'!CV24+' בריאות א2'!DC24)/(' בריאות א2'!$CP$28+' בריאות א2'!$CW$28)) -> 0 | BG46: =SUM(BH46:BM46) -> 0 | BH46: =IF((' בריאות א2'!DE24+' בריאות א2'!DL24)=0,0,(' בריאות א2'!DE24+' בריאות א2'!DL24)/(' בריאות א2'!$DD$28+' בריאות א2'!$DK$28)) -> 0 | BI46: =IF((' בריאות א2'!DF24+' בריאות א2'!DM24)=0,0,(' בריאות א2'!DF24+' בריאות א2'!DM24)/(' בריאות א2'!$DD$28+' בריאות א2'!$DK$28)) -> 0 | BJ46: =IF((' בריאות א2'!DG24+' בריאות א2'!DN24)=0,0,(' בריאות א2'!DG24+' בריאות א2'!DN24)/(' בריאות א2'!$DD$28+' בריאות א2'!$DK$28)) -> 0 | BK46: =IF((' בריאות א2'!DH24+' בריאות א2'!DO24)=0,0,(' בריאות א2'!DH24+' בריאות א2'!DO24)/(' בריאות א2'!$DD$28+' בריאות א2'!$DK$28)) -> 0 | BL46: =IF((' בריאות א2'!DI24+' בריאות א2'!DP24)=0,0,(' בריאות א2'!DI24+' בריאות א2'!DP24)/(' בריאות א2'!$DD$28+' בריאות א2'!$DK$28)) -> 0 | BM46: =IF((' בריאות א2'!DJ24+' בריאות א2'!DQ24)=0,0,(' בריאות א2'!DJ24+' בריאות א2'!DQ24)/(' בריאות א2'!$DD$28+' בריאות א2'!$DK$28)) -> 0
A47: 2 | B47: תביעות שנדחו | C47: =SUM(D47:I47) -> 0 | D47: =IF(' בריאות א2'!D25+' בריאות א2'!K25=0,0,(' בריאות א2'!D25+' בריאות א2'!K25)/(' בריאות א2'!$C$28+' בריאות א2'!$J$28)) -> 0 | E47: =IF(' בריאות א2'!E25+' בריאות א2'!L25=0,0,(' בריאות א2'!E25+' בריאות א2'!L25)/(' בריאות א2'!$C$28+' בריאות א2'!$J$28)) -> 0 | F47: =IF(' בריאות א2'!F25+' בריאות א2'!M25=0,0,(' בריאות א2'!F25+' בריאות א2'!M25)/(' בריאות א2'!$C$28+' בריאות א2'!$J$28)) -> 0 | G47: =IF(' בריאות א2'!G25+' בריאות א2'!N25=0,0,(' בריאות א2'!G25+' בריאות א2'!N25)/(' בריאות א2'!$C$28+' בריאות א2'!$J$28)) -> 0 | H47: =IF(' בריאות א2'!H25+' בריאות א2'!O25=0,0,(' בריאות א2'!H25+' בריאות א2'!O25)/(' בריאות א2'!$C$28+' בריאות א2'!$J$28)) -> 0 | I47: =IF(' בריאות א2'!I25+' בריאות א2'!P25=0,0,(' בריאות א2'!I25+' בריאות א2'!P25)/(' בריאות א2'!$C$28+' בריאות א2'!$J$28)) -> 0 | J47: =SUM(K47:P47) -> 0 | K47: =IF(' בריאות א2'!R25+' בריאות א2'!Y25=0,0,(' בריאות א2'!R25+' בריאות א2'!Y25)/(' בריאות א2'!$Q$28+' בריאות א2'!$X$28)) -> 0 | L47: =IF(' בריאות א2'!S25+' בריאות א2'!Z25=0,0,(' בריאות א2'!S25+' בריאות א2'!Z25)/(' בריאות א2'!$Q$28+' בריאות א2'!$X$28)) -> 0 | M47: =IF(' בריאות א2'!T25+' בריאות א2'!AA25=0,0,(' בריאות א2'!T25+' בריאות א2'!AA25)/(' בריאות א2'!$Q$28+' בריאות א2'!$X$28)) -> 0 | N47: =IF(' בריאות א2'!U25+' בריאות א2'!AB25=0,0,(' בריאות א2'!U25+' בריאות א2'!AB25)/(' בריאות א2'!$Q$28+' בריאות א2'!$X$28)) -> 0 | O47: =IF(' בריאות א2'!V25+' בריאות א2'!AC25=0,0,(' בריאות א2'!V25+' בריאות א2'!AC25)/(' בריאות א2'!$Q$28+' בריאות א2'!$X$28)) -> 0 | P47: =IF(' בריאות א2'!W25+' בריאות א2'!AD25=0,0,(' בריאות א2'!W25+' בריאות א2'!AD25)/(' בריאות א2'!$Q$28+' בריאות א2'!$X$28)) -> 0 | Q47: =SUM(R47:W47) -> 0 | R47: =IF(' בריאות א2'!AF25+' בריאות א2'!AM25=0,0,(' בריאות א2'!AF25+' בריאות א2'!AM25)/(' בריאות א2'!$AE$28+' בריאות א2'!$AL$28)) -> 0 | S47: =IF(' בריאות א2'!AG25+' בריאות א2'!AN25=0,0,(' בריאות א2'!AG25+' בריאות א2'!AN25)/(' בריאות א2'!$AE$28+' בריאות א2'!$AL$28)) -> 0 | T47: =IF(' בריאות א2'!AH25+' בריאות א2'!AO25=0,0,(' בריאות א2'!AH25+' בריאות א2'!AO25)/(' בריאות א2'!$AE$28+' בריאות א2'!$AL$28)) -> 0 | U47: =IF(' בריאות א2'!AI25+' בריאות א2'!AP25=0,0,(' בריאות א2'!AI25+' בריאות א2'!AP25)/(' בריאות א2'!$AE$28+' בריאות א2'!$AL$28)) -> 0 | V47: =IF(' בריאות א2'!AJ25+' בריאות א2'!AQ25=0,0,(' בריאות א2'!AJ25+' בריאות א2'!AQ25)/(' בריאות א2'!$AE$28+' בריאות א2'!$AL$28)) -> 0 | W47: =IF(' בריאות א2'!AK25+' בריאות א2'!AR25=0,0,(' בריאות א2'!AK25+' בריאות א2'!AR25)/(' בריאות א2'!$AE$28+' בריאות א2'!$AL$28)) -> 0 | X47: =SUM(Y47:AD47) -> 0 | Y47: =IF((' בריאות א2'!AT25+' בריאות א2'!BA25)=0,0,(' בריאות א2'!AT25+' בריאות א2'!BA25)/(' בריאות א2'!$AZ$28+' בריאות א2'!$AS$28)) -> 0 | Z47: =IF((' בריאות א2'!AU25+' בריאות א2'!BB25)=0,0,(' בריאות א2'!AU25+' בריאות א2'!BB25)/(' בריאות א2'!$AZ$28+' בריאות א2'!$AS$28)) -> 0 | AA47: =IF((' בריאות א2'!AV25+' בריאות א2'!BC25)=0,0,(' בריאות א2'!AV25+' בריאות א2'!BC25)/(' בריאות א2'!$AZ$28+' בריאות א2'!$AS$28)) -> 0 | AB47: =IF((' בריאות א2'!AW25+' בריאות א2'!BD25)=0,0,(' בריאות א2'!AW25+' בריאות א2'!BD25)/(' בריאות א2'!$AZ$28+' בריאות א2'!$AS$28)) -> 0 | AC47: =IF((' בריאות א2'!AX25+' בריאות א2'!BE25)=0,0,(' בריאות א2'!AX25+' בריאות א2'!BE25)/(' בריאות א2'!$AZ$28+' בריאות א2'!$AS$28)) -> 0 | AD47: =IF((' בריאות א2'!AY25+' בריאות א2'!BF25)=0,0,(' בריאות א2'!AY25+' בריאות א2'!BF25)/(' בריאות א2'!$AZ$28+' בריאות א2'!$AS$28)) -> 0 | AE47: =SUM(AF47:AK47) -> 0 | AF47: =IF(' בריאות א2'!BH25=0,0,' בריאות א2'!BH25/' בריאות א2'!$BG$28) -> 0 | AG47: =IF(' בריאות א2'!BI25=0,0,' בריאות א2'!BI25/' בריאות א2'!$BG$28) -> 0 | AH47: =IF(' בריאות א2'!BJ25=0,0,' בריאות א2'!BJ25/' בריאות א2'!$BG$28) -> 0 | AI47: =IF(' בריאות א2'!BK25=0,0,' בריאות א2'!BK25/' בריאות א2'!$BG$28) -> 0 | AJ47: =IF(' בריאות א2'!BL25=0,0,' בריאות א2'!BL25/' בריאות א2'!$BG$28) -> 0 | AK47: =IF(' בריאות א2'!BM25=0,0,' בריאות א2'!BM25/' בריאות א2'!$BG$28) -> 0 | AL47: =SUM(AM47:AR47) -> 0 | AM47: =IF((' בריאות א2'!BO25+' בריאות א2'!BV25)=0,0,(' בריאות א2'!BO25+' בריאות א2'!BV25)/(' בריאות א2'!$BN$28+' בריאות א2'!$BU$28)) -> 0 | AN47: =IF((' בריאות א2'!BP25+' בריאות א2'!BW25)=0,0,(' בריאות א2'!BP25+' בריאות א2'!BW25)/(' בריאות א2'!$BN$28+' בריאות א2'!$BU$28)) -> 0 | AO47: =IF((' בריאות א2'!BQ25+' בריאות א2'!BX25)=0,0,(' בריאות א2'!BQ25+' בריאות א2'!BX25)/(' בריאות א2'!$BN$28+' בריאות א2'!$BU$28)) -> 0 | AP47: =IF((' בריאות א2'!BR25+' בריאות א2'!BY25)=0,0,(' בריאות א2'!BR25+' בריאות א2'!BY25)/(' בריאות א2'!$BN$28+' בריאות א2'!$BU$28)) -> 0 | AQ47: =IF((' בריאות א2'!BS25+' בריאות א2'!BZ25)=0,0,(' בריאות א2'!BS25+' בריאות א2'!BZ25)/(' בריאות א2'!$BN$28+' בריאות א2'!$BU$28)) -> 0 | AR47: =IF((' בריאות א2'!BT25+' בריאות א2'!CA25)=0,0,(' בריאות א2'!BT25+' בריאות א2'!CA25)/(' בריאות א2'!$BN$28+' בריאות א2'!$BU$28)) -> 0 | AS47: =SUM(AT47:AY47) -> 0 | AT47: =IF((' בריאות א2'!CC25+' בריאות א2'!CJ25)=0,0,(' בריאות א2'!CC25+' בריאות א2'!CJ25)/(' בריאות א2'!$CB$28+' בריאות א2'!$CI$28)) -> 0 | AU47: =IF((' בריאות א2'!CD25+' בריאות א2'!CK25)=0,0,(' בריאות א2'!CD25+' בריאות א2'!CK25)/(' בריאות א2'!$CB$28+' בריאות א2'!$CI$28)) -> 0 | AV47: =IF((' בריאות א2'!CE25+' בריאות א2'!CL25)=0,0,(' בריאות א2'!CE25+' בריאות א2'!CL25)/(' בריאות א2'!$CB$28+' בריאות א2'!$CI$28)) -> 0 | AW47: =IF((' בריאות א2'!CF25+' בריאות א2'!CM25)=0,0,(' בריאות א2'!CF25+' בריאות א2'!CM25)/(' בריאות א2'!$CB$28+' בריאות א2'!$CI$28)) -> 0 | AX47: =IF((' בריאות א2'!CG25+' בריאות א2'!CN25)=0,0,(' בריאות א2'!CG25+' בריאות א2'!CN25)/(' בריאות א2'!$CB$28+' בריאות א2'!$CI$28)) -> 0 | AY47: =IF((' בריאות א2'!CH25+' בריאות א2'!CO25)=0,0,(' בריאות א2'!CH25+' בריאות א2'!CO25)/(' בריאות א2'!$CB$28+' בריאות א2'!$CI$28)) -> 0 | AZ47: =SUM(BA47:BF47) -> 0 | BA47: =IF((' בריאות א2'!CQ25+' בריאות א2'!CX25)=0,0,(' בריאות א2'!CQ25+' בריאות א2'!CX25)/(' בריאות א2'!$CP$28+' בריאות א2'!$CW$28)) -> 0 | BB47: =IF((' בריאות א2'!CR25+' בריאות א2'!CY25)=0,0,(' בריאות א2'!CR25+' בריאות א2'!CY25)/(' בריאות א2'!$CP$28+' בריאות א2'!$CW$28)) -> 0 | BC47: =IF((' בריאות א2'!CS25+' בריאות א2'!CZ25)=0,0,(' בריאות א2'!CS25+' בריאות א2'!CZ25)/(' בריאות א2'!$CP$28+' בריאות א2'!$CW$28)) -> 0 | BD47: =IF((' בריאות א2'!CT25+' בריאות א2'!DA25)=0,0,(' בריאות א2'!CT25+' בריאות א2'!DA25)/(' בריאות א2'!$CP$28+' בריאות א2'!$CW$28)) -> 0 | BE47: =IF((' בריאות א2'!CU25+' בריאות א2'!DB25)=0,0,(' בריאות א2'!CU25+' בריאות א2'!DB25)/(' בריאות א2'!$CP$28+' בריאות א2'!$CW$28)) -> 0 | BF47: =IF((' בריאות א2'!CV25+' בריאות א2'!DC25)=0,0,(' בריאות א2'!CV25+' בריאות א2'!DC25)/(' בריאות א2'!$CP$28+' בריאות א2'!$CW$28)) -> 0 | BG47: =SUM(BH47:BM47) -> 0 | BH47: =IF((' בריאות א2'!DE25+' בריאות א2'!DL25)=0,0,(' בריאות א2'!DE25+' בריאות א2'!DL25)/(' בריאות א2'!$DD$28+' בריאות א2'!$DK$28)) -> 0 | BI47: =IF((' בריאות א2'!DF25+' בריאות א2'!DM25)=0,0,(' בריאות א2'!DF25+' בריאות א2'!DM25)/(' בריאות א2'!$DD$28+' בריאות א2'!$DK$28)) -> 0 | BJ47: =IF((' בריאות א2'!DG25+' בריאות א2'!DN25)=0,0,(' בריאות א2'!DG25+' בריאות א2'!DN25)/(' בריאות א2'!$DD$28+' בריאות א2'!$DK$28)) -> 0 | BK47: =IF((' בריאות א2'!DH25+' בריאות א2'!DO25)=0,0,(' בריאות א2'!DH25+' בריאות א2'!DO25)/(' בריאות א2'!$DD$28+' בריאות א2'!$DK$28)) -> 0 | BL47: =IF((' בריאות א2'!DI25+' בריאות א2'!DP25)=0,0,(' בריאות א2'!DI25+' בריאות א2'!DP25)/(' בריאות א2'!$DD$28+' בריאות א2'!$DK$28)) -> 0 | BM47: =IF((' בריאות א2'!DJ25+' בריאות א2'!DQ25)=0,0,(' בריאות א2'!DJ25+' בריאות א2'!DQ25)/(' בריאות א2'!$DD$28+' בריאות א2'!$DK$28)) -> 0
A48: 3 | B48: פשרה | C48: =SUM(D48:I48) -> 0 | D48: =IF(' בריאות א2'!D26+' בריאות א2'!K26=0,0,(' בריאות א2'!D26+' בריאות א2'!K26)/(' בריאות א2'!$C$28+' בריאות א2'!$J$28)) -> 0 | E48: =IF(' בריאות א2'!E26+' בריאות א2'!L26=0,0,(' בריאות א2'!E26+' בריאות א2'!L26)/(' בריאות א2'!$C$28+' בריאות א2'!$J$28)) -> 0 | F48: =IF(' בריאות א2'!F26+' בריאות א2'!M26=0,0,(' בריאות א2'!F26+' בריאות א2'!M26)/(' בריאות א2'!$C$28+' בריאות א2'!$J$28)) -> 0 | G48: =IF(' בריאות א2'!G26+' בריאות א2'!N26=0,0,(' בריאות א2'!G26+' בריאות א2'!N26)/(' בריאות א2'!$C$28+' בריאות א2'!$J$28)) -> 0 | H48: =IF(' בריאות א2'!H26+' בריאות א2'!O26=0,0,(' בריאות א2'!H26+' בריאות א2'!O26)/(' בריאות א2'!$C$28+' בריאות א2'!$J$28)) -> 0 | I48: =IF(' בריאות א2'!I26+' בריאות א2'!P26=0,0,(' בריאות א2'!I26+' בריאות א2'!P26)/(' בריאות א2'!$C$28+' בריאות א2'!$J$28)) -> 0 | J48: =SUM(K48:P48) -> 0 | K48: =IF(' בריאות א2'!R26+' בריאות א2'!Y26=0,0,(' בריאות א2'!R26+' בריאות א2'!Y26)/(' בריאות א2'!$Q$28+' בריאות א2'!$X$28)) -> 0 | L48: =IF(' בריאות א2'!S26+' בריאות א2'!Z26=0,0,(' בריאות א2'!S26+' בריאות א2'!Z26)/(' בריאות א2'!$Q$28+' בריאות א2'!$X$28)) -> 0 | M48: =IF(' בריאות א2'!T26+' בריאות א2'!AA26=0,0,(' בריאות א2'!T26+' בריאות א2'!AA26)/(' בריאות א2'!$Q$28+' בריאות א2'!$X$28)) -> 0 | N48: =IF(' בריאות א2'!U26+' בריאות א2'!AB26=0,0,(' בריאות א2'!U26+' בריאות א2'!AB26)/(' בריאות א2'!$Q$28+' בריאות א2'!$X$28)) -> 0 | O48: =IF(' בריאות א2'!V26+' בריאות א2'!AC26=0,0,(' בריאות א2'!V26+' בריאות א2'!AC26)/(' בריאות א2'!$Q$28+' בריאות א2'!$X$28)) -> 0 | P48: =IF(' בריאות א2'!W26+' בריאות א2'!AD26=0,0,(' בריאות א2'!W26+' בריאות א2'!AD26)/(' בריאות א2'!$Q$28+' בריאות א2'!$X$28)) -> 0 | Q48: =SUM(R48:W48) -> 0 | R48: =IF(' בריאות א2'!AF26+' בריאות א2'!AM26=0,0,(' בריאות א2'!AF26+' בריאות א2'!AM26)/(' בריאות א2'!$AE$28+' בריאות א2'!$AL$28)) -> 0 | S48: =IF(' בריאות א2'!AG26+' בריאות א2'!AN26=0,0,(' בריאות א2'!AG26+' בריאות א2'!AN26)/(' בריאות א2'!$AE$28+' בריאות א2'!$AL$28)) -> 0 | T48: =IF(' בריאות א2'!AH26+' בריאות א2'!AO26=0,0,(' בריאות א2'!AH26+' בריאות א2'!AO26)/(' בריאות א2'!$AE$28+' בריאות א2'!$AL$28)) -> 0 | U48: =IF(' בריאות א2'!AI26+' בריאות א2'!AP26=0,0,(' בריאות א2'!AI26+' בריאות א2'!AP26)/(' בריאות א2'!$AE$28+' בריאות א2'!$AL$28)) -> 0 | V48: =IF(' בריאות א2'!AJ26+' בריאות א2'!AQ26=0,0,(' בריאות א2'!AJ26+' בריאות א2'!AQ26)/(' בריאות א2'!$AE$28+' בריאות א2'!$AL$28)) -> 0 | W48: =IF(' בריאות א2'!AK26+' בריאות א2'!AR26=0,0,(' בריאות א2'!AK26+' בריאות א2'!AR26)/(' בריאות א2'!$AE$28+' בריאות א2'!$AL$28)) -> 0 | X48: =SUM(Y48:AD48) -> 0 | Y48: =IF((' בריאות א2'!AT26+' בריאות א2'!BA26)=0,0,(' בריאות א2'!AT26+' בריאות א2'!BA26)/(' בריאות א2'!$AZ$28+' בריאות א2'!$AS$28)) -> 0 | Z48: =IF((' בריאות א2'!AU26+' בריאות א2'!BB26)=0,0,(' בריאות א2'!AU26+' בריאות א2'!BB26)/(' בריאות א2'!$AZ$28+' בריאות א2'!$AS$28)) -> 0 | AA48: =IF((' בריאות א2'!AV26+' בריאות א2'!BC26)=0,0,(' בריאות א2'!AV26+' בריאות א2'!BC26)/(' בריאות א2'!$AZ$28+' בריאות א2'!$AS$28)) -> 0 | AB48: =IF((' בריאות א2'!AW26+' בריאות א2'!BD26)=0,0,(' בריאות א2'!AW26+' בריאות א2'!BD26)/(' בריאות א2'!$AZ$28+' בריאות א2'!$AS$28)) -> 0 | AC48: =IF((' בריאות א2'!AX26+' בריאות א2'!BE26)=0,0,(' בריאות א2'!AX26+' בריאות א2'!BE26)/(' בריאות א2'!$AZ$28+' בריאות א2'!$AS$28)) -> 0 | AD48: =IF((' בריאות א2'!AY26+' בריאות א2'!BF26)=0,0,(' בריאות א2'!AY26+' בריאות א2'!BF26)/(' בריאות א2'!$AZ$28+' בריאות א2'!$AS$28)) -> 0 | AE48: =SUM(AF48:AK48) -> 0 | AF48: =IF(' בריאות א2'!BH26=0,0,' בריאות א2'!BH26/' בריאות א2'!$BG$28) -> 0 | AG48: =IF(' בריאות א2'!BI26=0,0,' בריאות א2'!BI26/' בריאות א2'!$BG$28) -> 0 | AH48: =IF(' בריאות א2'!BJ26=0,0,' בריאות א2'!BJ26/' בריאות א2'!$BG$28) -> 0 | AI48: =IF(' בריאות א2'!BK26=0,0,' בריאות א2'!BK26/' בריאות א2'!$BG$28) -> 0 | AJ48: =IF(' בריאות א2'!BL26=0,0,' בריאות א2'!BL26/' בריאות א2'!$BG$28) -> 0 | AK48: =IF(' בריאות א2'!BM26=0,0,' בריאות א2'!BM26/' בריאות א2'!$BG$28) -> 0 | AL48: =SUM(AM48:AR48) -> 0 | AM48: =IF((' בריאות א2'!BO26+' בריאות א2'!BV26)=0,0,(' בריאות א2'!BO26+' בריאות א2'!BV26)/(' בריאות א2'!$BN$28+' בריאות א2'!$BU$28)) -> 0 | AN48: =IF((' בריאות א2'!BP26+' בריאות א2'!BW26)=0,0,(' בריאות א2'!BP26+' בריאות א2'!BW26)/(' בריאות א2'!$BN$28+' בריאות א2'!$BU$28)) -> 0 | AO48: =IF((' בריאות א2'!BQ26+' בריאות א2'!BX26)=0,0,(' בריאות א2'!BQ26+' בריאות א2'!BX26)/(' בריאות א2'!$BN$28+' בריאות א2'!$BU$28)) -> 0 | AP48: =IF((' בריאות א2'!BR26+' בריאות א2'!BY26)=0,0,(' בריאות א2'!BR26+' בריאות א2'!BY26)/(' בריאות א2'!$BN$28+' בריאות א2'!$BU$28)) -> 0 | AQ48: =IF((' בריאות א2'!BS26+' בריאות א2'!BZ26)=0,0,(' בריאות א2'!BS26+' בריאות א2'!BZ26)/(' בריאות א2'!$BN$28+' בריאות א2'!$BU$28)) -> 0 | AR48: =IF((' בריאות א2'!BT26+' בריאות א2'!CA26)=0,0,(' בריאות א2'!BT26+' בריאות א2'!CA26)/(' בריאות א2'!$BN$28+' בריאות א2'!$BU$28)) -> 0 | AS48: =SUM(AT48:AY48) -> 0 | AT48: =IF((' בריאות א2'!CC26+' בריאות א2'!CJ26)=0,0,(' בריאות א2'!CC26+' בריאות א2'!CJ26)/(' בריאות א2'!$CB$28+' בריאות א2'!$CI$28)) -> 0 | AU48: =IF((' בריאות א2'!CD26+' בריאות א2'!CK26)=0,0,(' בריאות א2'!CD26+' בריאות א2'!CK26)/(' בריאות א2'!$CB$28+' בריאות א2'!$CI$28)) -> 0 | AV48: =IF((' בריאות א2'!CE26+' בריאות א2'!CL26)=0,0,(' בריאות א2'!CE26+' בריאות א2'!CL26)/(' בריאות א2'!$CB$28+' בריאות א2'!$CI$28)) -> 0 | AW48: =IF((' בריאות א2'!CF26+' בריאות א2'!CM26)=0,0,(' בריאות א2'!CF26+' בריאות א2'!CM26)/(' בריאות א2'!$CB$28+' בריאות א2'!$CI$28)) -> 0 | AX48: =IF((' בריאות א2'!CG26+' בריאות א2'!CN26)=0,0,(' בריאות א2'!CG26+' בריאות א2'!CN26)/(' בריאות א2'!$CB$28+' בריאות א2'!$CI$28)) -> 0 | AY48: =IF((' בריאות א2'!CH26+' בריאות א2'!CO26)=0,0,(' בריאות א2'!CH26+' בריאות א2'!CO26)/(' בריאות א2'!$CB$28+' בריאות א2'!$CI$28)) -> 0 | AZ48: =SUM(BA48:BF48) -> 0 | BA48: =IF((' בריאות א2'!CQ26+' בריאות א2'!CX26)=0,0,(' בריאות א2'!CQ26+' בריאות א2'!CX26)/(' בריאות א2'!$CP$28+' בריאות א2'!$CW$28)) -> 0 | BB48: =IF((' בריאות א2'!CR26+' בריאות א2'!CY26)=0,0,(' בריאות א2'!CR26+' בריאות א2'!CY26)/(' בריאות א2'!$CP$28+' בריאות א2'!$CW$28)) -> 0 | BC48: =IF((' בריאות א2'!CS26+' בריאות א2'!CZ26)=0,0,(' בריאות א2'!CS26+' בריאות א2'!CZ26)/(' בריאות א2'!$CP$28+' בריאות א2'!$CW$28)) -> 0 | BD48: =IF((' בריאות א2'!CT26+' בריאות א2'!DA26)=0,0,(' בריאות א2'!CT26+' בריאות א2'!DA26)/(' בריאות א2'!$CP$28+' בריאות א2'!$CW$28)) -> 0 | BE48: =IF((' בריאות א2'!CU26+' בריאות א2'!DB26)=0,0,(' בריאות א2'!CU26+' בריאות א2'!DB26)/(' בריאות א2'!$CP$28+' בריאות א2'!$CW$28)) -> 0 | BF48: =IF((' בריאות א2'!CV26+' בריאות א2'!DC26)=0,0,(' בריאות א2'!CV26+' בריאות א2'!DC26)/(' בריאות א2'!$CP$28+' בריאות א2'!$CW$28)) -> 0 | BG48: =SUM(BH48:BM48) -> 0 | BH48: =IF((' בריאות א2'!DE26+' בריאות א2'!DL26)=0,0,(' בריאות א2'!DE26+' בריאות א2'!DL26)/(' בריאות א2'!$DD$28+' בריאות א2'!$DK$28)) -> 0 | BI48: =IF((' בריאות א2'!DF26+' בריאות א2'!DM26)=0,0,(' בריאות א2'!DF26+' בריאות א2'!DM26)/(' בריאות א2'!$DD$28+' בריאות א2'!$DK$28)) -> 0 | BJ48: =IF((' בריאות א2'!DG26+' בריאות א2'!DN26)=0,0,(' בריאות א2'!DG26+' בריאות א2'!DN26)/(' בריאות א2'!$DD$28+' בריאות א2'!$DK$28)) -> 0 | BK48: =IF((' בריאות א2'!DH26+' בריאות א2'!DO26)=0,0,(' בריאות א2'!DH26+' בריאות א2'!DO26)/(' בריאות א2'!$DD$28+' בריאות א2'!$DK$28)) -> 0 | BL48: =IF((' בריאות א2'!DI26+' בריאות א2'!DP26)=0,0,(' בריאות א2'!DI26+' בריאות א2'!DP26)/(' בריאות א2'!$DD$28+' בריאות א2'!$DK$28)) -> 0 | BM48: =IF((' בריאות א2'!DJ26+' בריאות א2'!DQ26)=0,0,(' בריאות א2'!DJ26+' בריאות א2'!DQ26)/(' בריאות א2'!$DD$28+' בריאות א2'!$DK$28)) -> 0
A49: 4 | B49: אחר | C49: =SUM(D49:I49) -> 0 | D49: =IF(' בריאות א2'!D27+' בריאות א2'!K27=0,0,(' בריאות א2'!D27+' בריאות א2'!K27)/(' בריאות א2'!$C$28+' בריאות א2'!$J$28)) -> 0 | E49: =IF(' בריאות א2'!E27+' בריאות א2'!L27=0,0,(' בריאות א2'!E27+' בריאות א2'!L27)/(' בריאות א2'!$C$28+' בריאות א2'!$J$28)) -> 0 | F49: =IF(' בריאות א2'!F27+' בריאות א2'!M27=0,0,(' בריאות א2'!F27+' בריאות א2'!M27)/(' בריאות א2'!$C$28+' בריאות א2'!$J$28)) -> 0 | G49: =IF(' בריאות א2'!G27+' בריאות א2'!N27=0,0,(' בריאות א2'!G27+' בריאות א2'!N27)/(' בריאות א2'!$C$28+' בריאות א2'!$J$28)) -> 0 | H49: =IF(' בריאות א2'!H27+' בריאות א2'!O27=0,0,(' בריאות א2'!H27+' בריאות א2'!O27)/(' בריאות א2'!$C$28+' בריאות א2'!$J$28)) -> 0 | I49: =IF(' בריאות א2'!I27+' בריאות א2'!P27=0,0,(' בריאות א2'!I27+' בריאות א2'!P27)/(' בריאות א2'!$C$28+' בריאות א2'!$J$28)) -> 0 | J49: =SUM(K49:P49) -> 0 | K49: =IF(' בריאות א2'!R27+' בריאות א2'!Y27=0,0,(' בריאות א2'!R27+' בריאות א2'!Y27)/(' בריאות א2'!$Q$28+' בריאות א2'!$X$28)) -> 0 | L49: =IF(' בריאות א2'!S27+' בריאות א2'!Z27=0,0,(' בריאות א2'!S27+' בריאות א2'!Z27)/(' בריאות א2'!$Q$28+' בריאות א2'!$X$28)) -> 0 | M49: =IF(' בריאות א2'!T27+' בריאות א2'!AA27=0,0,(' בריאות א2'!T27+' בריאות א2'!AA27)/(' בריאות א2'!$Q$28+' בריאות א2'!$X$28)) -> 0 | N49: =IF(' בריאות א2'!U27+' בריאות א2'!AB27=0,0,(' בריאות א2'!U27+' בריאות א2'!AB27)/(' בריאות א2'!$Q$28+' בריאות א2'!$X$28)) -> 0 | O49: =IF(' בריאות א2'!V27+' בריאות א2'!AC27=0,0,(' בריאות א2'!V27+' בריאות א2'!AC27)/(' בריאות א2'!$Q$28+' בריאות א2'!$X$28)) -> 0 | P49: =IF(' בריאות א2'!W27+' בריאות א2'!AD27=0,0,(' בריאות א2'!W27+' בריאות א2'!AD27)/(' בריאות א2'!$Q$28+' בריאות א2'!$X$28)) -> 0 | Q49: =SUM(R49:W49) -> 0 | R49: =IF(' בריאות א2'!AF27+' בריאות א2'!AM27=0,0,(' בריאות א2'!AF27+' בריאות א2'!AM27)/(' בריאות א2'!$AE$28+' בריאות א2'!$AL$28)) -> 0 | S49: =IF(' בריאות א2'!AG27+' בריאות א2'!AN27=0,0,(' בריאות א2'!AG27+' בריאות א2'!AN27)/(' בריאות א2'!$AE$28+' בריאות א2'!$AL$28)) -> 0 | T49: =IF(' בריאות א2'!AH27+' בריאות א2'!AO27=0,0,(' בריאות א2'!AH27+' בריאות א2'!AO27)/(' בריאות א2'!$AE$28+' בריאות א2'!$AL$28)) -> 0 | U49: =IF(' בריאות א2'!AI27+' בריאות א2'!AP27=0,0,(' בריאות א2'!AI27+' בריאות א2'!AP27)/(' בריאות א2'!$AE$28+' בריאות א2'!$AL$28)) -> 0 | V49: =IF(' בריאות א2'!AJ27+' בריאות א2'!AQ27=0,0,(' בריאות א2'!AJ27+' בריאות א2'!AQ27)/(' בריאות א2'!$AE$28+' בריאות א2'!$AL$28)) -> 0 | W49: =IF(' בריאות א2'!AK27+' בריאות א2'!AR27=0,0,(' בריאות א2'!AK27+' בריאות א2'!AR27)/(' בריאות א2'!$AE$28+' בריאות א2'!$AL$28)) -> 0 | X49: =SUM(Y49:AD49) -> 0 | Y49: =IF((' בריאות א2'!AT27+' בריאות א2'!BA27)=0,0,(' בריאות א2'!AT27+' בריאות א2'!BA27)/(' בריאות א2'!$AZ$28+' בריאות א2'!$AS$28)) -> 0 | Z49: =IF((' בריאות א2'!AU27+' בריאות א2'!BB27)=0,0,(' בריאות א2'!AU27+' בריאות א2'!BB27)/(' בריאות א2'!$AZ$28+' בריאות א2'!$AS$28)) -> 0 | AA49: =IF((' בריאות א2'!AV27+' בריאות א2'!BC27)=0,0,(' בריאות א2'!AV27+' בריאות א2'!BC27)/(' בריאות א2'!$AZ$28+' בריאות א2'!$AS$28)) -> 0 | AB49: =IF((' בריאות א2'!AW27+' בריאות א2'!BD27)=0,0,(' בריאות א2'!AW27+' בריאות א2'!BD27)/(' בריאות א2'!$AZ$28+' בריאות א2'!$AS$28)) -> 0 | AC49: =IF((' בריאות א2'!AX27+' בריאות א2'!BE27)=0,0,(' בריאות א2'!AX27+' בריאות א2'!BE27)/(' בריאות א2'!$AZ$28+' בריאות א2'!$AS$28)) -> 0 | AD49: =IF((' בריאות א2'!AY27+' בריאות א2'!BF27)=0,0,(' בריאות א2'!AY27+' בריאות א2'!BF27)/(' בריאות א2'!$AZ$28+' בריאות א2'!$AS$28)) -> 0 | AE49: =SUM(AF49:AK49) -> 0 | AF49: =IF(' בריאות א2'!BH27=0,0,' בריאות א2'!BH27/' בריאות א2'!$BG$28) -> 0 | AG49: =IF(' בריאות א2'!BI27=0,0,' בריאות א2'!BI27/' בריאות א2'!$BG$28) -> 0 | AH49: =IF(' בריאות א2'!BJ27=0,0,' בריאות א2'!BJ27/' בריאות א2'!$BG$28) -> 0 | AI49: =IF(' בריאות א2'!BK27=0,0,' בריאות א2'!BK27/' בריאות א2'!$BG$28) -> 0 | AJ49: =IF(' בריאות א2'!BL27=0,0,' בריאות א2'!BL27/' בריאות א2'!$BG$28) -> 0 | AK49: =IF(' בריאות א2'!BM27=0,0,' בריאות א2'!BM27/' בריאות א2'!$BG$28) -> 0 | AL49: =SUM(AM49:AR49) -> 0 | AM49: =IF((' בריאות א2'!BO27+' בריאות א2'!BV27)=0,0,(' בריאות א2'!BO27+' בריאות א2'!BV27)/(' בריאות א2'!$BN$28+' בריאות א2'!$BU$28)) -> 0 | AN49: =IF((' בריאות א2'!BP27+' בריאות א2'!BW27)=0,0,(' בריאות א2'!BP27+' בריאות א2'!BW27)/(' בריאות א2'!$BN$28+' בריאות א2'!$BU$28)) -> 0 | AO49: =IF((' בריאות א2'!BQ27+' בריאות א2'!BX27)=0,0,(' בריאות א2'!BQ27+' בריאות א2'!BX27)/(' בריאות א2'!$BN$28+' בריאות א2'!$BU$28)) -> 0 | AP49: =IF((' בריאות א2'!BR27+' בריאות א2'!BY27)=0,0,(' בריאות א2'!BR27+' בריאות א2'!BY27)/(' בריאות א2'!$BN$28+' בריאות א2'!$BU$28)) -> 0 | AQ49: =IF((' בריאות א2'!BS27+' בריאות א2'!BZ27)=0,0,(' בריאות א2'!BS27+' בריאות א2'!BZ27)/(' בריאות א2'!$BN$28+' בריאות א2'!$BU$28)) -> 0 | AR49: =IF((' בריאות א2'!BT27+' בריאות א2'!CA27)=0,0,(' בריאות א2'!BT27+' בריאות א2'!CA27)/(' בריאות א2'!$BN$28+' בריאות א2'!$BU$28)) -> 0 | AS49: =SUM(AT49:AY49) -> 0 | AT49: =IF((' בריאות א2'!CC27+' בריאות א2'!CJ27)=0,0,(' בריאות א2'!CC27+' בריאות א2'!CJ27)/(' בריאות א2'!$CB$28+' בריאות א2'!$CI$28)) -> 0 | AU49: =IF((' בריאות א2'!CD27+' בריאות א2'!CK27)=0,0,(' בריאות א2'!CD27+' בריאות א2'!CK27)/(' בריאות א2'!$CB$28+' בריאות א2'!$CI$28)) -> 0 | AV49: =IF((' בריאות א2'!CE27+' בריאות א2'!CL27)=0,0,(' בריאות א2'!CE27+' בריאות א2'!CL27)/(' בריאות א2'!$CB$28+' בריאות א2'!$CI$28)) -> 0 | AW49: =IF((' בריאות א2'!CF27+' בריאות א2'!CM27)=0,0,(' בריאות א2'!CF27+' בריאות א2'!CM27)/(' בריאות א2'!$CB$28+' בריאות א2'!$CI$28)) -> 0 | AX49: =IF((' בריאות א2'!CG27+' בריאות א2'!CN27)=0,0,(' בריאות א2'!CG27+' בריאות א2'!CN27)/(' בריאות א2'!$CB$28+' בריאות א2'!$CI$28)) -> 0 | AY49: =IF((' בריאות א2'!CH27+' בריאות א2'!CO27)=0,0,(' בריאות א2'!CH27+' בריאות א2'!CO27)/(' בריאות א2'!$CB$28+' בריאות א2'!$CI$28)) -> 0 | AZ49: =SUM(BA49:BF49) -> 0 | BA49: =IF((' בריאות א2'!CQ27+' בריאות א2'!CX27)=0,0,(' בריאות א2'!CQ27+' בריאות א2'!CX27)/(' בריאות א2'!$CP$28+' בריאות א2'!$CW$28)) -> 0 | BB49: =IF((' בריאות א2'!CR27+' בריאות א2'!CY27)=0,0,(' בריאות א2'!CR27+' בריאות א2'!CY27)/(' בריאות א2'!$CP$28+' בריאות א2'!$CW$28)) -> 0 | BC49: =IF((' בריאות א2'!CS27+' בריאות א2'!CZ27)=0,0,(' בריאות א2'!CS27+' בריאות א2'!CZ27)/(' בריאות א2'!$CP$28+' בריאות א2'!$CW$28)) -> 0 | BD49: =IF((' בריאות א2'!CT27+' בריאות א2'!DA27)=0,0,(' בריאות א2'!CT27+' בריאות א2'!DA27)/(' בריאות א2'!$CP$28+' בריאות א2'!$CW$28)) -> 0 | BE49: =IF((' בריאות א2'!CU27+' בריאות א2'!DB27)=0,0,(' בריאות א2'!CU27+' בריאות א2'!DB27)/(' בריאות א2'!$CP$28+' בריאות א2'!$CW$28)) -> 0 | BF49: =IF((' בריאות א2'!CV27+' בריאות א2'!DC27)=0,0,(' בריאות א2'!CV27+' בריאות א2'!DC27)/(' בריאות א2'!$CP$28+' בריאות א2'!$CW$28)) -> 0 | BG49: =SUM(BH49:BM49) -> 0 | BH49: =IF((' בריאות א2'!DE27+' בריאות א2'!DL27)=0,0,(' בריאות א2'!DE27+' בריאות א2'!DL27)/(' בריאות א2'!$DD$28+' בריאות א2'!$DK$28)) -> 0 | BI49: =IF((' בריאות א2'!DF27+' בריאות א2'!DM27)=0,0,(' בריאות א2'!DF27+' בריאות א2'!DM27)/(' בריאות א2'!$DD$28+' בריאות א2'!$DK$28)) -> 0 | BJ49: =IF((' בריאות א2'!DG27+' בריאות א2'!DN27)=0,0,(' בריאות א2'!DG27+' בריאות א2'!DN27)/(' בריאות א2'!$DD$28+' בריאות א2'!$DK$28)) -> 0 | BK49: =IF((' בריאות א2'!DH27+' בריאות א2'!DO27)=0,0,(' בריאות א2'!DH27+' בריאות א2'!DO27)/(' בריאות א2'!$DD$28+' בריאות א2'!$DK$28)) -> 0 | BL49: =IF((' בריאות א2'!DI27+' בריאות א2'!DP27)=0,0,(' בריאות א2'!DI27+' בריאות א2'!DP27)/(' בריאות א2'!$DD$28+' בריאות א2'!$DK$28)) -> 0 | BM49: =IF((' בריאות א2'!DJ27+' בריאות א2'!DQ27)=0,0,(' בריאות א2'!DJ27+' בריאות א2'!DQ27)/(' בריאות א2'!$DD$28+' בריאות א2'!$DK$28)) -> 0
A50: 5 | B50: סה"כ (ג1+ג2+ג3+ג4) | C50: =SUM(C46:C49) -> 0 | D50: =SUM(D46:D49) -> 0 | E50: =SUM(E46:E49) -> 0 | F50: =SUM(F46:F49) -> 0 | G50: =SUM(G46:G49) -> 0 | H50: =SUM(H46:H49) -> 0 | I50: =SUM(I46:I49) -> 0 | J50: =SUM(J46:J49) -> 0 | ... BM50: =SUM(BM46:BM49) -> 0

Sheet   בריאות ג2
B1: =הוראות!B28 -> נספח ב2 מדדי תביעות בביטוח בריאות
B2: =הוראות!B13 -> ק.ה.ר הקרן השתלמות לרוקחים בע"מ
B3: =CONCATENATE(הוראות!Z13,הוראות!F13) -> הנתונים ביחידות בודדות לשנת 2020 | F3: =E3-1 -> -1
B4: חזרה
B6: מדדי התביעות (באחוזים) | E6: ניתוחים בארץ ובחו"ל | L6: השתלות בארץ ובחו"ל | S6: סיעודי | Z6: מחלות קשות | AG6: עובדים זרים | AN6: נכויות | AU6: תאונות אישיות | BB6: נסיעות לחו"ל (למעט כבודה) | BI6: תרופות
E7: סה"כ | F7: עד 14 יום | G7: 15-30 יום | H7: 31-60 יום | I7: 61-120 יום | J7: 121-180 יום | K7: 181 יום ומעלה | L7: סה"כ | M7: עד 14 יום | N7: 15-30 יום | O7: 31-60 יום | P7: 61-120 יום | Q7: 121-180 יום | R7: 181 יום ומעלה | S7: סה"כ | T7: עד 14 יום | U7: 15-30 יום | V7: 31-60 יום | W7: 61-120 יום | X7: 121-180 יום | Y7: 181 יום ומעלה | Z7: סה"כ | AA7: עד 14 יום | AB7: 15-30 יום | AC7: 31-60 יום | AD7: 61-120 יום | AE7: 121-180 יום | AF7: 181 יום ומעלה | AG7: סה"כ | AH7: עד 14 יום | AI7: 15-30 יום | AJ7: 31-60 יום | AK7: 61-120 יום | AL7: 121-180 יום | AM7: 181 יום ומעלה | AN7: סה"כ | AO7: עד 14 יום | AP7: 15-30 יום | AQ7: 31-60 יום | AR7: 61-120 יום | AS7: 121-180 יום | AT7: 181 יום ומעלה | AU7: סה"כ | AV7: עד 14 יום | AW7: 15-30 יום | AX7: 31-60 יום | AY7: 61-120 יום | AZ7: 121-180 יום | BA7: 181 יום ומעלה | BB7: סה"כ | BC7: עד 14 יום | BD7: 15-30 יום | BE7: 31-60 יום | BF7: 61-120 יום | BG7: 121-180 יום | BH7: 181 יום ומעלה | BI7: סה"כ | BJ7: עד 14 יום | BK7: 15-30 יום | BL7: 31-60 יום | BM7: 61-120 יום | BN7: 121-180 יום | BO7: 181 יום ומעלה
E8: (1) | F8: (2) | G8: (3) | H8: (4) | I8: (5) | J8: (6) | K8: (7) | L8: (8) | M8: (9) | N8: (10) | O8: (11) | P8: (12) | Q8: (13) | R8: (14) | S8: (15) | T8: (16) | U8: (17) | V8: (18) | W8: (19) | X8: (20) | Y8: (21) | Z8: (22) | AA8: (23) | AB8: (24) | AC8: (25) | AD8: (26) | AE8: (27) | AF8: (28) | AG8: (29) | AH8: (30) | AI8: (31) | AJ8: (32) | AK8: (33) | AL8: (34) | AM8: (35) | AN8: (36) | AO8: (37) | AP8: (38) | AQ8: (39) | AR8: (40) | AS8: (41) | AT8: (42) | AU8: (43) | AV8: (44) | AW8: (45) | AX8: (46) | AY8: (47) | AZ8: (48) | BA8: (49) | BB8: (50) | BC8: (51) | BD8: (52) | BE8: (53) | BF8: (54) | BG8: (55) | BH8: (56) | BI8: (57) | BJ8: (58) | BK8: (59) | BL8: (60) | BM8: (61) | BN8: (62) | BO8: (63)
A9: א | B9: תביעות:
A10: 3 | B10: תביעות ששולמו | E10: =SUM(F10:K10) -> 0 | F10: =IF((' בריאות א2'!D12+' בריאות א2'!K12)=0,0,(' בריאות א2'!D12+' בריאות א2'!K12)/(' בריאות א2'!$C$17+' בריאות א2'!$J$17)) -> 0 | G10: =IF((' בריאות א2'!E12+' בריאות א2'!L12)=0,0,(' בריאות א2'!E12+' בריאות א2'!L12)/(' בריאות א2'!$C$17+' בריאות א2'!$J$17)) -> 0 | H10: =IF((' בריאות א2'!F12+' בריאות א2'!M12)=0,0,(' בריאות א2'!F12+' בריאות א2'!M12)/(' בריאות א2'!$C$17+' בריאות א2'!$J$17)) -> 0 | I10: =IF((' בריאות א2'!G12+' בריאות א2'!N12)=0,0,(' בריאות א2'!G12+' בריאות א2'!N12)/(' בריאות א2'!$C$17+' בריאות א2'!$J$17)) -> 0 | J10: =IF((' בריאות א2'!H12+' בריאות א2'!O12)=0,0,(' בריאות א2'!H12+' בריאות א2'!O12)/(' בריאות א2'!$C$17+' בריאות א2'!$J$17)) -> 0 | K10: =IF((' בריאות א2'!I12+' בריאות א2'!P12)=0,0,(' בריאות א2'!I12+' בריאות א2'!P12)/(' בריאות א2'!$C$17+' בריאות א2'!$J$17)) -> 0 | L10: =SUM(M10:R10) -> 0 | M10: =IF((' בריאות א2'!R12+' בריאות א2'!Y12)=0,0,(' בריאות א2'!R12+' בריאות א2'!Y12)/(' בריאות א2'!$Q$17+' בריאות א2'!$X$17)) -> 0 | N10: =IF((' בריאות א2'!S12+' בריאות א2'!Z12)=0,0,(' בריאות א2'!S12+' בריאות א2'!Z12)/(' בריאות א2'!$Q$17+' בריאות א2'!$X$17)) -> 0 | O10: =IF((' בריאות א2'!T12+' בריאות א2'!AA12)=0,0,(' בריאות א2'!T12+' בריאות א2'!AA12)/(' בריאות א2'!$Q$17+' בריאות א2'!$X$17)) -> 0 | P10: =IF((' בריאות א2'!U12+' בריאות א2'!AB12)=0,0,(' בריאות א2'!U12+' בריאות א2'!AB12)/(' בריאות א2'!$Q$17+' בריאות א2'!$X$17)) -> 0 | Q10: =IF((' בריאות א2'!V12+' בריאות א2'!AC12)=0,0,(' בריאות א2'!V12+' בריאות א2'!AC12)/(' בריאות א2'!$Q$17+' בריאות א2'!$X$17)) -> 0 | R10: =IF((' בריאות א2'!W12+' בריאות א2'!AD12)=0,0,(' בריאות א2'!W12+' בריאות א2'!AD12)/(' בריאות א2'!$Q$17+' בריאות א2'!$X$17)) -> 0 | S10: =SUM(T10:Y10) -> 0 | T10: =IF((' בריאות א2'!AF12+' בריאות א2'!AM12)=0,0,(' בריאות א2'!AF12+' בריאות א2'!AM12)/(' בריאות א2'!$AE$17+' בריאות א2'!$AL$17)) -> 0 | U10: =IF((' בריאות א2'!AG12+' בריאות א2'!AN12)=0,0,(' בריאות א2'!AG12+' בריאות א2'!AN12)/(' בריאות א2'!$AE$17+' בריאות א2'!$AL$17)) -> 0 | V10: =IF((' בריאות א2'!AH12+' בריאות א2'!AO12)=0,0,(' בריאות א2'!AH12+' בריאות א2'!AO12)/(' בריאות א2'!$AE$17+' בריאות א2'!$AL$17)) -> 0 | W10: =IF((' בריאות א2'!AI12+' בריאות א2'!AP12)=0,0,(' בריאות א2'!AI12+' בריאות א2'!AP12)/(' בריאות א2'!$AE$17+' בריאות א2'!$AL$17)) -> 0 | X10: =IF((' בריאות א2'!AJ12+' בריאות א2'!AQ12)=0,0,(' בריאות א2'!AJ12+' בריאות א2'!AQ12)/(' בריאות א2'!$AE$17+' בריאות א2'!$AL$17)) -> 0 | Y10: =IF((' בריאות א2'!AK12+' בריאות א2'!AR12)=0,0,(' בריאות א2'!AK12+' בריאות א2'!AR12)/(' בריאות א2'!$AE$17+' בריאות א2'!$AL$17)) -> 0 | Z10: =SUM(AA10:AF10) -> 0 | AA10: =IF((' בריאות א2'!AT12+' בריאות א2'!BA12)=0,0,(' בריאות א2'!AT12+' בריאות א2'!BA12)/(' בריאות א2'!$AZ$17+' בריאות א2'!$AS$17)) -> 0 | AB10: =IF((' בריאות א2'!AU12+' בריאות א2'!BB12)=0,0,(' בריאות א2'!AU12+' בריאות א2'!BB12)/(' בריאות א2'!$AZ$17+' בריאות א2'!$AS$17)) -> 0 | AC10: =IF((' בריאות א2'!AV12+' בריאות א2'!BC12)=0,0,(' בריאות א2'!AV12+' בריאות א2'!BC12)/(' בריאות א2'!$AZ$17+' בריאות א2'!$AS$17)) -> 0 | AD10: =IF((' בריאות א2'!AW12+' בריאות א2'!BD12)=0,0,(' בריאות א2'!AW12+' בריאות א2'!BD12)/(' בריאות א2'!$AZ$17+' בריאות א2'!$AS$17)) -> 0 | AE10: =IF((' בריאות א2'!AX12+' בריאות א2'!BE12)=0,0,(' בריאות א2'!AX12+' בריאות א2'!BE12)/(' בריאות א2'!$AZ$17+' בריאות א2'!$AS$17)) -> 0 | AF10: =IF((' בריאות א2'!AY12+' בריאות א2'!BF12)=0,0,(' בריאות א2'!AY12+' בריאות א2'!BF12)/(' בריאות א2'!$AZ$17+' בריאות א2'!$AS$17)) -> 0 | AG10: =SUM(AH10:AM10) -> 0 | AH10: =IF(' בריאות א2'!BH12=0,0,' בריאות א2'!BH12/' בריאות א2'!$BG$17) -> 0 | AI10: =IF(' בריאות א2'!BI12=0,0,' בריאות א2'!BI12/' בריאות א2'!$BG$17) -> 0 | AJ10: =IF(' בריאות א2'!BJ12=0,0,' בריאות א2'!BJ12/' בריאות א2'!$BG$17) -> 0 | AK10: =IF(' בריאות א2'!BK12=0,0,' בריאות א2'!BK12/' בריאות א2'!$BG$17) -> 0 | AL10: =IF(' בריאות א2'!BL12=0,0,' בריאות א2'!BL12/' בריאות א2'!$BG$17) -> 0 | AM10: =IF(' בריאות א2'!BM12=0,0,' בריאות א2'!BM12/' בריאות א2'!$BG$17) -> 0 | AN10: =SUM(AO10:AT10) -> 0 | AO10: =IF((' בריאות א2'!BO12+' בריאות א2'!BV12)=0,0,(' בריאות א2'!BO12+' בריאות א2'!BV12)/(' בריאות א2'!$BN$17+' בריאות א2'!$BU$17)) -> 0 | AP10: =IF((' בריאות א2'!BP12+' בריאות א2'!BW12)=0,0,(' בריאות א2'!BP12+' בריאות א2'!BW12)/(' בריאות א2'!$BN$17+' בריאות א2'!$BU$17)) -> 0 | AQ10: =IF((' בריאות א2'!BQ12+' בריאות א2'!BX12)=0,0,(' בריאות א2'!BQ12+' בריאות א2'!BX12)/(' בריאות א2'!$BN$17+' בריאות א2'!$BU$17)) -> 0 | AR10: =IF((' בריאות א2'!BR12+' בריאות א2'!BY12)=0,0,(' בריאות א2'!BR12+' בריאות א2'!BY12)/(' בריאות א2'!$BN$17+' בריאות א2'!$BU$17)) -> 0 | AS10: =IF((' בריאות א2'!BS12+' בריאות א2'!BZ12)=0,0,(' בריאות א2'!BS12+' בריאות א2'!BZ12)/(' בריאות א2'!$BN$17+' בריאות א2'!$BU$17)) -> 0 | AT10: =IF((' בריאות א2'!BT12+' בריאות א2'!CA12)=0,0,(' בריאות א2'!BT12+' בריאות א2'!CA12)/(' בריאות א2'!$BN$17+' בריאות א2'!$BU$17)) -> 0 | AU10: =SUM(AV10:BA10) -> 0 | AV10: =IF((' בריאות א2'!CC12+' בריאות א2'!CJ12)=0,0,(' בריאות א2'!CC12+' בריאות א2'!CJ12)/(' בריאות א2'!$CB$17+' בריאות א2'!$CI$17)) -> 0 | AW10: =IF((' בריאות א2'!CD12+' בריאות א2'!CK12)=0,0,(' בריאות א2'!CD12+' בריאות א2'!CK12)/(' בריאות א2'!$CB$17+' בריאות א2'!$CI$17)) -> 0 | AX10: =IF((' בריאות א2'!CE12+' בריאות א2'!CL12)=0,0,(' בריאות א2'!CE12+' בריאות א2'!CL12)/(' בריאות א2'!$CB$17+' בריאות א2'!$CI$17)) -> 0 | AY10: =IF((' בריאות א2'!CF12+' בריאות א2'!CM12)=0,0,(' בריאות א2'!CF12+' בריאות א2'!CM12)/(' בריאות א2'!$CB$17+' בריאות א2'!$CI$17)) -> 0 | AZ10: =IF((' בריאות א2'!CG12+' בריאות א2'!CN12)=0,0,(' בריאות א2'!CG12+' בריאות א2'!CN12)/(' בריאות א2'!$CB$17+' בריאות א2'!$CI$17)) -> 0 | BA10: =IF((' בריאות א2'!CH12+' בריאות א2'!CO12)=0,0,(' בריאות א2'!CH12+' בריאות א2'!CO12)/(' בריאות א2'!$CB$17+' בריאות א2'!$CI$17)) -> 0 | BB10: =SUM(BC10:BH10) -> 0 | BC10: =IF((' בריאות א2'!CQ12+' בריאות א2'!CX12)=0,0,(' בריאות א2'!CQ12+' בריאות א2'!CX12)/(' בריאות א2'!$CP$17+' בריאות א2'!$CW$17)) -> 0 | BD10: =IF((' בריאות א2'!CR12+' בריאות א2'!CY12)=0,0,(' בריאות א2'!CR12+' בריאות א2'!CY12)/(' בריאות א2'!$CP$17+' בריאות א2'!$CW$17)) -> 0 | BE10: =IF((' בריאות א2'!CS12+' בריאות א2'!CZ12)=0,0,(' בריאות א2'!CS12+' בריאות א2'!CZ12)/(' בריאות א2'!$CP$17+' בריאות א2'!$CW$17)) -> 0 | BF10: =IF((' בריאות א2'!CT12+' בריאות א2'!DA12)=0,0,(' בריאות א2'!CT12+' בריאות א2'!DA12)/(' בריאות א2'!$CP$17+' בריאות א2'!$CW$17)) -> 0 | BG10: =IF((' בריאות א2'!CU12+' בריאות א2'!DB12)=0,0,(' בריאות א2'!CU12+' בריאות א2'!DB12)/(' בריאות א2'!$CP$17+' בריאות א2'!$CW$17)) -> 0 | BH10: =IF((' בריאות א2'!CV12+' בריאות א2'!DC12)=0,0,(' בריאות א2'!CV12+' בריאות א2'!DC12)/(' בריאות א2'!$CP$17+' בריאות א2'!$CW$17)) -> 0 | BI10: =SUM(BJ10:BO10) -> 0 | BJ10: =IF((' בריאות א2'!DE12+' בריאות א2'!DL12)=0,0,(' בריאות א2'!DE12+' בריאות א2'!DL12)/(' בריאות א2'!$DD$17+' בריאות א2'!$DK$17)) -> 0 | BK10: =IF((' בריאות א2'!DF12+' בריאות א2'!DM12)=0,0,(' בריאות א2'!DF12+' בריאות א2'!DM12)/(' בריאות א2'!$DD$17+' בריאות א2'!$DK$17)) -> 0 | BL10: =IF((' בריאות א2'!DG12+' בריאות א2'!DN12)=0,0,(' בריאות א2'!DG12+' בריאות א2'!DN12)/(' בריאות א2'!$DD$17+' בריאות א2'!$DK$17)) -> 0 | BM10: =IF((' בריאות א2'!DH12+' בריאות א2'!DO12)=0,0,(' בריאות א2'!DH12+' בריאות א2'!DO12)/(' בריאות א2'!$DD$17+' בריאות א2'!$DK$17)) -> 0 | BN10: =IF((' בריאות א2'!DI12+' בריאות א2'!DP12)=0,0,(' בריאות א2'!DI12+' בריאות א2'!DP12)/(' בריאות א2'!$DD$17+' בריאות א2'!$DK$17)) -> 0 | BO10: =IF((' בריאות א2'!DJ12+' בריאות א2'!DQ12)=0,0,(' בריאות א2'!DJ12+' בריאות א2'!DQ12)/(' בריאות א2'!$DD$17+' בריאות א2'!$DK$17)) -> 0
A11: 3א | B11: תביעות ששולמו חלקית | E11: =SUM(F11:K11) -> 0 | F11: =IF((' בריאות א2'!D13+' בריאות א2'!K13)=0,0,(' בריאות א2'!D13+' בריאות א2'!K13)/(' בריאות א2'!$C$17+' בריאות א2'!$J$17)) -> 0 | G11: =IF((' בריאות א2'!E13+' בריאות א2'!L13)=0,0,(' בריאות א2'!E13+' בריאות א2'!L13)/(' בריאות א2'!$C$17+' בריאות א2'!$J$17)) -> 0 | H11: =IF((' בריאות א2'!F13+' בריאות א2'!M13)=0,0,(' בריאות א2'!F13+' בריאות א2'!M13)/(' בריאות א2'!$C$17+' בריאות א2'!$J$17)) -> 0 | I11: =IF((' בריאות א2'!G13+' בריאות א2'!N13)=0,0,(' בריאות א2'!G13+' בריאות א2'!N13)/(' בריאות א2'!$C$17+' בריאות א2'!$J$17)) -> 0 | J11: =IF((' בריאות א2'!H13+' בריאות א2'!O13)=0,0,(' בריאות א2'!H13+' בריאות א2'!O13)/(' בריאות א2'!$C$17+' בריאות א2'!$J$17)) -> 0 | K11: =IF((' בריאות א2'!I13+' בריאות א2'!P13)=0,0,(' בריאות א2'!I13+' בריאות א2'!P13)/(' בריאות א2'!$C$17+' בריאות א2'!$J$17)) -> 0 | L11: =SUM(M11:R11) -> 0 | M11: =IF((' בריאות א2'!R13+' בריאות א2'!Y13)=0,0,(' בריאות א2'!R13+' בריאות א2'!Y13)/(' בריאות א2'!$Q$17+' בריאות א2'!$X$17)) -> 0 | N11: =IF((' בריאות א2'!S13+' בריאות א2'!Z13)=0,0,(' בריאות א2'!S13+' בריאות א2'!Z13)/(' בריאות א2'!$Q$17+' בריאות א2'!$X$17)) -> 0 | O11: =IF((' בריאות א2'!T13+' בריאות א2'!AA13)=0,0,(' בריאות א2'!T13+' בריאות א2'!AA13)/(' בריאות א2'!$Q$17+' בריאות א2'!$X$17)) -> 0 | P11: =IF((' בריאות א2'!U13+' בריאות א2'!AB13)=0,0,(' בריאות א2'!U13+' בריאות א2'!AB13)/(' בריאות א2'!$Q$17+' בריאות א2'!$X$17)) -> 0 | Q11: =IF((' בריאות א2'!V13+' בריאות א2'!AC13)=0,0,(' בריאות א2'!V13+' בריאות א2'!AC13)/(' בריאות א2'!$Q$17+' בריאות א2'!$X$17)) -> 0 | R11: =IF((' בריאות א2'!W13+' בריאות א2'!AD13)=0,0,(' בריאות א2'!W13+' בריאות א2'!AD13)/(' בריאות א2'!$Q$17+' בריאות א2'!$X$17)) -> 0 | S11: =SUM(T11:Y11) -> 0 | T11: =IF((' בריאות א2'!AF13+' בריאות א2'!AM13)=0,0,(' בריאות א2'!AF13+' בריאות א2'!AM13)/(' בריאות א2'!$AE$17+' בריאות א2'!$AL$17)) -> 0 | U11: =IF((' בריאות א2'!AG13+' בריאות א2'!AN13)=0,0,(' בריאות א2'!AG13+' בריאות א2'!AN13)/(' בריאות א2'!$AE$17+' בריאות א2'!$AL$17)) -> 0 | V11: =IF((' בריאות א2'!AH13+' בריאות א2'!AO13)=0,0,(' בריאות א2'!AH13+' בריאות א2'!AO13)/(' בריאות א2'!$AE$17+' בריאות א2'!$AL$17)) -> 0 | W11: =IF((' בריאות א2'!AI13+' בריאות א2'!AP13)=0,0,(' בריאות א2'!AI13+' בריאות א2'!AP13)/(' בריאות א2'!$AE$17+' בריאות א2'!$AL$17)) -> 0 | X11: =IF((' בריאות א2'!AJ13+' בריאות א2'!AQ13)=0,0,(' בריאות א2'!AJ13+' בריאות א2'!AQ13)/(' בריאות א2'!$AE$17+' בריאות א2'!$AL$17)) -> 0 | Y11: =IF((' בריאות א2'!AK13+' בריאות א2'!AR13)=0,0,(' בריאות א2'!AK13+' בריאות א2'!AR13)/(' בריאות א2'!$AE$17+' בריאות א2'!$AL$17)) -> 0 | Z11: =SUM(AA11:AF11) -> 0 | AA11: =IF((' בריאות א2'!AT13+' בריאות א2'!BA13)=0,0,(' בריאות א2'!AT13+' בריאות א2'!BA13)/(' בריאות א2'!$AZ$17+' בריאות א2'!$AS$17)) -> 0 | AB11: =IF((' בריאות א2'!AU13+' בריאות א2'!BB13)=0,0,(' בריאות א2'!AU13+' בריאות א2'!BB13)/(' בריאות א2'!$AZ$17+' בריאות א2'!$AS$17)) -> 0 | AC11: =IF((' בריאות א2'!AV13+' בריאות א2'!BC13)=0,0,(' בריאות א2'!AV13+' בריאות א2'!BC13)/(' בריאות א2'!$AZ$17+' בריאות א2'!$AS$17)) -> 0 | AD11: =IF((' בריאות א2'!AW13+' בריאות א2'!BD13)=0,0,(' בריאות א2'!AW13+' בריאות א2'!BD13)/(' בריאות א2'!$AZ$17+' בריאות א2'!$AS$17)) -> 0 | AE11: =IF((' בריאות א2'!AX13+' בריאות א2'!BE13)=0,0,(' בריאות א2'!AX13+' בריאות א2'!BE13)/(' בריאות א2'!$AZ$17+' בריאות א2'!$AS$17)) -> 0 | AF11: =IF((' בריאות א2'!AY13+' בריאות א2'!BF13)=0,0,(' בריאות א2'!AY13+' בריאות א2'!BF13)/(' בריאות א2'!$AZ$17+' בריאות א2'!$AS$17)) -> 0 | AG11: =SUM(AH11:AM11) -> 0 | AH11: =IF(' בריאות א2'!BH13=0,0,' בריאות א2'!BH13/' בריאות א2'!$BG$17) -> 0 | AI11: =IF(' בריאות א2'!BI13=0,0,' בריאות א2'!BI13/' בריאות א2'!$BG$17) -> 0 | AJ11: =IF(' בריאות א2'!BJ13=0,0,' בריאות א2'!BJ13/' בריאות א2'!$BG$17) -> 0 | AK11: =IF(' בריאות א2'!BK13=0,0,' בריאות א2'!BK13/' בריאות א2'!$BG$17) -> 0 | AL11: =IF(' בריאות א2'!BL13=0,0,' בריאות א2'!BL13/' בריאות א2'!$BG$17) -> 0 | AM11: =IF(' בריאות א2'!BM13=0,0,' בריאות א2'!BM13/' בריאות א2'!$BG$17) -> 0 | AN11: =SUM(AO11:AT11) -> 0 | AO11: =IF((' בריאות א2'!BO13+' בריאות א2'!BV13)=0,0,(' בריאות א2'!BO13+' בריאות א2'!BV13)/(' בריאות א2'!$BN$17+' בריאות א2'!$BU$17)) -> 0 | AP11: =IF((' בריאות א2'!BP13+' בריאות א2'!BW13)=0,0,(' בריאות א2'!BP13+' בריאות א2'!BW13)/(' בריאות א2'!$BN$17+' בריאות א2'!$BU$17)) -> 0 | AQ11: =IF((' בריאות א2'!BQ13+' בריאות א2'!BX13)=0,0,(' בריאות א2'!BQ13+' בריאות א2'!BX13)/(' בריאות א2'!$BN$17+' בריאות א2'!$BU$17)) -> 0 | AR11: =IF((' בריאות א2'!BR13+' בריאות א2'!BY13)=0,0,(' בריאות א2'!BR13+' בריאות א2'!BY13)/(' בריאות א2'!$BN$17+' בריאות א2'!$BU$17)) -> 0 | AS11: =IF((' בריאות א2'!BS13+' בריאות א2'!BZ13)=0,0,(' בריאות א2'!BS13+' בריאות א2'!BZ13)/(' בריאות א2'!$BN$17+' בריאות א2'!$BU$17)) -> 0 | AT11: =IF((' בריאות א2'!BT13+' בריאות א2'!CA13)=0,0,(' בריאות א2'!BT13+' בריאות א2'!CA13)/(' בריאות א2'!$BN$17+' בריאות א2'!$BU$17)) -> 0 | AU11: =SUM(AV11:BA11) -> 0 | AV11: =IF((' בריאות א2'!CC13+' בריאות א2'!CJ13)=0,0,(' בריאות א2'!CC13+' בריאות א2'!CJ13)/(' בריאות א2'!$CB$17+' בריאות א2'!$CI$17)) -> 0 | AW11: =IF((' בריאות א2'!CD13+' בריאות א2'!CK13)=0,0,(' בריאות א2'!CD13+' בריאות א2'!CK13)/(' בריאות א2'!$CB$17+' בריאות א2'!$CI$17)) -> 0 | AX11: =IF((' בריאות א2'!CE13+' בריאות א2'!CL13)=0,0,(' בריאות א2'!CE13+' בריאות א2'!CL13)/(' בריאות א2'!$CB$17+' בריאות א2'!$CI$17)) -> 0 | AY11: =IF((' בריאות א2'!CF13+' בריאות א2'!CM13)=0,0,(' בריאות א2'!CF13+' בריאות א2'!CM13)/(' בריאות א2'!$CB$17+' בריאות א2'!$CI$17)) -> 0 | AZ11: =IF((' בריאות א2'!CG13+' בריאות א2'!CN13)=0,0,(' בריאות א2'!CG13+' בריאות א2'!CN13)/(' בריאות א2'!$CB$17+' בריאות א2'!$CI$17)) -> 0 | BA11: =IF((' בריאות א2'!CH13+' בריאות א2'!CO13)=0,0,(' בריאות א2'!CH13+' בריאות א2'!CO13)/(' בריאות א2'!$CB$17+' בריאות א2'!$CI$17)) -> 0 | BB11: =SUM(BC11:BH11) -> 0 | BC11: =IF((' בריאות א2'!CQ13+' בריאות א2'!CX13)=0,0,(' בריאות א2'!CQ13+' בריאות א2'!CX13)/(' בריאות א2'!$CP$17+' בריאות א2'!$CW$17)) -> 0 | BD11: =IF((' בריאות א2'!CR13+' בריאות א2'!CY13)=0,0,(' בריאות א2'!CR13+' בריאות א2'!CY13)/(' בריאות א2'!$CP$17+' בריאות א2'!$CW$17)) -> 0 | BE11: =IF((' בריאות א2'!CS13+' בריאות א2'!CZ13)=0,0,(' בריאות א2'!CS13+' בריאות א2'!CZ13)/(' בריאות א2'!$CP$17+' בריאות א2'!$CW$17)) -> 0 | BF11: =IF((' בריאות א2'!CT13+' בריאות א2'!DA13)=0,0,(' בריאות א2'!CT13+' בריאות א2'!DA13)/(' בריאות א2'!$CP$17+' בריאות א2'!$CW$17)) -> 0 | BG11: =IF((' בריאות א2'!CU13+' בריאות א2'!DB13)=0,0,(' בריאות א2'!CU13+' בריאות א2'!DB13)/(' בריאות א2'!$CP$17+' בריאות א2'!$CW$17)) -> 0 | BH11: =IF((' בריאות א2'!CV13+' בריאות א2'!DC13)=0,0,(' בריאות א2'!CV13+' בריאות א2'!DC13)/(' בריאות א2'!$CP$17+' בריאות א2'!$CW$17)) -> 0 | BI11: =SUM(BJ11:BO11) -> 0 | BJ11: =IF((' בריאות א2'!DE13+' בריאות א2'!DL13)=0,0,(' בריאות א2'!DE13+' בריאות א2'!DL13)/(' בריאות א2'!$DD$17+' בריאות א2'!$DK$17)) -> 0 | BK11: =IF((' בריאות א2'!DF13+' בריאות א2'!DM13)=0,0,(' בריאות א2'!DF13+' בריאות א2'!DM13)/(' בריאות א2'!$DD$17+' בריאות א2'!$DK$17)) -> 0 | BL11: =IF((' בריאות א2'!DG13+' בריאות א2'!DN13)=0,0,(' בריאות א2'!DG13+' בריאות א2'!DN13)/(' בריאות א2'!$DD$17+' בריאות א2'!$DK$17)) -> 0 | BM11: =IF((' בריאות א2'!DH13+' בריאות א2'!DO13)=0,0,(' בריאות א2'!DH13+' בריאות א2'!DO13)/(' בריאות א2'!$DD$17+' בריאות א2'!$DK$17)) -> 0 | BN11: =IF((' בריאות א2'!DI13+' בריאות א2'!DP13)=0,0,(' בריאות א2'!DI13+' בריאות א2'!DP13)/(' בריאות א2'!$DD$17+' בריאות א2'!$DK$17)) -> 0 | BO11: =IF((' בריאות א2'!DJ13+' בריאות א2'!DQ13)=0,0,(' בריאות א2'!DJ13+' בריאות א2'!DQ13)/(' בריאות א2'!$DD$17+' בריאות א2'!$DK$17)) -> 0
A12: 4 | B12: תביעות שנדחו | E12: =SUM(F12:K12) -> 0 | F12: =IF((' בריאות א2'!D14+' בריאות א2'!K14)=0,0,(' בריאות א2'!D14+' בריאות א2'!K14)/(' בריאות א2'!$C$17+' בריאות א2'!$J$17)) -> 0 | G12: =IF((' בריאות א2'!E14+' בריאות א2'!L14)=0,0,(' בריאות א2'!E14+' בריאות א2'!L14)/(' בריאות א2'!$C$17+' בריאות א2'!$J$17)) -> 0 | H12: =IF((' בריאות א2'!F14+' בריאות א2'!M14)=0,0,(' בריאות א2'!F14+' בריאות א2'!M14)/(' בריאות א2'!$C$17+' בריאות א2'!$J$17)) -> 0 | I12: =IF((' בריאות א2'!G14+' בריאות א2'!N14)=0,0,(' בריאות א2'!G14+' בריאות א2'!N14)/(' בריאות א2'!$C$17+' בריאות א2'!$J$17)) -> 0 | J12: =IF((' בריאות א2'!H14+' בריאות א2'!O14)=0,0,(' בריאות א2'!H14+' בריאות א2'!O14)/(' בריאות א2'!$C$17+' בריאות א2'!$J$17)) -> 0 | K12: =IF((' בריאות א2'!I14+' בריאות א2'!P14)=0,0,(' בריאות א2'!I14+' בריאות א2'!P14)/(' בריאות א2'!$C$17+' בריאות א2'!$J$17)) -> 0 | L12: =SUM(M12:R12) -> 0 | M12: =IF((' בריאות א2'!R14+' בריאות א2'!Y14)=0,0,(' בריאות א2'!R14+' בריאות א2'!Y14)/(' בריאות א2'!$Q$17+' בריאות א2'!$X$17)) -> 0 | N12: =IF((' בריאות א2'!S14+' בריאות א2'!Z14)=0,0,(' בריאות א2'!S14+' בריאות א2'!Z14)/(' בריאות א2'!$Q$17+' בריאות א2'!$X$17)) -> 0 | O12: =IF((' בריאות א2'!T14+' בריאות א2'!AA14)=0,0,(' בריאות א2'!T14+' בריאות א2'!AA14)/(' בריאות א2'!$Q$17+' בריאות א2'!$X$17)) -> 0 | P12: =IF((' בריאות א2'!U14+' בריאות א2'!AB14)=0,0,(' בריאות א2'!U14+' בריאות א2'!AB14)/(' בריאות א2'!$Q$17+' בריאות א2'!$X$17)) -> 0 | Q12: =IF((' בריאות א2'!V14+' בריאות א2'!AC14)=0,0,(' בריאות א2'!V14+' בריאות א2'!AC14)/(' בריאות א2'!$Q$17+' בריאות א2'!$X$17)) -> 0 | R12: =IF((' בריאות א2'!W14+' בריאות א2'!AD14)=0,0,(' בריאות א2'!W14+' בריאות א2'!AD14)/(' בריאות א2'!$Q$17+' בריאות א2'!$X$17)) -> 0 | S12: =SUM(T12:Y12) -> 0 | T12: =IF((' בריאות א2'!AF14+' בריאות א2'!AM14)=0,0,(' בריאות א2'!AF14+' בריאות א2'!AM14)/(' בריאות א2'!$AE$17+' בריאות א2'!$AL$17)) -> 0 | U12: =IF((' בריאות א2'!AG14+' בריאות א2'!AN14)=0,0,(' בריאות א2'!AG14+' בריאות א2'!AN14)/(' בריאות א2'!$AE$17+' בריאות א2'!$AL$17)) -> 0 | V12: =IF((' בריאות א2'!AH14+' בריאות א2'!AO14)=0,0,(' בריאות א2'!AH14+' בריאות א2'!AO14)/(' בריאות א2'!$AE$17+' בריאות א2'!$AL$17)) -> 0 | W12: =IF((' בריאות א2'!AI14+' בריאות א2'!AP14)=0,0,(' בריאות א2'!AI14+' בריאות א2'!AP14)/(' בריאות א2'!$AE$17+' בריאות א2'!$AL$17)) -> 0 | X12: =IF((' בריאות א2'!AJ14+' בריאות א2'!AQ14)=0,0,(' בריאות א2'!AJ14+' בריאות א2'!AQ14)/(' בריאות א2'!$AE$17+' בריאות א2'!$AL$17)) -> 0 | Y12: =IF((' בריאות א2'!AK14+' בריאות א2'!AR14)=0,0,(' בריאות א2'!AK14+' בריאות א2'!AR14)/(' בריאות א2'!$AE$17+' בריאות א2'!$AL$17)) -> 0 | Z12: =SUM(AA12:AF12) -> 0 | AA12: =IF((' בריאות א2'!AT14+' בריאות א2'!BA14)=0,0,(' בריאות א2'!AT14+' בריאות א2'!BA14)/(' בריאות א2'!$AZ$17+' בריאות א2'!$AS$17)) -> 0 | AB12: =IF((' בריאות א2'!AU14+' בריאות א2'!BB14)=0,0,(' בריאות א2'!AU14+' בריאות א2'!BB14)/(' בריאות א2'!$AZ$17+' בריאות א2'!$AS$17)) -> 0 | AC12: =IF((' בריאות א2'!AV14+' בריאות א2'!BC14)=0,0,(' בריאות א2'!AV14+' בריאות א2'!BC14)/(' בריאות א2'!$AZ$17+' בריאות א2'!$AS$17)) -> 0 | AD12: =IF((' בריאות א2'!AW14+' בריאות א2'!BD14)=0,0,(' בריאות א2'!AW14+' בריאות א2'!BD14)/(' בריאות א2'!$AZ$17+' בריאות א2'!$AS$17)) -> 0 | AE12: =IF((' בריאות א2'!AX14+' בריאות א2'!BE14)=0,0,(' בריאות א2'!AX14+' בריאות א2'!BE14)/(' בריאות א2'!$AZ$17+' בריאות א2'!$AS$17)) -> 0 | AF12: =IF((' בריאות א2'!AY14+' בריאות א2'!BF14)=0,0,(' בריאות א2'!AY14+' בריאות א2'!BF14)/(' בריאות א2'!$AZ$17+' בריאות א2'!$AS$17)) -> 0 | AG12: =SUM(AH12:AM12) -> 0 | AH12: =IF(' בריאות א2'!BH14=0,0,' בריאות א2'!BH14/' בריאות א2'!$BG$17) -> 0 | AI12: =IF(' בריאות א2'!BI14=0,0,' בריאות א2'!BI14/' בריאות א2'!$BG$17) -> 0 | AJ12: =IF(' בריאות א2'!BJ14=0,0,' בריאות א2'!BJ14/' בריאות א2'!$BG$17) -> 0 | AK12: =IF(' בריאות א2'!BK14=0,0,' בריאות א2'!BK14/' בריאות א2'!$BG$17) -> 0 | AL12: =IF(' בריאות א2'!BL14=0,0,' בריאות א2'!BL14/' בריאות א2'!$BG$17) -> 0 | AM12: =IF(' בריאות א2'!BM14=0,0,' בריאות א2'!BM14/' בריאות א2'!$BG$17) -> 0 | AN12: =SUM(AO12:AT12) -> 0 | AO12: =IF((' בריאות א2'!BO14+' בריאות א2'!BV14)=0,0,(' בריאות א2'!BO14+' בריאות א2'!BV14)/(' בריאות א2'!$BN$17+' בריאות א2'!$BU$17)) -> 0 | AP12: =IF((' בריאות א2'!BP14+' בריאות א2'!BW14)=0,0,(' בריאות א2'!BP14+' בריאות א2'!BW14)/(' בריאות א2'!$BN$17+' בריאות א2'!$BU$17)) -> 0 | AQ12: =IF((' בריאות א2'!BQ14+' בריאות א2'!BX14)=0,0,(' בריאות א2'!BQ14+' בריאות א2'!BX14)/(' בריאות א2'!$BN$17+' בריאות א2'!$BU$17)) -> 0 | AR12: =IF((' בריאות א2'!BR14+' בריאות א2'!BY14)=0,0,(' בריאות א2'!BR14+' בריאות א2'!BY14)/(' בריאות א2'!$BN$17+' בריאות א2'!$BU$17)) -> 0 | AS12: =IF((' בריאות א2'!BS14+' בריאות א2'!BZ14)=0,0,(' בריאות א2'!BS14+' בריאות א2'!BZ14)/(' בריאות א2'!$BN$17+' בריאות א2'!$BU$17)) -> 0 | AT12: =IF((' בריאות א2'!BT14+' בריאות א2'!CA14)=0,0,(' בריאות א2'!BT14+' בריאות א2'!CA14)/(' בריאות א2'!$BN$17+' בריאות א2'!$BU$17)) -> 0 | AU12: =SUM(AV12:BA12) -> 0 | AV12: =IF((' בריאות א2'!CC14+' בריאות א2'!CJ14)=0,0,(' בריאות א2'!CC14+' בריאות א2'!CJ14)/(' בריאות א2'!$CB$17+' בריאות א2'!$CI$17)) -> 0 | AW12: =IF((' בריאות א2'!CD14+' בריאות א2'!CK14)=0,0,(' בריאות א2'!CD14+' בריאות א2'!CK14)/(' בריאות א2'!$CB$17+' בריאות א2'!$CI$17)) -> 0 | AX12: =IF((' בריאות א2'!CE14+' בריאות א2'!CL14)=0,0,(' בריאות א2'!CE14+' בריאות א2'!CL14)/(' בריאות א2'!$CB$17+' בריאות א2'!$CI$17)) -> 0 | AY12: =IF((' בריאות א2'!CF14+' בריאות א2'!CM14)=0,0,(' בריאות א2'!CF14+' בריאות א2'!CM14)/(' בריאות א2'!$CB$17+' בריאות א2'!$CI$17)) -> 0 | AZ12: =IF((' בריאות א2'!CG14+' בריאות א2'!CN14)=0,0,(' בריאות א2'!CG14+' בריאות א2'!CN14)/(' בריאות א2'!$CB$17+' בריאות א2'!$CI$17)) -> 0 | BA12: =IF((' בריאות א2'!CH14+' בריאות א2'!CO14)=0,0,(' בריאות א2'!CH14+' בריאות א2'!CO14)/(' בריאות א2'!$CB$17+' בריאות א2'!$CI$17)) -> 0 | BB12: =SUM(BC12:BH12) -> 0 | BC12: =IF((' בריאות א2'!CQ14+' בריאות א2'!CX14)=0,0,(' בריאות א2'!CQ14+' בריאות א2'!CX14)/(' בריאות א2'!$CP$17+' בריאות א2'!$CW$17)) -> 0 | BD12: =IF((' בריאות א2'!CR14+' בריאות א2'!CY14)=0,0,(' בריאות א2'!CR14+' בריאות א2'!CY14)/(' בריאות א2'!$CP$17+' בריאות א2'!$CW$17)) -> 0 | BE12: =IF((' בריאות א2'!CS14+' בריאות א2'!CZ14)=0,0,(' בריאות א2'!CS14+' בריאות א2'!CZ14)/(' בריאות א2'!$CP$17+' בריאות א2'!$CW$17)) -> 0 | BF12: =IF((' בריאות א2'!CT14+' בריאות א2'!DA14)=0,0,(' בריאות א2'!CT14+' בריאות א2'!DA14)/(' בריאות א2'!$CP$17+' בריאות א2'!$CW$17)) -> 0 | BG12: =IF((' בריאות א2'!CU14+' בריאות א2'!DB14)=0,0,(' בריאות א2'!CU14+' בריאות א2'!DB14)/(' בריאות א2'!$CP$17+' בריאות א2'!$CW$17)) -> 0 | BH12: =IF((' בריאות א2'!CV14+' בריאות א2'!DC14)=0,0,(' בריאות א2'!CV14+' בריאות א2'!DC14)/(' בריאות א2'!$CP$17+' בריאות א2'!$CW$17)) -> 0 | BI12: =SUM(BJ12:BO12) -> 0 | BJ12: =IF((' בריאות א2'!DE14+' בריאות א2'!DL14)=0,0,(' בריאות א2'!DE14+' בריאות א2'!DL14)/(' בריאות א2'!$DD$17+' בריאות א2'!$DK$17)) -> 0 | BK12: =IF((' בריאות א2'!DF14+' בריאות א2'!DM14)=0,0,(' בריאות א2'!DF14+' בריאות א2'!DM14)/(' בריאות א2'!$DD$17+' בריאות א2'!$DK$17)) -> 0 | BL12: =IF((' בריאות א2'!DG14+' בריאות א2'!DN14)=0,0,(' בריאות א2'!DG14+' בריאות א2'!DN14)/(' בריאות א2'!$DD$17+' בריאות א2'!$DK$17)) -> 0 | BM12: =IF((' בריאות א2'!DH14+' בריאות א2'!DO14)=0,0,(' בריאות א2'!DH14+' בריאות א2'!DO14)/(' בריאות א2'!$DD$17+' בריאות א2'!$DK$17)) -> 0 | BN12: =IF((' בריאות א2'!DI14+' בריאות א2'!DP14)=0,0,(' בריאות א2'!DI14+' בריאות א2'!DP14)/(' בריאות א2'!$DD$17+' בריאות א2'!$DK$17)) -> 0 | BO12: =IF((' בריאות א2'!DJ14+' בריאות א2'!DQ14)=0,0,(' בריאות א2'!DJ14+' בריאות א2'!DQ14)/(' בריאות א2'!$DD$17+' בריאות א2'!$DK$17)) -> 0
A13: 5 | B13: תביעות שנסגרו בפשרה | E13: =SUM(F13:K13) -> 0 | F13: =IF((' בריאות א2'!D15+' בריאות א2'!K15)=0,0,(' בריאות א2'!D15+' בריאות א2'!K15)/(' בריאות א2'!$C$17+' בריאות א2'!$J$17)) -> 0 | G13: =IF((' בריאות א2'!E15+' בריאות א2'!L15)=0,0,(' בריאות א2'!E15+' בריאות א2'!L15)/(' בריאות א2'!$C$17+' בריאות א2'!$J$17)) -> 0 | H13: =IF((' בריאות א2'!F15+' בריאות א2'!M15)=0,0,(' בריאות א2'!F15+' בריאות א2'!M15)/(' בריאות א2'!$C$17+' בריאות א2'!$J$17)) -> 0 | I13: =IF((' בריאות א2'!G15+' בריאות א2'!N15)=0,0,(' בריאות א2'!G15+' בריאות א2'!N15)/(' בריאות א2'!$C$17+' בריאות א2'!$J$17)) -> 0 | J13: =IF((' בריאות א2'!H15+' בריאות א2'!O15)=0,0,(' בריאות א2'!H15+' בריאות א2'!O15)/(' בריאות א2'!$C$17+' בריאות א2'!$J$17)) -> 0 | K13: =IF((' בריאות א2'!I15+' בריאות א2'!P15)=0,0,(' בריאות א2'!I15+' בריאות א2'!P15)/(' בריאות א2'!$C$17+' בריאות א2'!$J$17)) -> 0 | L13: =SUM(M13:R13) -> 0 | M13: =IF((' בריאות א2'!R15+' בריאות א2'!Y15)=0,0,(' בריאות א2'!R15+' בריאות א2'!Y15)/(' בריאות א2'!$Q$17+' בריאות א2'!$X$17)) -> 0 | N13: =IF((' בריאות א2'!S15+' בריאות א2'!Z15)=0,0,(' בריאות א2'!S15+' בריאות א2'!Z15)/(' בריאות א2'!$Q$17+' בריאות א2'!$X$17)) -> 0 | O13: =IF((' בריאות א2'!T15+' בריאות א2'!AA15)=0,0,(' בריאות א2'!T15+' בריאות א2'!AA15)/(' בריאות א2'!$Q$17+' בריאות א2'!$X$17)) -> 0 | P13: =IF((' בריאות א2'!U15+' בריאות א2'!AB15)=0,0,(' בריאות א2'!U15+' בריאות א2'!AB15)/(' בריאות א2'!$Q$17+' בריאות א2'!$X$17)) -> 0 | Q13: =IF((' בריאות א2'!V15+' בריאות א2'!AC15)=0,0,(' בריאות א2'!V15+' בריאות א2'!AC15)/(' בריאות א2'!$Q$17+' בריאות א2'!$X$17)) -> 0 | R13: =IF((' בריאות א2'!W15+' בריאות א2'!AD15)=0,0,(' בריאות א2'!W15+' בריאות א2'!AD15)/(' בריאות א2'!$Q$17+' בריאות א2'!$X$17)) -> 0 | S13: =SUM(T13:Y13) -> 0 | T13: =IF((' בריאות א2'!AF15+' בריאות א2'!AM15)=0,0,(' בריאות א2'!AF15+' בריאות א2'!AM15)/(' בריאות א2'!$AE$17+' בריאות א2'!$AL$17)) -> 0 | U13: =IF((' בריאות א2'!AG15+' בריאות א2'!AN15)=0,0,(' בריאות א2'!AG15+' בריאות א2'!AN15)/(' בריאות א2'!$AE$17+' בריאות א2'!$AL$17)) -> 0 | V13: =IF((' בריאות א2'!AH15+' בריאות א2'!AO15)=0,0,(' בריאות א2'!AH15+' בריאות א2'!AO15)/(' בריאות א2'!$AE$17+' בריאות א2'!$AL$17)) -> 0 | W13: =IF((' בריאות א2'!AI15+' בריאות א2'!AP15)=0,0,(' בריאות א2'!AI15+' בריאות א2'!AP15)/(' בריאות א2'!$AE$17+' בריאות א2'!$AL$17)) -> 0 | X13: =IF((' בריאות א2'!AJ15+' בריאות א2'!AQ15)=0,0,(' בריאות א2'!AJ15+' בריאות א2'!AQ15)/(' בריאות א2'!$AE$17+' בריאות א2'!$AL$17)) -> 0 | Y13: =IF((' בריאות א2'!AK15+' בריאות א2'!AR15)=0,0,(' בריאות א2'!AK15+' בריאות א2'!AR15)/(' בריאות א2'!$AE$17+' בריאות א2'!$AL$17)) -> 0 | Z13: =SUM(AA13:AF13) -> 0 | AA13: =IF((' בריאות א2'!AT15+' בריאות א2'!BA15)=0,0,(' בריאות א2'!AT15+' בריאות א2'!BA15)/(' בריאות א2'!$AZ$17+' בריאות א2'!$AS$17)) -> 0 | AB13: =IF((' בריאות א2'!AU15+' בריאות א2'!BB15)=0,0,(' בריאות א2'!AU15+' בריאות א2'!BB15)/(' בריאות א2'!$AZ$17+' בריאות א2'!$AS$17)) -> 0 | AC13: =IF((' בריאות א2'!AV15+' בריאות א2'!BC15)=0,0,(' בריאות א2'!AV15+' בריאות א2'!BC15)/(' בריאות א2'!$AZ$17+' בריאות א2'!$AS$17)) -> 0 | AD13: =IF((' בריאות א2'!AW15+' בריאות א2'!BD15)=0,0,(' בריאות א2'!AW15+' בריאות א2'!BD15)/(' בריאות א2'!$AZ$17+' בריאות א2'!$AS$17)) -> 0 | AE13: =IF((' בריאות א2'!AX15+' בריאות א2'!BE15)=0,0,(' בריאות א2'!AX15+' בריאות א2'!BE15)/(' בריאות א2'!$AZ$17+' בריאות א2'!$AS$17)) -> 0 | AF13: =IF((' בריאות א2'!AY15+' בריאות א2'!BF15)=0,0,(' בריאות א2'!AY15+' בריאות א2'!BF15)/(' בריאות א2'!$AZ$17+' בריאות א2'!$AS$17)) -> 0 | AG13: =SUM(AH13:AM13) -> 0 | AH13: =IF(' בריאות א2'!BH15=0,0,' בריאות א2'!BH15/' בריאות א2'!$BG$17) -> 0 | AI13: =IF(' בריאות א2'!BI15=0,0,' בריאות א2'!BI15/' בריאות א2'!$BG$17) -> 0 | AJ13: =IF(' בריאות א2'!BJ15=0,0,' בריאות א2'!BJ15/' בריאות א2'!$BG$17) -> 0 | AK13: =IF(' בריאות א2'!BK15=0,0,' בריאות א2'!BK15/' בריאות א2'!$BG$17) -> 0 | AL13: =IF(' בריאות א2'!BL15=0,0,' בריאות א2'!BL15/' בריאות א2'!$BG$17) -> 0 | AM13: =IF(' בריאות א2'!BM15=0,0,' בריאות א2'!BM15/' בריאות א2'!$BG$17) -> 0 | AN13: =SUM(AO13:AT13) -> 0 | AO13: =IF((' בריאות א2'!BO15+' בריאות א2'!BV15)=0,0,(' בריאות א2'!BO15+' בריאות א2'!BV15)/(' בריאות א2'!$BN$17+' בריאות א2'!$BU$17)) -> 0 | AP13: =IF((' בריאות א2'!BP15+' בריאות א2'!BW15)=0,0,(' בריאות א2'!BP15+' בריאות א2'!BW15)/(' בריאות א2'!$BN$17+' בריאות א2'!$BU$17)) -> 0 | AQ13: =IF((' בריאות א2'!BQ15+' בריאות א2'!BX15)=0,0,(' בריאות א2'!BQ15+' בריאות א2'!BX15)/(' בריאות א2'!$BN$17+' בריאות א2'!$BU$17)) -> 0 | AR13: =IF((' בריאות א2'!BR15+' בריאות א2'!BY15)=0,0,(' בריאות א2'!BR15+' בריאות א2'!BY15)/(' בריאות א2'!$BN$17+' בריאות א2'!$BU$17)) -> 0 | AS13: =IF((' בריאות א2'!BS15+' בריאות א2'!BZ15)=0,0,(' בריאות א2'!BS15+' בריאות א2'!BZ15)/(' בריאות א2'!$BN$17+' בריאות א2'!$BU$17)) -> 0 | AT13: =IF((' בריאות א2'!BT15+' בריאות א2'!CA15)=0,0,(' בריאות א2'!BT15+' בריאות א2'!CA15)/(' בריאות א2'!$BN$17+' בריאות א2'!$BU$17)) -> 0 | AU13: =SUM(AV13:BA13) -> 0 | AV13: =IF((' בריאות א2'!CC15+' בריאות א2'!CJ15)=0,0,(' בריאות א2'!CC15+' בריאות א2'!CJ15)/(' בריאות א2'!$CB$17+' בריאות א2'!$CI$17)) -> 0 | AW13: =IF((' בריאות א2'!CD15+' בריאות א2'!CK15)=0,0,(' בריאות א2'!CD15+' בריאות א2'!CK15)/(' בריאות א2'!$CB$17+' בריאות א2'!$CI$17)) -> 0 | AX13: =IF((' בריאות א2'!CE15+' בריאות א2'!CL15)=0,0,(' בריאות א2'!CE15+' בריאות א2'!CL15)/(' בריאות א2'!$CB$17+' בריאות א2'!$CI$17)) -> 0 | AY13: =IF((' בריאות א2'!CF15+' בריאות א2'!CM15)=0,0,(' בריאות א2'!CF15+' בריאות א2'!CM15)/(' בריאות א2'!$CB$17+' בריאות א2'!$CI$17)) -> 0 | AZ13: =IF((' בריאות א2'!CG15+' בריאות א2'!CN15)=0,0,(' בריאות א2'!CG15+' בריאות א2'!CN15)/(' בריאות א2'!$CB$17+' בריאות א2'!$CI$17)) -> 0 | BA13: =IF((' בריאות א2'!CH15+' בריאות א2'!CO15)=0,0,(' בריאות א2'!CH15+' בריאות א2'!CO15)/(' בריאות א2'!$CB$17+' בריאות א2'!$CI$17)) -> 0 | BB13: =SUM(BC13:BH13) -> 0 | BC13: =IF((' בריאות א2'!CQ15+' בריאות א2'!CX15)=0,0,(' בריאות א2'!CQ15+' בריאות א2'!CX15)/(' בריאות א2'!$CP$17+' בריאות א2'!$CW$17)) -> 0 | BD13: =IF((' בריאות א2'!CR15+' בריאות א2'!CY15)=0,0,(' בריאות א2'!CR15+' בריאות א2'!CY15)/(' בריאות א2'!$CP$17+' בריאות א2'!$CW$17)) -> 0 | BE13: =IF((' בריאות א2'!CS15+' בריאות א2'!CZ15)=0,0,(' בריאות א2'!CS15+' בריאות א2'!CZ15)/(' בריאות א2'!$CP$17+' בריאות א2'!$CW$17)) -> 0 | BF13: =IF((' בריאות א2'!CT15+' בריאות א2'!DA15)=0,0,(' בריאות א2'!CT15+' בריאות א2'!DA15)/(' בריאות א2'!$CP$17+' בריאות א2'!$CW$17)) -> 0 | BG13: =IF((' בריאות א2'!CU15+' בריאות א2'!DB15)=0,0,(' בריאות א2'!CU15+' בריאות א2'!DB15)/(' בריאות א2'!$CP$17+' בריאות א2'!$CW$17)) -> 0 | BH13: =IF((' בריאות א2'!CV15+' בריאות א2'!DC15)=0,0,(' בריאות א2'!CV15+' בריאות א2'!DC15)/(' בריאות א2'!$CP$17+' בריאות א2'!$CW$17)) -> 0 | BI13: =SUM(BJ13:BO13) -> 0 | BJ13: =IF((' בריאות א2'!DE15+' בריאות א2'!DL15)=0,0,(' בריאות א2'!DE15+' בריאות א2'!DL15)/(' בריאות א2'!$DD$17+' בריאות א2'!$DK$17)) -> 0 | BK13: =IF((' בריאות א2'!DF15+' בריאות א2'!DM15)=0,0,(' בריאות א2'!DF15+' בריאות א2'!DM15)/(' בריאות א2'!$DD$17+' בריאות א2'!$DK$17)) -> 0 | BL13: =IF((' בריאות א2'!DG15+' בריאות א2'!DN15)=0,0,(' בריאות א2'!DG15+' בריאות א2'!DN15)/(' בריאות א2'!$DD$17+' בריאות א2'!$DK$17)) -> 0 | BM13: =IF((' בריאות א2'!DH15+' בריאות א2'!DO15)=0,0,(' בריאות א2'!DH15+' בריאות א2'!DO15)/(' בריאות א2'!$DD$17+' בריאות א2'!$DK$17)) -> 0 | BN13: =IF((' בריאות א2'!DI15+' בריאות א2'!DP15)=0,0,(' בריאות א2'!DI15+' בריאות א2'!DP15)/(' בריאות א2'!$DD$17+' בריאות א2'!$DK$17)) -> 0 | BO13: =IF((' בריאות א2'!DJ15+' בריאות א2'!DQ15)=0,0,(' בריאות א2'!DJ15+' בריאות א2'!DQ15)/(' בריאות א2'!$DD$17+' בריאות א2'!$DK$17)) -> 0
