Workbook

Sheet נספח 1 - דיווח על הוצאות ישירות
A1: נספח 1- סך ההוצאות הישירות ששולמו בעד כל סוג של הוצאה ישירה לתקופה המסתיימת ביום 31.12.2025 | B1: אלפי ₪ | F1: א. יוצג בין היתר שיעור ההוצאות הישירות המשמש לצורך חישוב שיעור העלות השנתית הצפויה הנדרש בהתאם לחוזר גופים מוסדיים מיום 20 ביולי 2023 שמספרו 2023-9-6, שעניינו "אופן הצגת העלות השנתית הצפויה לעמית או למבוטח". ב. סעיף "סכום שהוחזר לחוסכים (אם הוחזר)" ידווח כערך חיובי. ג. סעיף "ההפרש בין מגבלת עמלת ניהול חיצוני מוצהרת לבין מגבלת עמלת ניהול חיצוני בפועל (סעיף 14 פחות סעיף 13)" יוצג כאחוז. במידה שההפרש חיובי, ידווח הסעיף כערך חיובי. במידה שההפרש שלילי, ידווח הסעיף כערך שלילי. ד. סעיפים בהם מדווח שיעור ידווחו עם שני מקומות מימין לנקודה העשרונית.
A5: 1. סך הכל עמלות קנייה ומכירה של ניירות ערך סחירים
A6: א. סך עמלות קנייה ומכירה של ניירות ערך סחירים לצדדים קשורים | B6: 0
A7: ב. סך עמלות קנייה ומכירה של ניירות ערך סחירים לצדדים שאינם קשורים | B7: ='נספח 2 –עמלות והוצאות לא חיצוני'!B14 -> 73.371643
A9: 2. סך הכל דמי שמירה בשל ניירות ערך סחירים וכל עמלה שגובה מי שמבצע את משמרות ניירות הערך (קסטודיאן)
A10: א. סך עמלות קסטודיאן לצדדים קשורים | B10: 0
A11: ב. סך עמלות קסטודיאן לצדדים שאינם קשורים | B11: ='נספח 2 –עמלות והוצאות לא חיצוני'!B33 -> 0
A13: 3. סך הכל הוצאות הנובעות מהשקעות לא סחירות
A14: א. הוצאה הנובעת מהשקעה בניירות ערך לא סחירים או ממתן הלוואה למי שאינו עמית או מבוטח | B14: 0
A15: ב. הוצאה הנובעת מהשקעה בזכויות במקרקעין | B15: 0
A17: 4. מסים החלים על משקיע מוסדי, על נכסיו, על הכנסותיו ועל עסקאות שנעשו בנכסיו | B17: ='נספח 2 –עמלות והוצאות לא חיצוני'!B59 -> 25.801146
A19: 5. סך הוצאות בעד ניהול תביעות | B19: 0
A21: 6. סך הוצאות בעד מתן משכנתאות | B21: 0
A23: 7. סך הכל הוצאות ישירות שאינן מסוג עמלת ניהול חיצוני (סכום סעיפים 1 עד 6) | B23: =+B31+B21+B19+B17+B15+B14+B11+B10+B7+B6 -> 99.172789
A25: 8. שווי ממוצע של נכסי הקופה או המסלול (ממוצע פשוט של סעיפים 8.א ו- 8.ב) | B25: =(B27+B26)/2 -> 531976.39
A26: א. השווי המשוערך של נכסי הקופה או המסלול נכון ליום 31 בדצמבר של שנת הכספים שהסתיימה 2025 | B26: 574032.11
A27: ב. השווי המשוערך של נכסי הקופה או המסלול נכון ליום 31 בדצמבר של שנת הכספים שהסתיימה לפני 2025 - 1 | B27: 489920.66
A29: 9. שיעור שנתי של הוצאות ישירות שאינן מסוג עמלת ניהול חיצוני (חלוקה של סעיף 7 בסעיף 8) | B29: =IFERROR(ROUND(B23/B25*100,6),0) -> 0.018642
A31: 10. סך דמי ניהול משתנים – החלק מתשלום עמלת ניהול חיצוני שנגזר מתשואת הנכסים | B31: 0
A33: הוצאות ישירות מסוג עמלת ניהול חיצוני
A34: 11. סה"כ הוצאות ישירות מסוג "עמלת ניהול חיצוני" (סכום סעיפים 11.א עד 11.ט)
A35: א. סך תשלומים הנובעים מהשקעה בקרנות השקעה בישראל | B35: 0
A36: ב. סך תשלומים הנובעים מהשקעה בקרנות השקעה בחו"ל | B36: 0
A37: ג. סך תשלומים למנהלי תיקים ישראלים בגין השקעה בחו"ל | B37: 0
A38: ד. סך תשלומים למנהלי תיקים זרים
A39: ה. סך תשלומים בגין השקעה בקרנות סל כאשר 75 אחוזים לפחות מנכסי הקרן הם נכסים שהונפקו במדינת ישראל לפי מדדים שעליהם הורה הממונה ובתנאים שהורה | B39: ='נספח 3 - עמלות ניהול חיצוני'!B75 -> 3.0239
A40: ו. סך תשלומים בגין השקעה בקרנות סל כאשר 75 אחוזים לפחות מנכסי הקרן הם נכסים שלא הונפקו במדינת ישראל ואינם נסחרים או מוחזקים בה | B40: ='נספח 3 - עמלות ניהול חיצוני'!B67 -> 39.60525
A41: ז. סך תשלומים בגין השקעה בקרנות נאמנות ישראליות כאשר 75 אחוזים לפחות מנכסי הקרן מושקעים בנכסים שלא הונפקו במדינת ישראל ואינם נסחרים או מוחזקים בה | B41: ='נספח 3 - עמלות ניהול חיצוני'!B83 -> 0
A42: ח. סך תשלומים בגין השקעה בקרנות נאמנות זרות כאשר 75 אחוזים לפחות מנכסי הקרן מושקעים בנכסים שלא הונפקו במדינת ישראל ואינם נסחרים או מוחזקים בה | B42: ='נספח 3 - עמלות ניהול חיצוני'!B90 -> 0
A43: ט. סך תשלומים בגין השקעה בקרן טכנולוגיה עילית | B43: ='נספח 3 - עמלות ניהול חיצוני'!B96 -> 0
A45: 12. שיעור עמלת ניהול חיצוני בפועל (חלוקה של סעיף 11 בסעיף 8.ב) | B45: =SUM(B35:B43)/B27*100 -> 0.0087012353
A47: 13. שיעור מגבלת עמלת ניהול חיצוני שהמשקיע המוסדי הצהיר עליה עבור שנת הכספים שהסתיימה | B47: 0.5
A49: 14. ההפרש בין שיעור מגבלת עמלת ניהול חיצוני מוצהרת לבין שיעור עמלת ניהול חיצוני בפועל (סעיף 13 פחות סעיף 12) | B49: =B47-B45 -> 0.49129876
A50: 15. סכום שהוחזר לחוסכים (אם הוחזר)
A52: סך הכל הוצאות ישירות בפועל
A53: 16. סך כל ההוצאות הישירות (סכום של סעיף 7 וסעיף 11) | B53: =SUM(B35:B43)+B23 -> 141.80194
A54: 17. שיעור סך ההוצאות הישירות מתוך יתרת נכסים ממוצעת (חלוקה של סעיף 16 בסעיף 8) | B54: =+B53/B25*100 -> 0.026655683
A56: סך הכל הוצאות ישירות לצורך חישוב שיעור עלות שנתית צפויה
A57: 18. שיעור מגבלת עמלת ניהול חיצוני שהמשקיע המוסדי הצהיר עליה בהתאם לתקנה 2א לתקנות הוצאות ישירות עבור שנת הכספים הבאה+ 1 XX20
A58: 19. De: שיעור הוצאות ישירות (סכום של סעיף 9 וסעיף 18) | B58: =+B57+B29 -> 0.018642

Sheet נספח 2 –עמלות והוצאות לא חיצוני
A1: נספח 2 – פרוט עמלות והוצאות שאינן עמלות ניהול חיצוני לשנה המסתיימת ביום: 31.12.2025 | B1: אלפי ₪
A2: ברוקארז'- עמלות קנייה ומכירה בגין ביצוע עסקאות בניירות ערך סחירים
A3: צדדים קשורים
A4: (1) ברוקר א'
A5: (2) ברוקר ב'
A6: (3) אחרים
A8: צדדים לא קשורים
A9: (1) בנק המזרחי | B9: 73.371643
A10: (2) ברוקר ב'
A11: (4)
A12: (3) אחרים
A14: סך עמלות ברוקראז' | B14: =B9 -> 73.371643
A16: עמלות קסטודיאן
A17: צדדים קשורים
A18: (1) קסטודיאן א'
A19: (2) קסטודיאן ב'
A20: (5)
A21: (3) אחרים
A22: (4) אחרים
A25: צדדים שאינם קשורים
A26: (1) בנק המזרחי | B26: 0
A27: (2) קסטודיאן ב'
A28: (6)
A29: (3) אחרים
A30: (5) אחרים
A33: סך עמלות קסטודיאן | B33: =B26 -> 0
A35: הוצאה הנובעת מהשקעה בניירות ערך לא סחירים או ממתן הלוואה
A36: (1) גוף/יחיד א'
A37: (2) גוף/יחיד ב'
A38: (7)
A39: (3) אחרים
A40: (6) אחרים
A43: סך הוצאות הנובעות מהשקעה בניירות ערך לא סחירים או ממתן הלוואה
A45: הוצאה הנובעת מהשקעה בזכויות מקרקעין
A46: (1) גוף/יחיד א'
A47: (2) גוף/יחיד ב'
A48: (8)
A49: (3) אחרים
... A55: מסים החלים על הנכסים, ההכנסות והעסקאות
A56: (1) רשות מסים א' | B56: 25.801146
A57: (2) רשות מסים ב
A58: (3) אחרים
A59: סך הכל תשלומי מסים | B59: =B58+B57+B56 -> 25.801146
A61: דמי ביטוח בעד ביטוח משנה
A62: (1) מבטח משנה א'
A63: (2) מבטח משנה ב'
A64: (3) אחרים
A65: סך הכל תשלומים למבטחי משנה
A67: הוצאה הנובעת בעד ניהול תביעה או תובענה
A68: (1) גוף/יחיד א'
A69: (2) גוף/יחיד ב'
A70: (3) אחרים
A71: סך הוצאות הנובעות בעד ניהול תביעה או תובענה | F71: א. ברוקראז' – עמלות קניה ומכירה של ניירות ערך סחירים. ב. קסטודיאן – דמי שמירה בשל ניירות ערך סחירים וכל עמלה שגובה מי שמבצע את משמורת ניירות הערך. ג. הוצאה הנובעת מהשקעה בניירות ערך לא סחירים או ממתן הלוואה. ד. הוצאה הנובעת מהשקעה בזכויות במקרקעין. ה. מסים החלים על נכסיו, הכנסותיו ועסקאותיו. ו. דמי ביטוח בעד ביטוח משנה. ז. הוצאה הנובעת בעד ניהול תביעה או תובענה. ח. הוצאה הנובעת ממתן משכנתאות. ט. דמי ניהול משתנים – החלק מתשלום עמלת ניהול חיצוני שנגזר מתשואת הנכסים שבעדם נגבית העמלה האמורה.
A73: הוצאה הנובעת ממתן משכנתא
A74: (1) גוף/יחיד א'
A75: (2) גוף/יחיד ב'
A76: (3) אחרים
A77: סך הוצאות בעד מתן משכנתאות
A79: תשלום של דמי ניהול משתנים
A80: (1) גוף/יחיד א'
A81: (2) גוף/יחיד ב'
A82: (3) אחרים
A83: סך תשלום דמי ניהול משתנים
A84: סך הכל עמלות והוצאות שאינן עמלות ניהול חיצוני | B84: =B14+B33+B59+B83 -> 99.172789

Sheet נספח 3 - עמלות ניהול חיצוני
A1: נספח 3 - פירוט עמלות ניהול חיצוני לשנה המסתיימת ביום: 31.12.2025 | B1: אלפי ש"ח | F1: א. הוצאה הנובעת מהשקעה בקרנות השקעה בישראל לרבות באמצעות חשבון המנוהל עבור הגוף המוסדי. ב. הוצאה הנובעת מהשקעה בקרנות השקעה בחו"ל לרבות באמצעות חשבון המנוהל עבור הגוף המוסדי. ג. תשלום למנהל תיקים זר;תשלום למנהלי תיקים ישראליים בגין השקעה בחו"ל. ד. תשלום למנהלי תיקים זרים. ה. סך תשלומים בגין השקעה בקרנות סל כאשר 75% לפחות מנכסי הקרן הם נכסים שהונפקו במדינת ישראל לפי מדדים שעליהם הורה הממונה ובתנאים שהורה. ו. סך תשלומים בגין השקעה בקרנות סל כאשר 75% לפחות מנכסי הקרן הם נכסים שלא הונפקו במדינת ישראל ואינם נסחרים או מוחזקים בה. ז. סך תשלומים בגין השקעה בקרנות נאמנות ישראליות כאשר 75% לפחות מנכסי הקרן מושקעים בנכסים שלא הונפקו במדינת ישראל ואינם נסחרים או מוחזקים בה. ח. סך תשלומים בגין השקעה בקרנות נאמנות זרות כאשר 75% לפחות מנכסי הקרן מושקעים בנכסים שלא הונפקו במדינת ישראל ואינם נסחרים או מוחזקים בה. ט. סך תשלומים בגין השקעה בקרן טכנולוגיה עילית כהגדרתה בחוק השקעות משותפות בנאמנות.
A2: תשלום הנובע מהשקעה בקרנות השקעה בישראל
A3: (1) גוף/יחיד א'
A4: (2) גוף/יחיד ב'
A5: (3)
A6: (3) אחרים
A7: (1) אחרים
A10: סך תשלומים הנובעים מהשקעה בקרנות השקעה בישראל
A12: תשלום הנובע מהשקעה בקרנות השקעה בחו"ל
A13: (1) גוף/יחיד א'
A14: (2) גוף/יחיד ב'
A16: (3) אחרים
A17: (2) אחרים
... A41: סך תשלומים בגין השקעה בקרן סל כאשר 75% לפחות מנכסי הקרן הם נכסים שלא הונפקו במדינת ישראל ואינם נסחרים או מוחזקים בה
A42: VanEck Semiconductors | B42: 0.69179
A43: Amundi Asset Management | B43: 0.29294
A44: Amundi Luxemburg SA | B44: 0.0018
A45: BlackRock Inc | B45: 0.0375
A46: Invesco Asset Management | B46: 0.0568
A47: SPDR Goldtrust | B47: 1.79708
A48: SPDR Trust | B48: 3.71473
A49: SSGA Funds Management, Inc | B49: 1.4849
A50: State Street Global Markets LLC | B50: 0.80434
A51: Vanguard Asset Management | B51: 0.43323
A52: Invesco MSCI World UCITS ETF | B52: 0.05033
A53: iShares Global | B53: 1.71204
... A66: מגדל קרנות נאמנות בע"מ | B66: 4.83631
A67: סך תשלום למנהלי קרנות סל | B67: =SUM(B42:B66) -> 39.60525
A69: סך תשלומים בגין השקעה בקרן סל כאשר 75% לפחות מנכסי הקרן הם נכסים שהונפקו במדינת ישראל לפי מדדים שעליהם הורה הממונה ובתנאים שהורה
A70: הראל קרנות נאמנות בעמ | B70: 0.84049
A71: מור ניהול קרנות נאמנות (2013) בע"מ | B71: 0.03174
A72: מיטב קרנות נאמנות בעמ | B72: 1.42735
A73: קסם קרנות נאמנות | B73: 0.41363
A74: מגדל קרנות נאמנות בע"מ | B74: 0.31069
A75: סך תשלום למנהלי קרן סל | B75: =SUM(B70:B74) -> 3.0239
A77: תשלום בגין השקעה בקרנות נאמנות ישראליות כאשר 75% לפחות מנכסי הקרן מושקעים בנכסים שלא הונפקו במדינת ישראל ואינם נסחרים או מוחזקים בה
A79: קרן נאמנות ישראלית
A80: (1) מנהל קרנות א'
A81: (2) מנהל קרנות ב' | B81: 0
A82: (3) אחרים | B82: 0
A83: סך תשלומים למנהלי קרנות נאמנות ישראליות | B83: =SUM(B81:B82) -> 0
A85: תשלום בגין השקעה בקרנות נאמנות זרות כאשר 75% לפחות מנכסי הקרן מושקעים בנכסים שלא הונפקו במדינת ישראל ואינם נסחרים או מוחזקים בה
B87: 0
B88: 0
A89: (3) אחרים
A90: סך תשלומים בגין השקעה בקרנות נאמנות זרות | B90: =SUM(B87:B89) -> 0
A92: תשלומים בגין השקעה בקרן טכנולוגיה עילית
A93: (1) מנהל קרנות א'
A94: (2) מנהל קרנות ב'
A95: (3) אחרים
A96: סך תשלום בגין השקעה בקרן טכנולוגיה עילית | B96: =SUM(B93:B95) -> 0
A98: סך הכל עמלות ניהול חיצוני | B98: =B96+B90+B83+B75+B67+B39+B29+B20+B10 -> 42.62915
A99: סך הכל נכסים לסוף שנה קודמת | B99: =+'נספח 1 - דיווח על הוצאות ישירות'!B27 -> 489920.66
