Workbook

Sheet גליון לפרסום
C4: הנדון: דו"ח חודשי של הנהלת הגוף המוסדי ספטמבר 2023
C6: מס' קופה באוצר | D6: שם קופה | E6: תשואה מצטברת שנת 2023 | F6: תשואה 12 חודשים | G6: סך נכסים ליום 30/09/2023 באלפי ש"ח
C7: 14334 | D7: אינפיניטי מקיפה עוקב מדדים גמיש | E7: 0.01145 | G7: 1.52
C8: 14043 | D8: אינפיניטי מקיפה למקבלי קצבה | E8: 0.0815 | F8: 0.0776 | G8: 2041 | I8: 36067318 | J8: סה"כ כללי
C9: 14037 | D9: אינפיניטי מקיפה לבני 50 ומטה | E9: 0.1126 | F9: 0.0629 | G9: 34264
C10: 14038 | D10: אינפיניטי מקיפה לבני 50-60 | E10: 0.13002 | F10: 0.0676 | G10: 7132
C11: 14039 | D11: אינפיניטי מקיפה לבני 60 ומעלה | E11: 0.07272 | F11: 0.0356 | G11: 5674
C12: 14054 | D12: אינפיניטי מקיפה מחקה מדד S&P 500 | E12: 0.173 | F12: 0.1582 | G12: 7478
C13: 14040 | D13: אינפיניטי מקיפה פאסיבי - מדדי מניות | E13: 0.1376 | F13: 0.1387 | G13: 4857
C14: 14042 | D14: אינפיניטי מקיפה כהלכה | E14: 0.12977 | F14: 0.1324 | G14: 2707
C15: 14045 | D15: אינפיניטי משלימה לבני 50 ומטה | F15: 0.0427 | G15: 531
C16: 14046 | D16: אינפיניטי משלימה לבני 50-60 | F16: 0.0307 | G16: 392
C17: 14047 | D17: אינפיניטי משלימה לבני 60 ומעלה | F17: 0.0356 | G17: 124
C18: 14058 | D18: אינפיניטי משלימה מחקה מדד S&P 500 | F18: 0.1605 | G18: 938 | H18: 1014 - קופה
C19: 14048 | D19: אינפיניטי משלימה פאסיבי - מדדי מניות | G19: 803 | H19: 288044 | I19: 0 | J19: 4433 | K19: 197766
C20: 14049 | D20: אינפיניטי משלימה כהלכה – השקעות | G20: 101 | H20: 1015808
C21: 14050 | D21: אינפיניטי משלימה למקבלי קצבה | E21: - | F21: - | G21: - | H21: =SUM(H19:H20) -> 1303852
C22: סה"כ | E22: - | F22: - | G22: =SUM(G7:G21) -> 67043.52

Sheet מסד נתונים
A1: עמודת עזר
D3: לכבוד
D5: אינפיניטי גמל והשתלמות בע"מ
E8: 44927
E10: תשואה חודשית ברוטו | F10: תשואה מצטברת ברוטו
C11: מספר | D11: שם הקופה | E11: נומינלית | F11: נומינלית | G11: נכסים
A12: אינפיניטי גמל אג"ח (715) סה"כ | B12: 1078 | C12: 715 | D12: אינפיניטי גמל אג"ח | E12: =VLOOKUP(A12,'תשואה מתחילת חודש'!$A:$K,9,0) -> 0.014873 | F12: =VLOOKUP(A12,'תשואה מחילת שנה'!$A:$K,9,0) -> 0.014873 | G12: =VLOOKUP(A12,'תשואה מתחילת חודש'!$A:$E,5,0) -> 1.387673e+08
A13: אינפיניטי גמל מניות בחו"ל (716) סה"כ | B13: 1536 | C13: 716 | D13: אינפיניטי גמל מניות בחו"ל | E13: =VLOOKUP(A13,'תשואה מתחילת חודש'!$A:$K,9,0) -> 0.050543 | F13: =VLOOKUP(A13,'תשואה מחילת שנה'!$A:$K,9,0) -> 0.050543 | G13: =VLOOKUP(A13,'תשואה מתחילת חודש'!$A:$E,5,0) -> 67069601
A14: אינפיניטי גמל מניות בישראל (717) סה"כ | B14: 1079 | C14: 717 | D14: אינפיניטי גמל מניות בישראל | E14: =VLOOKUP(A14,'תשואה מתחילת חודש'!$A:$K,9,0) -> 0.002636 | F14: =VLOOKUP(A14,'תשואה מחילת שנה'!$A:$K,9,0) -> 0.002636 | G14: =VLOOKUP(A14,'תשואה מתחילת חודש'!$A:$E,5,0) -> 78396934
A15: אינפיניטי גמל מסלול לבני 50 עד 60 (719) סה"כ | B15: 7232 | C15: 719 | D15: אינפיניטי גמל מסלול לבני 50 עד 60 | E15: =VLOOKUP(A15,'תשואה מתחילת חודש'!$A:$K,9,0) -> 0.030622 | F15: =VLOOKUP(A15,'תשואה מחילת שנה'!$A:$K,9,0) -> 0.030622 | G15: =VLOOKUP(A15,'תשואה מתחילת חודש'!$A:$E,5,0) -> 60239892
A16: אינפיניטי גמל אג"ח ממשלת ישראל (720) סה"כ | B16: 1209 | C16: 720 | D16: אינפיניטי גמל אג"ח ממשלת ישראל | E16: =VLOOKUP(A16,'תשואה מתחילת חודש'!$A:$K,9,0) -> 0.007929 | F16: =VLOOKUP(A16,'תשואה מחילת שנה'!$A:$K,9,0) -> 0.007929 | G16: =VLOOKUP(A16,'תשואה מתחילת חודש'!$A:$E,5,0) -> 23191557
A17: אינפינטי גמל מסלול לבני 60 ומעלה (721) סה"כ | B17: 7233 | C17: 721 | D17: אינפיניטי גמל מסלול לבני 60 ומעלה | E17: =VLOOKUP(A17,'תשואה מתחילת חודש'!$A:$K,9,0) -> 0.021184 | F17: =VLOOKUP(A17,'תשואה מחילת שנה'!$A:$K,9,0) -> 0.021184 | G17: =VLOOKUP(A17,'תשואה מתחילת חודש'!$A:$E,5,0) -> 29975941
A18: אינפיניטי גמל מסלול לבני 50 ומטה (723) סה"כ | B18: 7231 | C18: 723 | D18: אינפיניטי גמל מסלול לבני 50 ומטה | E18: =VLOOKUP(A18,'תשואה מתחילת חודש'!$A:$K,9,0) -> 0.028385 | F18: =VLOOKUP(A18,'תשואה מחילת שנה'!$A:$K,9,0) -> 0.028385 | G18: =VLOOKUP(A18,'תשואה מתחילת חודש'!$A:$E,5,0) -> 18400309
A19: אינפיניטי השתלמות אג"ח (725) סה"כ | B19: 1084 | C19: 725 | D19: אינפיניטי השתלמות אג"ח | E19: =VLOOKUP(A19,'תשואה מתחילת חודש'!$A:$K,9,0) -> 0.015099 | F19: =VLOOKUP(A19,'תשואה מחילת שנה'!$A:$K,9,0) -> 0.015099 | G19: =VLOOKUP(A19,'תשואה מתחילת חודש'!$A:$E,5,0) -> 1.630528e+08
A20: אינפיניטי השתלמות מניות בחו"ל (727) סה"כ | B20: 1537 | C20: 727 | D20: אינפיניטי השתלמות מניות בחו"ל | E20: =VLOOKUP(A20,'תשואה מתחילת חודש'!$A:$K,9,0) -> 0.048281 | F20: =VLOOKUP(A20,'תשואה מחילת שנה'!$A:$K,9,0) -> 0.048281 | G20: =VLOOKUP(A20,'תשואה מתחילת חודש'!$A:$E,5,0) -> 86684327
A21: אינפיניטי השתלמות מניות בישראל (728) סה"כ | B21: 1085 | C21: 728 | D21: אינפיניטי השתלמות מניות בישראל | E21: =VLOOKUP(A21,'תשואה מתחילת חודש'!$A:$K,9,0) -> 0.004745 | F21: =VLOOKUP(A21,'תשואה מחילת שנה'!$A:$K,9,0) -> 0.004745 | G21: =VLOOKUP(A21,'תשואה מתחילת חודש'!$A:$E,5,0) -> 90412774
A22: אינפיניטי השתלמות אג"ח ממשלת ישראל (730) סה"כ | B22: 1210 | C22: 730 | D22: אינפיניטי השתלמות אג"ח ממשלת ישראל | E22: =VLOOKUP(A22,'תשואה מתחילת חודש'!$A:$K,9,0) -> 0.008318 | F22: =VLOOKUP(A22,'תשואה מחילת שנה'!$A:$K,9,0) -> 0.008318 | G22: =VLOOKUP(A22,'תשואה מתחילת חודש'!$A:$E,5,0) -> 37787808
A23: אינפינטי השתלמות מסלול אג"ח עד 25% מניות (732) סה"כ | B23: 11957 | C23: 732 | D23: אינפיניטי השתלמות מסלול אג"ח עד 25% מניות | E23: =VLOOKUP(A23,'תשואה מתחילת חודש'!$A:$K,9,0) -> 0.013808 | F23: =VLOOKUP(A23,'תשואה מחילת שנה'!$A:$K,9,0) -> 0.013808 | G23: =VLOOKUP(A23,'תשואה מתחילת חודש'!$A:$E,5,0) -> 33744807
... A36: אינפיניטי פיצויים -שדות התעופה (751) סה"כ | B36: 1539 | C36: 751 | D36: רשות שדות תעופה | E36: =VLOOKUP(A36,'תשואה מתחילת חודש'!$A:$K,9,0) -> 0.013536 | F36: =VLOOKUP(A36,'תשואה מחילת שנה'!$A:$K,9,0) -> 0.013536 | G36: =VLOOKUP(A36,'תשואה מתחילת חודש'!$A:$E,5,0) -> 1.7831571e+08
B37: 2114 | C37: 756 | D37: אינפיניטי השתלמות IRA בניהול אישי | E37: =VLOOKUP(A37,'תשואה מתחילת חודש'!$A:$K,9,0) -> #N/A | F37: =VLOOKUP(A37,'תשואה מחילת שנה'!$A:$K,9,0) -> #N/A | G37: =_xlfn.IFNA(VLOOKUP(A37,'תשואה מתחילת חודש'!$A:$E,5,0),0) -> 0
B38: 2113 | C38: 757 | D38: אינפיניטי גמל IRA בניהול אישי | E38: =VLOOKUP(A38,'תשואה מתחילת חודש'!$A:$K,9,0) -> #N/A | F38: =VLOOKUP(A38,'תשואה מחילת שנה'!$A:$K,9,0) -> #N/A | G38: =_xlfn.IFNA(VLOOKUP(A38,'תשואה מתחילת חודש'!$A:$E,5,0),0) -> 0
A39: אינפיניטי השתלמות כללי (808) סה"כ | B39: 13229 | C39: 808 | D39: אינפיניטי השתלמות כללי | E39: =VLOOKUP(A39,'תשואה מתחילת חודש'!$A:$K,9,0) -> 0.026292 | F39: =VLOOKUP(A39,'תשואה מחילת שנה'!$A:$K,9,0) -> 0.026292 | G39: =VLOOKUP(A39,'תשואה מתחילת חודש'!$A:$E,5,0) -> 50777927
A40: אינפיניטי גמל להשקעה מ.פאסיבי כללי (810) סה"כ | B40: 13228 | C40: 810 | D40: אינפיניטי גמל להשקעה מסלול פאסיבי כללי | E40: =VLOOKUP(A40,'תשואה מתחילת חודש'!$A:$K,9,0) -> 0.023986 | F40: =VLOOKUP(A40,'תשואה מחילת שנה'!$A:$K,9,0) -> 0.023986 | G40: =VLOOKUP(A40,'תשואה מתחילת חודש'!$A:$E,5,0) -> 10734408
D41: סה"כ בתפעול בנק מזרחי | G41: =SUM(G12:G40) -> 1.6797025e+09

Sheet תשואה מתחילת חודש
A1: עמודת עזר - לא לגעת! לוודא נוסחאות משוכות עד הסוף. | B1: דוח תשואה רוחבי לקופות גמל מ- 1/01/2023 עד ל-31/01/2023
B3: תאריך פעולה אחרון: 7/02/2023, תאריך עידכון שערים: 3/02/2023
B5: קופה | C5: מספר קופה | D5: תאריך | E5: סך נכסים | F5: הפקדות נטו | G5: משיכות | H5: דמי ניהול | I5: תשואה ברוטו | J5: תשואה נטו | K5: רווח ברוטו
A9: =B9&" "&D9 -> קופה 715 | B9: קופה | C9: אינפיניטי גמל אג"ח (715) | D9: 715
A10: =B10&" "&D10 -> אינפיניטי גמל אג"ח (715) 44926 | B10: אינפיניטי גמל אג"ח (715) | C10: 715 | D10: 44926 | E10: 1.3671316e+08
A11: =B11&" "&D11 -> אינפיניטי גמל אג"ח (715) 44927 | B11: אינפיניטי גמל אג"ח (715) | C11: 715 | D11: 44927 | E11: 1.3686923e+08 | F11: -19495.14 | G11: 0 | H11: 0 | I11: 0.001284 | J11: 0.001284 | K11: 175566.12
A12: =B12&" "&D12 -> אינפיניטי גמל אג"ח (715) 44928 | B12: אינפיניטי גמל אג"ח (715) | C12: 715 | D12: 44928 | E12: 1.3708289e+08 | F12: 22671.83 | G12: 0 | H12: 0 | I12: 0.001395 | J12: 0.001395 | K12: 190983.51
A13: =B13&" "&D13 -> אינפיניטי גמל אג"ח (715) 44929 | B13: אינפיניטי גמל אג"ח (715) | C13: 715 | D13: 44929 | E13: 1.3721638e+08 | F13: 400 | G13: 0 | H13: 0 | I13: 0.000971 | J13: 0.000971 | K13: 133095.11
A14: =B14&" "&D14 -> אינפיניטי גמל אג"ח (715) 44930 | B14: אינפיניטי גמל אג"ח (715) | C14: 715 | D14: 44930 | E14: 1.3740485e+08 | F14: 3087.76 | G14: 28952.74 | H14: 0 | I14: 0.001562 | J14: 0.001562 | K14: 214338.39
A15: =B15&" "&D15 -> אינפיניטי גמל אג"ח (715) 44931 | B15: אינפיניטי גמל אג"ח (715) | C15: 715 | D15: 44931 | E15: 1.3746749e+08 | F15: 4080.89 | G15: 0 | H15: 0 | I15: 0.000426 | J15: 0.000426 | K15: 58559.27
A16: =B16&" "&D16 -> אינפיניטי גמל אג"ח (715) 44934 | B16: אינפיניטי גמל אג"ח (715) | C16: 715 | D16: 44934 | E16: 1.3834413e+08 | F16: 304270.97 | G16: 48687.68 | H16: 0 | I16: 0.004519 | J16: 0.004519 | K16: 621050.54
A17: =B17&" "&D17 -> אינפיניטי גמל אג"ח (715) 44935 | B17: אינפיניטי גמל אג"ח (715) | C17: 715 | D17: 44935 | E17: 1.3845157e+08 | F17: 8090.52 | G17: 112952.69 | H17: 0 | I17: 0.001536 | J17: 0.001536 | K17: 212303.97
A18: =B18&" "&D18 -> אינפיניטי גמל אג"ח (715) 44936 | B18: אינפיניטי גמל אג"ח (715) | C18: 715 | D18: 44936 | E18: 1.3834771e+08 | F18: 21342.56 | G18: 36311.22 | H18: 0 | I18: -0.000642 | J18: -0.000642 | K18: -88886.33
A19: =B19&" "&D19 -> אינפיניטי גמל אג"ח (715) 44937 | B19: אינפיניטי גמל אג"ח (715) | C19: 715 | D19: 44937 | E19: 1.3873701e+08 | F19: 83568.93 | G19: 0 | H19: 0 | I19: 0.00221 | J19: 0.00221 | K19: 305730.05
A20: =B20&" "&D20 -> אינפיניטי גמל אג"ח (715) 44938 | B20: אינפיניטי גמל אג"ח (715) | C20: 715 | D20: 44938 | E20: 1.3884839e+08 | F20: 21737.35 | G20: 143894.8 | H20: 0 | I20: 0.001685 | J20: 0.001685 | K20: 233537.31
A21: =B21&" "&D21 -> אינפיניטי גמל אג"ח (715) 44941 | B21: אינפיניטי גמל אג"ח (715) | C21: 715 | D21: 44941 | E21: 1.3887241e+08 | F21: 17005.11 | G21: 50973.61 | H21: 0 | I21: 0.000418 | J21: 0.000418 | K21: 57980.84
A22: =B22&" "&D22 -> אינפיניטי גמל אג"ח (715) 44942 | B22: אינפיניטי גמל אג"ח (715) | C22: 715 | D22: 44942 | E22: 1.3903681e+08 | F22: 108.35 | G22: 0 | H22: 0 | I22: 0.001183 | J22: 0.001183 | K22: 164299.01
... A33: =B33&" "&D33 -> אינפיניטי גמל אג"ח (715) 44957 | B33: אינפיניטי גמל אג"ח (715) | C33: 715 | D33: 44957 | E33: 1.387673e+08 | F33: 278594.31 | G33: 112623.22 | H33: 0 | I33: 0.002039 | J33: 0.002039 | K33: 281782.05
A34: =B34&" "&D34
A35: =B35&" "&D35 -> אינפיניטי גמל אג"ח (715) סה"כ | B35: אינפיניטי גמל אג"ח (715) | C35: 715 | D35: סה"כ | E35: 1.387673e+08 | F35: 1713727.7 | G35: 1693694.4 | H35: 0 | I35: 0.014873 | J35: 0.014873 | K35: 2034106
A36: =B36&" "&D36
A37: =B37&" "&D37
A38: =B38&" "&D38
A39: =B39&" "&D39
A40: =B40&" "&D40 -> קופה 716 | B40: קופה | C40: אינפיניטי גמל מניות בחו"ל (716) | D40: 716
A41: =B41&" "&D41 -> אינפיניטי גמל מניות בחו"ל (716) 44926 | B41: אינפיניטי גמל מניות בחו"ל (716) | C41: 716 | D41: 44926 | E41: 63147596
A42: =B42&" "&D42 -> אינפיניטי גמל מניות בחו"ל (716) 44927 | B42: אינפיניטי גמל מניות בחו"ל (716) | C42: 716 | D42: 44927 | E42: 63034464 | F42: -69171.8 | G42: 0 | H42: 0 | I42: -0.000696 | J42: -0.000696 | K42: -43960.52
A43: =B43&" "&D43 -> אינפיניטי גמל מניות בחו"ל (716) 44928 | B43: אינפיניטי גמל מניות בחו"ל (716) | C43: 716 | D43: 44928 | E43: 63286379 | F43: 74576.8 | G43: 0 | H43: 0 | I43: 0.002813 | J43: 0.002813 | K43: 177337.77
A44: =B44&" "&D44 -> אינפיניטי גמל מניות בחו"ל (716) 44929 | B44: אינפיניטי גמל מניות בחו"ל (716) | C44: 716 | D44: 44929 | E44: 63408037 | F44: 1524 | G44: 0 | H44: 0 | I44: 0.001898 | J44: 0.001898 | K44: 120134.19
A45: =B45&" "&D45 -> אינפיניטי גמל מניות בחו"ל (716) 44930 | B45: אינפיניטי גמל מניות בחו"ל (716) | C45: 716 | D45: 44930 | E45: 63818337 | F45: 24283.5 | G45: 3033.74 | H45: 0 | I45: 0.006136 | J45: 0.006136 | K45: 389050.58
A46: =B46&" "&D46 -> אינפיניטי גמל מניות בחו"ל (716) 44931 | B46: אינפיניטי גמל מניות בחו"ל (716) | C46: 716 | D46: 44931 | E46: 63649877 | F46: 833.37 | G46: 0 | H46: 0 | I46: -0.002653 | J46: -0.002653 | K46: -169293.7
A47: =B47&" "&D47 -> אינפיניטי גמל מניות בחו"ל (716) 44934 | B47: אינפיניטי גמל מניות בחו"ל (716) | C47: 716 | D47: 44934 | E47: 64457976 | F47: 21799.94 | G47: 0 | H47: 0 | I47: 0.012354 | J47: 0.012354 | K47: 786299.45
A48: =B48&" "&D48 -> אינפיניטי גמל מניות בחו"ל (716) 44935 | B48: אינפיניטי גמל מניות בחו"ל (716) | C48: 716 | D48: 44935 | E48: 64815099 | F48: 25681.23 | G48: 843.04 | H48: 0 | I48: 0.005155 | J48: 0.005155 | K48: 332284.48
A49: =B49&" "&D49 -> אינפיניטי גמל מניות בחו"ל (716) 44936 | B49: אינפיניטי גמל מניות בחו"ל (716) | C49: 716 | D49: 44936 | E49: 64305656 | F49: 26443.36 | G49: 0 | H49: 0 | I49: -0.008268 | J49: -0.008268 | K49: -535886.08
A50: =B50&" "&D50 -> אינפיניטי גמל מניות בחו"ל (716) 44937 | B50: אינפיניטי גמל מניות בחו"ל (716) | C50: 716 | D50: 44937 | E50: 64571615 | F50: 134915.96 | G50: 25102.32 | H50: 0 | I50: 0.002429 | J50: 0.002429 | K50: 156145.06
A51: =B51&" "&D51 -> אינפיניטי גמל מניות בחו"ל (716) 44938 | B51: אינפיניטי גמל מניות בחו"ל (716) | C51: 716 | D51: 44938 | E51: 64536021 | F51: 57238.99 | G51: 117989.54 | H51: 0 | I51: 0.00039 | J51: 0.00039 | K51: 25156.71
A52: =B52&" "&D52 -> אינפיניטי גמל מניות בחו"ל (716) 44941 | B52: אינפיניטי גמל מניות בחו"ל (716) | C52: 716 | D52: 44941 | E52: 64552724 | F52: 74980.73 | G52: 0 | H52: 0 | I52: -0.000903 | J52: -0.000903 | K52: -58277.42
A53: =B53&" "&D53 -> אינפיניטי גמל מניות בחו"ל (716) 44942 | B53: אינפיניטי גמל מניות בחו"ל (716) | C53: 716 | D53: 44942 | E53: 64857744 | F53: 65338.5 | G53: 6800.71 | H53: 0 | I53: 0.003819 | J53: 0.003819 | K53: 246482.12
... A64: =B64&" "&D64 -> אינפיניטי גמל מניות בחו"ל (716) 44957 | B64: אינפיניטי גמל מניות בחו"ל (716) | C64: 716 | D64: 44957 | E64: 67069601 | F64: 79301.62 | G64: 147226.37 | H64: 0 | I64: -0.001381 | J64: -0.001381 | K64: -92627.38
A65: =B65&" "&D65
A66: =B66&" "&D66 -> אינפיניטי גמל מניות בחו"ל (716) סה"כ | B66: אינפיניטי גמל מניות בחו"ל (716) | C66: 716 | D66: סה"כ | E66: 67069601 | F66: 1216409.6 | G66: 510419.95 | H66: 0 | I66: 0.050543 | J66: 0.050543 | K66: 3216015.4
A67: =B67&" "&D67
A68: =B68&" "&D68
A69: =B69&" "&D69
A70: =B70&" "&D70
A71: =B71&" "&D71 -> קופה 717 | B71: קופה | C71: אינפיניטי גמל מניות בישראל (717) | D71: 717
A72: =B72&" "&D72 -> אינפיניטי גמל מניות בישראל (717) 44926 | B72: אינפיניטי גמל מניות בישראל (717) | C72: 717 | D72: 44926 | E72: 73882185
A73: =B73&" "&D73 -> אינפיניטי גמל מניות בישראל (717) 44927 | B73: אינפיניטי גמל מניות בישראל (717) | C73: 717 | D73: 44927 | E73: 73754254 | F73: -26156.74 | G73: 14450.66 | H73: 0 | I73: -0.001182 | J73: -0.001182 | K73: -87323.33
A74: =B74&" "&D74 -> אינפיניטי גמל מניות בישראל (717) 44928 | B74: אינפיניטי גמל מניות בישראל (717) | C74: 717 | D74: 44928 | E74: 74120713 | F74: 42299.49 | G74: 0 | H74: 0 | I74: 0.004395 | J74: 0.004395 | K74: 324158.85
A75: =B75&" "&D75 -> אינפיניטי גמל מניות בישראל (717) 44929 | B75: אינפיניטי גמל מניות בישראל (717) | C75: 717 | D75: 44929 | E75: 74441892 | F75: 2018.62 | G75: 0 | H75: 0 | I75: 0.004306 | J75: 0.004306 | K75: 319160.48
A76: =B76&" "&D76 -> אינפיניטי גמל מניות בישראל (717) 44930 | B76: אינפיניטי גמל מניות בישראל (717) | C76: 717 | D76: 44930 | E76: 74517044 | F76: 106149.22 | G76: 5154.44 | H76: 0 | I76: -0.000347 | J76: -0.000347 | K76: -25842.12
A77: =B77&" "&D77 -> אינפיניטי גמל מניות בישראל (717) 44931 | B77: אינפיניטי גמל מניות בישראל (717) | C77: 717 | D77: 44931 | E77: 74124299 | F77: 250783.77 | G77: 1416.74 | H77: 0 | I77: -0.008617 | J77: -0.008617 | K77: -642112.38
A78: =B78&" "&D78 -> אינפיניטי גמל מניות בישראל (717) 44934 | B78: אינפיניטי גמל מניות בישראל (717) | C78: 717 | D78: 44934 | E78: 75910548 | F78: 848722.28 | G78: 23089.97 | H78: 0 | I78: 0.012964 | J78: 0.012964 | K78: 960616.41
A79: =B79&" "&D79 -> אינפיניטי גמל מניות בישראל (717) 44935 | B79: אינפיניטי גמל מניות בישראל (717) | C79: 717 | D79: 44935 | E79: 76970741 | F79: 41984.35 | G79: 20112.45 | H79: 0 | I79: 0.013682 | J79: 0.013682 | K79: 1038321.7
A80: =B80&" "&D80 -> אינפיניטי גמל מניות בישראל (717) 44936 | B80: אינפיניטי גמל מניות בישראל (717) | C80: 717 | D80: 44936 | E80: 76669436 | F80: 82698.74 | G80: 13688.78 | H80: 0 | I80: -0.004812 | J80: -0.004812 | K80: -370314.85
A81: =B81&" "&D81 -> אינפיניטי גמל מניות בישראל (717) 44937 | B81: אינפיניטי גמל מניות בישראל (717) | C81: 717 | D81: 44937 | E81: 76910576 | F81: 161283.73 | G81: 0 | H81: 0 | I81: 0.001042 | J81: 0.001042 | K81: 79855.71
A82: =B82&" "&D82 -> אינפיניטי גמל מניות בישראל (717) 44938 | B82: אינפיניטי גמל מניות בישראל (717) | C82: 717 | D82: 44938 | E82: 77215164 | F82: 403214.75 | G82: 60809.76 | H82: 0 | I82: -0.000492 | J82: -0.000492 | K82: -37816.69
A83: =B83&" "&D83 -> אינפיניטי גמל מניות בישראל (717) 44941 | B83: אינפיניטי גמל מניות בישראל (717) | C83: 717 | D83: 44941 | E83: 78551744 | F83: 94708.24 | G83: 67788.44 | H83: 0 | I83: 0.016976 | J83: 0.016976 | K83: 1309660.1
A84: =B84&" "&D84 -> אינפיניטי גמל מניות בישראל (717) 44942 | B84: אינפיניטי גמל מניות בישראל (717) | C84: 717 | D84: 44942 | E84: 78853974 | F84: 6234.11 | G84: 49539.47 | H84: 0 | I84: 0.004402 | J84: 0.004402 | K84: 345535.09
... A95: =B95&" "&D95 -> אינפיניטי גמל מניות בישראל (717) 44957 | B95: אינפיניטי גמל מניות בישראל (717) | C95: 717 | D95: 44957 | E95: 78396934 | F95: 240950.45 | G95: 37221.38 | H95: 0 | I95: 0.014757 | J95: 0.014757 | K95: 1136579.6
A96: =B96&" "&D96
A97: =B97&" "&D97 -> אינפיניטי גמל מניות בישראל (717) סה"כ | B97: אינפיניטי גמל מניות בישראל (717) | C97: 717 | D97: סה"כ | E97: 78396934 | F97: 5249086.4 | G97: 894610.47 | H97: 0 | I97: 0.002636 | J97: 0.002636 | K97: 160273.22
A98: =B98&" "&D98
A99: =B99&" "&D99
A100: =B100&" "&D100
A101: =B101&" "&D101
A102: =B102&" "&D102 -> קופה 719 | B102: קופה | C102: אינפיניטי גמל מסלול לבני 50 עד 60 (719) | D102: 719
A103: =B103&" "&D103 -> אינפיניטי גמל מסלול לבני 50 עד 60 (719) 44926 | B103: אינפיניטי גמל מסלול לבני 50 עד 60 (719) | C103: 719 | D103: 44926 | E103: 57678341
A104: =B104&" "&D104 -> אינפיניטי גמל מסלול לבני 50 עד 60 (719) 44927 | B104: אינפיניטי גמל מסלול לבני 50 עד 60 (719) | C104: 719 | D104: 44927 | E104: 57900376 | F104: 180751.55 | G104: 0 | H104: 0 | I104: 0.000716 | J104: 0.000716 | K104: 41283.42
A105: =B105&" "&D105 -> אינפיניטי גמל מסלול לבני 50 עד 60 (719) 44928 | B105: אינפיניטי גמל מסלול לבני 50 עד 60 (719) | C105: 719 | D105: 44928 | E105: 57915589 | F105: -130315.71 | G105: 0 | H105: 0 | I105: 0.002513 | J105: 0.002513 | K105: 145528.88
A106: =B106&" "&D106 -> אינפיניטי גמל מסלול לבני 50 עד 60 (719) 44929 | B106: אינפיניטי גמל מסלול לבני 50 עד 60 (719) | C106: 719 | D106: 44929 | E106: 57924953 | F106: 3765.61 | G106: 0 | H106: 0 | I106: 9.7e-05 | J106: 9.7e-05 | K106: 5598.51
A107: =B107&" "&D107 -> אינפיניטי גמל מסלול לבני 50 עד 60 (719) 44930 | B107: אינפיניטי גמל מסלול לבני 50 עד 60 (719) | C107: 719 | D107: 44930 | E107: 57967578 | F107: 29161.6 | G107: 0 | H107: 0 | I107: 0.000232 | J107: 0.000232 | K107: 13463.32
A108: =B108&" "&D108 -> אינפיניטי גמל מסלול לבני 50 עד 60 (719) 44931 | B108: אינפיניטי גמל מסלול לבני 50 עד 60 (719) | C108: 719 | D108: 44931 | E108: 57852120 | F108: -7164.5 | G108: 0 | H108: 0 | I108: -0.001868 | J108: -0.001868 | K108: -108293.11
A109: =B109&" "&D109 -> אינפיניטי גמל מסלול לבני 50 עד 60 (719) 44934 | B109: אינפיניטי גמל מסלול לבני 50 עד 60 (719) | C109: 719 | D109: 44934 | E109: 59559418 | F109: 1171498.7 | G109: 0 | H109: 0 | I109: 0.009262 | J109: 0.009262 | K109: 535798.85
A110: =B110&" "&D110 -> אינפיניטי גמל מסלול לבני 50 עד 60 (719) 44935 | B110: אינפיניטי גמל מסלול לבני 50 עד 60 (719) | C110: 719 | D110: 44935 | E110: 59808281 | F110: -32282.42 | G110: 3924.94 | H110: 0 | I110: 0.004787 | J110: 0.004787 | K110: 285070.61
A111: =B111&" "&D111 -> אינפיניטי גמל מסלול לבני 50 עד 60 (719) 44936 | B111: אינפיניטי גמל מסלול לבני 50 עד 60 (719) | C111: 719 | D111: 44936 | E111: 59711258 | F111: 25328.48 | G111: 0 | H111: 0 | I111: -0.002046 | J111: -0.002046 | K111: -122352.1
A112: =B112&" "&D112 -> אינפיניטי גמל מסלול לבני 50 עד 60 (719) 44937 | B112: אינפיניטי גמל מסלול לבני 50 עד 60 (719) | C112: 719 | D112: 44937 | E112: 59917653 | F112: -13388.24 | G112: 0 | H112: 0 | I112: 0.003681 | J112: 0.003681 | K112: 219783.54
A113: =B113&" "&D113 -> אינפיניטי גמל מסלול לבני 50 עד 60 (719) 44938 | B113: אינפיניטי גמל מסלול לבני 50 עד 60 (719) | C113: 719 | D113: 44938 | E113: 59915167 | F113: -108131.17 | G113: 0 | H113: 0 | I113: 0.001763 | J113: 0.001763 | K113: 105645.28
A114: =B114&" "&D114 -> אינפיניטי גמל מסלול לבני 50 עד 60 (719) 44941 | B114: אינפיניטי גמל מסלול לבני 50 עד 60 (719) | C114: 719 | D114: 44941 | E114: 60303635 | F114: 133046.24 | G114: 43580.74 | H114: 0 | I114: 0.004994 | J114: 0.004994 | K114: 299002.52
A115: =B115&" "&D115 -> אינפיניטי גמל מסלול לבני 50 עד 60 (719) 44942 | B115: אינפיניטי גמל מסלול לבני 50 עד 60 (719) | C115: 719 | D115: 44942 | E115: 60298469 | F115: -89411.2 | G115: 0 | H115: 0 | I115: 0.001397 | J115: 0.001397 | K115: 84245.12
... A126: =B126&" "&D126 -> אינפיניטי גמל מסלול לבני 50 עד 60 (719) 44957 | B126: אינפיניטי גמל מסלול לבני 50 עד 60 (719) | C126: 719 | D126: 44957 | E126: 60239892 | F126: 41448.06 | G126: 33059.31 | H126: 0 | I126: 0.003406 | J126: 0.003406 | K126: 204340.66
A127: =B127&" "&D127
A128: =B128&" "&D128 -> אינפיניטי גמל מסלול לבני 50 עד 60 (719) סה"כ | B128: אינפיניטי גמל מסלול לבני 50 עד 60 (719) | C128: 719 | D128: סה"כ | E128: 60239892 | F128: 1271226.6 | G128: 497812 | H128: 0 | I128: 0.030622 | J128: 0.030622 | K128: 1788136.7
A129: =B129&" "&D129
A130: =B130&" "&D130
A131: =B131&" "&D131
A132: =B132&" "&D132
A133: =B133&" "&D133 -> קופה 720 | B133: קופה | C133: אינפיניטי גמל אג"ח ממשלת ישראל (720) | D133: 720
A134: =B134&" "&D134 -> אינפיניטי גמל אג"ח ממשלת ישראל (720) 44926 | B134: אינפיניטי גמל אג"ח ממשלת ישראל (720) | C134: 720 | D134: 44926 | E134: 20948897
A135: =B135&" "&D135 -> אינפיניטי גמל אג"ח ממשלת ישראל (720) 44927 | B135: אינפיניטי גמל אג"ח ממשלת ישראל (720) | C135: 720 | D135: 44927 | E135: 20960057 | F135: 200 | G135: 0 | H135: 0 | I135: 0.000523 | J135: 0.000523 | K135: 10959.29
A136: =B136&" "&D136 -> אינפיניטי גמל אג"ח ממשלת ישראל (720) 44928 | B136: אינפיניטי גמל אג"ח ממשלת ישראל (720) | C136: 720 | D136: 44928 | E136: 20957405 | F136: 5135.3 | G136: 0 | H136: 0 | I136: -0.000372 | J136: -0.000372 | K136: -7787.44
A137: =B137&" "&D137 -> אינפיניטי גמל אג"ח ממשלת ישראל (720) 44929 | B137: אינפיניטי גמל אג"ח ממשלת ישראל (720) | C137: 720 | D137: 44929 | E137: 20967863 | F137: 0 | G137: 0 | H137: 0 | I137: 0.000499 | J137: 0.000499 | K137: 10458.03
A138: =B138&" "&D138 -> אינפיניטי גמל אג"ח ממשלת ישראל (720) 44930 | B138: אינפיניטי גמל אג"ח ממשלת ישראל (720) | C138: 720 | D138: 44930 | E138: 20969807 | F138: 1611.42 | G138: 0 | H138: 0 | I138: 1.6e-05 | J138: 1.6e-05 | K138: 333.26
A139: =B139&" "&D139 -> אינפיניטי גמל אג"ח ממשלת ישראל (720) 44931 | B139: אינפיניטי גמל אג"ח ממשלת ישראל (720) | C139: 720 | D139: 44931 | E139: 20787965 | F139: 80.5 | G139: 184859.12 | H139: 0 | I139: 0.000141 | J139: 0.000141 | K139: 2936.61
A140: =B140&" "&D140 -> אינפיניטי גמל אג"ח ממשלת ישראל (720) 44934 | B140: אינפיניטי גמל אג"ח ממשלת ישראל (720) | C140: 720 | D140: 44934 | E140: 20853946 | F140: 426.76 | G140: 0 | H140: 0 | I140: 0.003153 | J140: 0.003153 | K140: 65553.94
A141: =B141&" "&D141 -> אינפיניטי גמל אג"ח ממשלת ישראל (720) 44935 | B141: אינפיניטי גמל אג"ח ממשלת ישראל (720) | C141: 720 | D141: 44935 | E141: 20888230 | F141: 4.86 | G141: 0 | H141: 0 | I141: 0.001644 | J141: 0.001644 | K141: 34279.08
A142: =B142&" "&D142 -> אינפיניטי גמל אג"ח ממשלת ישראל (720) 44936 | B142: אינפיניטי גמל אג"ח ממשלת ישראל (720) | C142: 720 | D142: 44936 | E142: 20882047 | F142: 1433.46 | G142: 0 | H142: 0 | I142: -0.000365 | J142: -0.000365 | K142: -7616.06
A143: =B143&" "&D143 -> אינפיניטי גמל אג"ח ממשלת ישראל (720) 44937 | B143: אינפיניטי גמל אג"ח ממשלת ישראל (720) | C143: 720 | D143: 44937 | E143: 20916329 | F143: 0 | G143: 0 | H143: 0 | I143: 0.001642 | J143: 0.001642 | K143: 34281.49
A144: =B144&" "&D144 -> אינפיניטי גמל אג"ח ממשלת ישראל (720) 44938 | B144: אינפיניטי גמל אג"ח ממשלת ישראל (720) | C144: 720 | D144: 44938 | E144: 20809925 | F144: 29470.36 | G144: 156136.19 | H144: 0 | I144: 0.000976 | J144: 0.000976 | K144: 20261.86
A145: =B145&" "&D145 -> אינפיניטי גמל אג"ח ממשלת ישראל (720) 44941 | B145: אינפיניטי גמל אג"ח ממשלת ישראל (720) | C145: 720 | D145: 44941 | E145: 20795691 | F145: 0 | G145: 0 | H145: 0 | I145: -0.000684 | J145: -0.000684 | K145: -14234.01
...

Sheet תשואה מחילת שנה
A1: עמודת עזר - לא לגעת! לוודא נוסחאות משוכות עד הסוף. | B1: דוח תשואה רוחבי לקופות גמל מ- 1/01/2023 עד ל-31/01/2023
B3: תאריך פעולה אחרון: 7/02/2023, תאריך עידכון שערים: 3/02/2023
B5: קופה | C5: מספר קופה | D5: תאריך | E5: סך נכסים | F5: הפקדות נטו | G5: משיכות | H5: דמי ניהול | I5: תשואה ברוטו | J5: תשואה נטו | K5: רווח ברוטו
A9: קופה 715 | B9: קופה | C9: אינפיניטי גמל אג"ח (715) | D9: 715
A10: אינפיניטי גמל אג"ח (715) סה"כ | B10: אינפיניטי גמל אג"ח (715) | C10: 715 | D10: סה"כ | E10: 1.387673e+08 | F10: 1713727.7 | G10: 1693694.4 | H10: 0 | I10: 0.014873 | J10: 0.014873 | K10: 2034106
A11: אינפיניטי גמל מניות בחו"ל (716) סה"כ | B11: אינפיניטי גמל מניות בחו"ל (716) | C11: 716 | D11: סה"כ | E11: 67069601 | F11: 1216409.6 | G11: 510419.95 | H11: 0 | I11: 0.050543 | J11: 0.050543 | K11: 3216015.4
A12: אינפיניטי גמל מניות בישראל (717) סה"כ | B12: אינפיניטי גמל מניות בישראל (717) | C12: 717 | D12: סה"כ | E12: 78396934 | F12: 5249086.4 | G12: 894610.47 | H12: 0 | I12: 0.002636 | J12: 0.002636 | K12: 160273.22
A13: אינפיניטי גמל מסלול לבני 50 עד 60 (719) סה"כ | B13: אינפיניטי גמל מסלול לבני 50 עד 60 (719) | C13: 719 | D13: סה"כ | E13: 60239892 | F13: 1271226.6 | G13: 497812 | H13: 0 | I13: 0.030622 | J13: 0.030622 | K13: 1788136.7
A14: אינפיניטי גמל אג"ח ממשלת ישראל (720) סה"כ | B14: אינפיניטי גמל אג"ח ממשלת ישראל (720) | C14: 720 | D14: סה"כ | E14: 23191557 | F14: 2673307.5 | G14: 593465.02 | H14: 0 | I14: 0.007929 | J14: 0.007929 | K14: 162817.43
A15: אינפינטי גמל מסלול לבני 60 ומעלה (721) סה"כ | B15: אינפינטי גמל מסלול לבני 60 ומעלה (721) | C15: 721 | D15: סה"כ | E15: 29975941 | F15: 798646.76 | G15: 120096.07 | H15: 0 | I15: 0.021184 | J15: 0.021184 | K15: 615164.51
A16: אינפיניטי גמל מסלול לבני 50 ומטה (723) סה"כ | B16: אינפיניטי גמל מסלול לבני 50 ומטה (723) | C16: 723 | D16: סה"כ | E16: 18400309 | F16: 472853.72 | G16: 998993.89 | H16: 0 | I16: 0.028385 | J16: 0.028385 | K16: 514165.03
A17: אינפיניטי השתלמות אג"ח (725) סה"כ | B17: אינפיניטי השתלמות אג"ח (725) | C17: 725 | D17: סה"כ | E17: 1.630528e+08 | F17: 1683454.1 | G17: 3061247.6 | H17: 0 | I17: 0.015099 | J17: 0.015099 | K17: 2441639
A18: אינפיניטי השתלמות מניות בחו"ל (727) סה"כ | B18: אינפיניטי השתלמות מניות בחו"ל (727) | C18: 727 | D18: סה"כ | E18: 86684327 | F18: 3073791.2 | G18: 1208429.9 | H18: 0 | I18: 0.048281 | J18: 0.048281 | K18: 3950841.4
A19: אינפיניטי השתלמות מניות בישראל (728) סה"כ | B19: אינפיניטי השתלמות מניות בישראל (728) | C19: 728 | D19: סה"כ | E19: 90412774 | F19: 6421715.3 | G19: 3143685.6 | H19: 0 | I19: 0.004745 | J19: 0.004745 | K19: 371310.23
A20: אינפיניטי השתלמות אג"ח ממשלת ישראל (730) סה"כ | B20: אינפיניטי השתלמות אג"ח ממשלת ישראל (730) | C20: 730 | D20: סה"כ | E20: 37787808 | F20: 1166747.9 | G20: 935928.59 | H20: 0 | I20: 0.008318 | J20: 0.008318 | K20: 306125.32
A21: אינפינטי השתלמות מסלול אג"ח עד 25% מניות (732) סה"כ | B21: אינפינטי השתלמות מסלול אג"ח עד 25% מניות (732) | C21: 732 | D21: סה"כ | E21: 33744807 | F21: -21229.91 | G21: 89435.04 | H21: 0 | I21: 0.013808 | J21: 0.013808 | K21: 467479.15
... A37: אינפיניטי גמל להשקעה מ.פאסיבי כללי (810) סה"כ | B37: אינפיניטי גמל להשקעה מ.פאסיבי כללי (810) | C37: 810 | D37: סה"כ | E37: 10734408 | F37: 428682.63 | G37: 4321.69 | H37: 0 | I37: 0.023986 | J37: 0.023986 | K37: 242566.78
