Workbook

Sheet בדיקות
D1: דוח לאוצר | Q1: נתון להשוואה | T1: פער
D2: DE1 | E2: KT22 | F2: KT502 | G2: KT51 | H2: KT503 | I2: KT761 | J2: KT943 | K2: KT762 | L2: השוואת מטח | M2: KT945 | N2: KT763 | O2: השוואת חול | P2: KT944 | Q2: DE1 | R2: KT22 | S2: KT502 | T2: DE1 | U2: KT22 | V2: KT502
D3: נכסים | E3: שיעור תשואה חודשי | F3: תשואה נומינלית חודשית | G3: שיעור תשואה מצטברת | H3: תשואה נומינלית מצטברת | I3: מניות | K3: חשיפה למטח | M3: חשיפה גבוה ביותר למטח | N3: חול
A4: 14037 | B4: אינפיניטי מקיפה לבני 50 ומטה | C4: 50 ומטה | D4: =+SUMIFS('14037 50 ומטה'!$B:$B,'14037 50 ומטה'!$C:$C,D$2) -> 26496.149 | E4: =+SUMIFS('14037 50 ומטה'!$B:$B,'14037 50 ומטה'!$C:$C,E$2) -> 2.955 | F4: =+SUMIFS('14037 50 ומטה'!$B:$B,'14037 50 ומטה'!$C:$C,F$2) -> 750.613 | G4: =+SUMIFS('14037 50 ומטה'!$B:$B,'14037 50 ומטה'!$C:$C,G$2) -> 11.726 | H4: =+SUMIFS('14037 50 ומטה'!$B:$B,'14037 50 ומטה'!$C:$C,H$2) -> 2201.875 | I4: =+SUMIFS('14037 50 ומטה'!$B:$B,'14037 50 ומטה'!$C:$C,I$2) -> 12969.672 | J4: =+SUMIFS('14037 50 ומטה'!$B:$B,'14037 50 ומטה'!$C:$C,J$2) -> 13019.716 | K4: =+SUMIFS('14037 50 ומטה'!$B:$B,'14037 50 ומטה'!$C:$C,K$2) -> 6010.446 | L4: =SUM('14037 50 ומטה'!I1394:I1400) -> 108.295 | M4: =+SUMIFS('14037 50 ומטה'!$B:$B,'14037 50 ומטה'!$C:$C,M$2) -> 6075.568 | N4: =+SUMIFS('14037 50 ומטה'!$B:$B,'14037 50 ומטה'!$C:$C,N$2) -> 8055.405 | O4: =SUM('14037 50 ומטה'!I1406:I1431) -> 474.609 | P4: =+SUMIFS('14037 50 ומטה'!$B:$B,'14037 50 ומטה'!$C:$C,P$2) -> 8123.746 | Q4: =LOOKUP(2,1/('דוח תשואות מורחב'!A:A=בדיקות!B4),'דוח תשואות מורחב'!D:D)/1000 -> 26496.15 | R4: =LOOKUP(2,1/('דוח תשואות מורחב'!A:A=בדיקות!B4),'דוח תשואות מורחב'!H:H)*100 -> 2.9550346 | S4: =(LOOKUP(2,1/('דוח תשואות מורחב'!A:A=B4),'דוח תשואות מורחב'!D:D)-VLOOKUP(B4,'דוח תשואות מורחב'!A:D,4,0)-SUMIFS('דוח תשואות מורחב'!D:D,'דוח תשואות מורחב'!A:A,B4,'דוח תשואות מורחב'!C:C,$N$26)-LOOKUP(2,1/('דוח תשואות מורחב'!A:A=B4),'דוח תשואות מורחב'!E:E)+LOOKUP(2,1/('דוח תשואות מורחב'!A:A=B4),'דוח תשואות מורחב'!F:F)+LOOKUP(2,1/('דוח תשואות מורחב'!A:A=B4),'דוח תשואות מורחב'!G:G))/1000 -> 750.61315 | T4: =D4-Q4 -> -0.00091 | U4: =E4-R4 -> -3.4637331e-05 | V4: =F4-S4 -> -0.00015 | W4: =+T4/Q4 -> -3.4344612e-08
B5: אינפיניטי מקיפה לבני 50-60 | C5: 50-60 | D5: =+SUMIFS('14038 50-60'!$B:$B,'14038 50-60'!$C:$C,D$2) -> 4598.267 | E5: =+SUMIFS('14038 50-60'!$B:$B,'14038 50-60'!$C:$C,E$2) -> 2.612 | F5: =+SUMIFS('14038 50-60'!$B:$B,'14038 50-60'!$C:$C,F$2) -> 114.683 | G5: =+SUMIFS('14038 50-60'!$B:$B,'14038 50-60'!$C:$C,G$2) -> 13.34 | H5: =+SUMIFS('14038 50-60'!$B:$B,'14038 50-60'!$C:$C,H$2) -> 380.477 | I5: =+SUMIFS('14038 50-60'!$B:$B,'14038 50-60'!$C:$C,I$2) -> 1878.37 | J5: =+SUMIFS('14038 50-60'!$B:$B,'14038 50-60'!$C:$C,J$2) -> 1878.37 | K5: =+SUMIFS('14038 50-60'!$B:$B,'14038 50-60'!$C:$C,K$2) -> 916.22 | L5: =SUM('14038 50-60'!I1394:I1400) -> 11.071 | M5: =+SUMIFS('14038 50-60'!$B:$B,'14038 50-60'!$C:$C,M$2) -> 917.268 | N5: =+SUMIFS('14038 50-60'!$B:$B,'14038 50-60'!$C:$C,N$2) -> 1234.754 | O5: =SUM('14038 50-60'!I1406:I1422) -> 85.662 | P5: =+SUMIFS('14038 50-60'!$B:$B,'14038 50-60'!$C:$C,P$2) -> 1234.754 | Q5: =LOOKUP(2,1/('דוח תשואות מורחב'!A:A=בדיקות!B5),'דוח תשואות מורחב'!D:D)/1000 -> 4598.2666 | R5: =LOOKUP(2,1/('דוח תשואות מורחב'!A:A=בדיקות!B5),'דוח תשואות מורחב'!H:H)*100 -> 2.6124532 | S5: =(LOOKUP(2,1/('דוח תשואות מורחב'!A:A=B5),'דוח תשואות מורחב'!D:D)-VLOOKUP(B5,'דוח תשואות מורחב'!A:D,4,0)-SUMIFS('דוח תשואות מורחב'!D:D,'דוח תשואות מורחב'!A:A,B5,'דוח תשואות מורחב'!C:C,$N$26)-LOOKUP(2,1/('דוח תשואות מורחב'!A:A=B5),'דוח תשואות מורחב'!E:E)+LOOKUP(2,1/('דוח תשואות מורחב'!A:A=B5),'דוח תשואות מורחב'!F:F)+LOOKUP(2,1/('דוח תשואות מורחב'!A:A=B5),'דוח תשואות מורחב'!G:G))/1000 -> 114.68283 | T5: =D5-Q5 -> 0.00041 | U5: =E5-R5 -> -0.0004531716 | V5: =F5-S5 -> 0.00017 | W5: =+T5/Q5 -> 8.9164034e-08
B6: אינפיניטי מקיפה לבני 60 ומעלה | C6: 60 ומעלה | D6: =+SUMIFS('14039 60 ומעלה'!$B:$B,'14039 60 ומעלה'!$C:$C,D$2) -> 4717.182 | E6: =+SUMIFS('14039 60 ומעלה'!$B:$B,'14039 60 ומעלה'!$C:$C,E$2) -> 2.191 | F6: =+SUMIFS('14039 60 ומעלה'!$B:$B,'14039 60 ומעלה'!$C:$C,F$2) -> 99.906 | G6: =+SUMIFS('14039 60 ומעלה'!$B:$B,'14039 60 ומעלה'!$C:$C,G$2) -> 7.384 | H6: =+SUMIFS('14039 60 ומעלה'!$B:$B,'14039 60 ומעלה'!$C:$C,H$2) -> 250.772 | I6: =+SUMIFS('14039 60 ומעלה'!$B:$B,'14039 60 ומעלה'!$C:$C,I$2) -> 1373.978 | J6: =+SUMIFS('14039 60 ומעלה'!$B:$B,'14039 60 ומעלה'!$C:$C,J$2) -> 1373.978 | K6: =+SUMIFS('14039 60 ומעלה'!$B:$B,'14039 60 ומעלה'!$C:$C,K$2) -> 698.07 | L6: =SUM('14039 60 ומעלה'!I1394:I1400) -> 17.082 | M6: =+SUMIFS('14039 60 ומעלה'!$B:$B,'14039 60 ומעלה'!$C:$C,M$2) -> 699.57 | N6: =+SUMIFS('14039 60 ומעלה'!$B:$B,'14039 60 ומעלה'!$C:$C,N$2) -> 895.31 | O6: =SUM('14039 60 ומעלה'!I1406:I1422) -> 81.728 | P6: =+SUMIFS('14039 60 ומעלה'!$B:$B,'14039 60 ומעלה'!$C:$C,P$2) -> 895.31 | Q6: =LOOKUP(2,1/('דוח תשואות מורחב'!A:A=בדיקות!B6),'דוח תשואות מורחב'!D:D)/1000 -> 4717.1833 | R6: =LOOKUP(2,1/('דוח תשואות מורחב'!A:A=בדיקות!B6),'דוח תשואות מורחב'!H:H)*100 -> 2.1909292 | S6: =(LOOKUP(2,1/('דוח תשואות מורחב'!A:A=B6),'דוח תשואות מורחב'!D:D)-VLOOKUP(B6,'דוח תשואות מורחב'!A:D,4,0)-SUMIFS('דוח תשואות מורחב'!D:D,'דוח תשואות מורחב'!A:A,B6,'דוח תשואות מורחב'!C:C,$N$26)-LOOKUP(2,1/('דוח תשואות מורחב'!A:A=B6),'דוח תשואות מורחב'!E:E)+LOOKUP(2,1/('דוח תשואות מורחב'!A:A=B6),'דוח תשואות מורחב'!F:F)+LOOKUP(2,1/('דוח תשואות מורחב'!A:A=B6),'דוח תשואות מורחב'!G:G))/1000 -> 99.90623 | T6: =D6-Q6 -> -0.0013 | U6: =E6-R6 -> 7.0759088e-05 | V6: =F6-S6 -> -0.00023 | W6: =+T6/Q6 -> -2.7558819e-07
B7: אינפיניטי מקיפה מחקה מדד S&P 500 | C7: SP500 | D7: =+SUMIFS('14054 SP500'!$B:$B,'14054 SP500'!$C:$C,D$2) -> 4614.897 | E7: =+SUMIFS('14054 SP500'!$B:$B,'14054 SP500'!$C:$C,E$2) -> 2.97 | F7: =+SUMIFS('14054 SP500'!$B:$B,'14054 SP500'!$C:$C,F$2) -> 117.866 | G7: =+SUMIFS('14054 SP500'!$B:$B,'14054 SP500'!$C:$C,G$2) -> 18.509 | H7: =+SUMIFS('14054 SP500'!$B:$B,'14054 SP500'!$C:$C,H$2) -> 482.53 | I7: =+SUMIFS('14054 SP500'!$B:$B,'14054 SP500'!$C:$C,I$2) -> 3090.432 | J7: =+SUMIFS('14054 SP500'!$B:$B,'14054 SP500'!$C:$C,J$2) -> 3090.432 | K7: =+SUMIFS('14054 SP500'!$B:$B,'14054 SP500'!$C:$C,K$2) -> 3147.151 | L7: =SUM('14054 SP500'!I1394:I1400) -> 0 | M7: =+SUMIFS('14054 SP500'!$B:$B,'14054 SP500'!$C:$C,M$2) -> 3147.151 | N7: =+SUMIFS('14054 SP500'!$B:$B,'14054 SP500'!$C:$C,N$2) -> 3302.239 | O7: =SUM('14054 SP500'!I1406:I1422) -> 0 | P7: =+SUMIFS('14054 SP500'!$B:$B,'14054 SP500'!$C:$C,P$2) -> 3302.239 | Q7: =LOOKUP(2,1/('דוח תשואות מורחב'!A:A=בדיקות!B7),'דוח תשואות מורחב'!D:D)/1000 -> 4614.8968 | R7: =LOOKUP(2,1/('דוח תשואות מורחב'!A:A=בדיקות!B7),'דוח תשואות מורחב'!H:H)*100 -> 2.9696489 | S7: =(LOOKUP(2,1/('דוח תשואות מורחב'!A:A=B7),'דוח תשואות מורחב'!D:D)-VLOOKUP(B7,'דוח תשואות מורחב'!A:D,4,0)-SUMIFS('דוח תשואות מורחב'!D:D,'דוח תשואות מורחב'!A:A,B7,'דוח תשואות מורחב'!C:C,$N$26)-LOOKUP(2,1/('דוח תשואות מורחב'!A:A=B7),'דוח תשואות מורחב'!E:E)+LOOKUP(2,1/('דוח תשואות מורחב'!A:A=B7),'דוח תשואות מורחב'!F:F)+LOOKUP(2,1/('דוח תשואות מורחב'!A:A=B7),'דוח תשואות מורחב'!G:G))/1000 -> 117.86619 | T7: =D7-Q7 -> 0.0002 | U7: =E7-R7 -> 0.00035105995 | V7: =F7-S7 -> -0.00019 | W7: =+T7/Q7 -> 4.3337914e-08
B8: אינפיניטי מקיפה פאסיבי - מדדי מניות | C8: מניות | D8: =+SUMIFS('מניות 14040'!$B:$B,'מניות 14040'!$C:$C,D$2) -> 3489.55 | E8: =+SUMIFS('מניות 14040'!$B:$B,'מניות 14040'!$C:$C,E$2) -> 3.715 | F8: =+SUMIFS('מניות 14040'!$B:$B,'מניות 14040'!$C:$C,F$2) -> 124.252 | G8: =+SUMIFS('מניות 14040'!$B:$B,'מניות 14040'!$C:$C,G$2) -> 16.046 | H8: =+SUMIFS('מניות 14040'!$B:$B,'מניות 14040'!$C:$C,H$2) -> 437.15 | I8: =+SUMIFS('מניות 14040'!$B:$B,'מניות 14040'!$C:$C,I$2) -> 2448.261 | J8: =+SUMIFS('מניות 14040'!$B:$B,'מניות 14040'!$C:$C,J$2) -> 2448.261 | K8: =+SUMIFS('מניות 14040'!$B:$B,'מניות 14040'!$C:$C,K$2) -> 2457.245 | L8: =SUM('מניות 14040'!I1394:I1400) -> 0 | M8: =+SUMIFS('מניות 14040'!$B:$B,'מניות 14040'!$C:$C,M$2) -> 2457.245 | N8: =+SUMIFS('מניות 14040'!$B:$B,'מניות 14040'!$C:$C,N$2) -> 2448.261 | O8: =+SUM('מניות 14040'!I1406:I1432) -> 2311.646 | P8: =+SUMIFS('מניות 14040'!$B:$B,'מניות 14040'!$C:$C,P$2) -> 2448.261 | Q8: =LOOKUP(2,1/('דוח תשואות מורחב'!A:A=בדיקות!B8),'דוח תשואות מורחב'!D:D)/1000 -> 3489.5503 | R8: =LOOKUP(2,1/('דוח תשואות מורחב'!A:A=בדיקות!B8),'דוח תשואות מורחב'!H:H)*100 -> 3.7153927 | S8: =(LOOKUP(2,1/('דוח תשואות מורחב'!A:A=B8),'דוח תשואות מורחב'!D:D)-VLOOKUP(B8,'דוח תשואות מורחב'!A:D,4,0)-SUMIFS('דוח תשואות מורחב'!D:D,'דוח תשואות מורחב'!A:A,B8,'דוח תשואות מורחב'!C:C,$N$26)-LOOKUP(2,1/('דוח תשואות מורחב'!A:A=B8),'דוח תשואות מורחב'!E:E)+LOOKUP(2,1/('דוח תשואות מורחב'!A:A=B8),'דוח תשואות מורחב'!F:F)+LOOKUP(2,1/('דוח תשואות מורחב'!A:A=B8),'דוח תשואות מורחב'!G:G))/1000 -> 124.25248 | T8: =D8-Q8 -> -0.00029 | U8: =E8-R8 -> -0.00039271645 | V8: =F8-S8 -> -0.00048 | W8: =+T8/Q8 -> -8.3105265e-08
B9: אינפיניטי מקיפה כהלכה | C9: כהלכה | D9: =+SUMIFS('14042 כהלכה'!$B:$B,'14042 כהלכה'!$C:$C,D$2) -> 1312.446 | E9: =+SUMIFS('14042 כהלכה'!$B:$B,'14042 כהלכה'!$C:$C,E$2) -> 3.795 | F9: =+SUMIFS('14042 כהלכה'!$B:$B,'14042 כהלכה'!$C:$C,F$2) -> 44.421 | G9: =+SUMIFS('14042 כהלכה'!$B:$B,'14042 כהלכה'!$C:$C,G$2) -> 15.667 | H9: =+SUMIFS('14042 כהלכה'!$B:$B,'14042 כהלכה'!$C:$C,H$2) -> 86.77 | I9: =+SUMIFS('14042 כהלכה'!$B:$B,'14042 כהלכה'!$C:$C,I$2) -> 919.064 | J9: =+SUMIFS('14042 כהלכה'!$B:$B,'14042 כהלכה'!$C:$C,J$2) -> 919.064 | K9: =+SUMIFS('14042 כהלכה'!$B:$B,'14042 כהלכה'!$C:$C,K$2) -> 924.989 | L9: =SUM('14042 כהלכה'!I1394:I1400) -> 0.051 | M9: =+SUMIFS('14042 כהלכה'!$B:$B,'14042 כהלכה'!$C:$C,M$2) -> 924.989 | N9: =+SUMIFS('14042 כהלכה'!$B:$B,'14042 כהלכה'!$C:$C,N$2) -> 919.064 | O9: =SUM('14042 כהלכה'!I1406:I1432) -> 574.337 | P9: =+SUMIFS('14042 כהלכה'!$B:$B,'14042 כהלכה'!$C:$C,P$2) -> 919.064 | Q9: =LOOKUP(2,1/('דוח תשואות מורחב'!A:A=בדיקות!B9),'דוח תשואות מורחב'!D:D)/1000 -> 1312.4446 | R9: =LOOKUP(2,1/('דוח תשואות מורחב'!A:A=בדיקות!B9),'דוח תשואות מורחב'!H:H)*100 -> 3.7952945 | S9: =(LOOKUP(2,1/('דוח תשואות מורחב'!A:A=B9),'דוח תשואות מורחב'!D:D)-VLOOKUP(B9,'דוח תשואות מורחב'!A:D,4,0)-SUMIFS('דוח תשואות מורחב'!D:D,'דוח תשואות מורחב'!A:A,B9,'דוח תשואות מורחב'!C:C,$N$26)-LOOKUP(2,1/('דוח תשואות מורחב'!A:A=B9),'דוח תשואות מורחב'!E:E)+LOOKUP(2,1/('דוח תשואות מורחב'!A:A=B9),'דוח תשואות מורחב'!F:F)+LOOKUP(2,1/('דוח תשואות מורחב'!A:A=B9),'דוח תשואות מורחב'!G:G))/1000 -> 44.42055 | T9: =D9-Q9 -> 0.00135 | U9: =E9-R9 -> -0.00029450813 | V9: =F9-S9 -> 0.00045 | W9: =+T9/Q9 -> 1.0286148e-06
B10: אינפיניטי מקיפה עוקב מדדים גמיש | D10: =+SUMIFS('14334 מחקה מדדי מניות'!$B:$B,'14334 מחקה מדדי מניות'!$C:$C,D$2) -> 1.308 | E10: =+SUMIFS('14334 מחקה מדדי מניות'!$B:$B,'14334 מחקה מדדי מניות'!$C:$C,E$2) -> 2.527 | F10: =+SUMIFS('14334 מחקה מדדי מניות'!$B:$B,'14334 מחקה מדדי מניות'!$C:$C,F$2) -> 0.033 | G10: =+SUMIFS('14334 מחקה מדדי מניות'!$B:$B,'14334 מחקה מדדי מניות'!$C:$C,G$2) -> 2.401 | H10: =+SUMIFS('14334 מחקה מדדי מניות'!$B:$B,'14334 מחקה מדדי מניות'!$C:$C,H$2) -> 0.034 | I10: =+SUMIFS('14042 כהלכה'!$B:$B,'14042 כהלכה'!$C:$C,I$2) -> 919.064 | J10: =+SUMIFS('14042 כהלכה'!$B:$B,'14042 כהלכה'!$C:$C,J$2) -> 919.064 | K10: =+SUMIFS('14042 כהלכה'!$B:$B,'14042 כהלכה'!$C:$C,K$2) -> 924.989 | L10: =SUM('14042 כהלכה'!I1395:I1401) -> 0 | M10: =+SUMIFS('14042 כהלכה'!$B:$B,'14042 כהלכה'!$C:$C,M$2) -> 924.989 | N10: =+SUMIFS('14042 כהלכה'!$B:$B,'14042 כהלכה'!$C:$C,N$2) -> 919.064 | O10: =SUM('14042 כהלכה'!I1407:I1433) -> 574.337 | P10: =+SUMIFS('14042 כהלכה'!$B:$B,'14042 כהלכה'!$C:$C,P$2) -> 919.064 | Q10: =LOOKUP(2,1/('דוח תשואות מורחב'!A:A=בדיקות!B10),'דוח תשואות מורחב'!D:D)/1000 -> 1.30701 | R10: =LOOKUP(2,1/('דוח תשואות מורחב'!A:A=בדיקות!B10),'דוח תשואות מורחב'!H:H)*100 -> 2.5266524 | S10: =(LOOKUP(2,1/('דוח תשואות מורחב'!A:A=B10),'דוח תשואות מורחב'!D:D)-VLOOKUP(B10,'דוח תשואות מורחב'!A:D,4,0)-SUMIFS('דוח תשואות מורחב'!D:D,'דוח תשואות מורחב'!A:A,B10,'דוח תשואות מורחב'!C:C,$N$26)-LOOKUP(2,1/('דוח תשואות מורחב'!A:A=B10),'דוח תשואות מורחב'!E:E)+LOOKUP(2,1/('דוח תשואות מורחב'!A:A=B10),'דוח תשואות מורחב'!F:F)+LOOKUP(2,1/('דוח תשואות מורחב'!A:A=B10),'דוח תשואות מורחב'!G:G))/1000 -> 0.03292 | T10: =D10-Q10 -> 0.00099 | U10: =E10-R10 -> 0.00034756796 | V10: =F10-S10 -> 8e-05 | W10: =+T10/Q10 -> 0.00075745404
B11: אינפיניטי מקיפה למקבלי קצבה | C11: מקבלי קצבה | D11: =+SUMIFS('מקבלי קצבה'!$B:$B,'מקבלי קצבה'!$C:$C,D$2) -> 2047.092 | E11: =+SUMIFS('מקבלי קצבה'!$B:$B,'מקבלי קצבה'!$C:$C,E$2) -> 1.516 | F11: =+SUMIFS('מקבלי קצבה'!$B:$B,'מקבלי קצבה'!$C:$C,F$2) -> 30.71 | G11: =+SUMIFS('מקבלי קצבה'!$B:$B,'מקבלי קצבה'!$C:$C,G$2) -> 7.601 | H11: =+SUMIFS('מקבלי קצבה'!$B:$B,'מקבלי קצבה'!$C:$C,H$2) -> 143.927 | I11: =+SUMIFS('מקבלי קצבה'!$B:$B,'מקבלי קצבה'!$C:$C,I$2) -> 402.332 | J11: =+SUMIFS('מקבלי קצבה'!$B:$B,'מקבלי קצבה'!$C:$C,J$2) -> 406.745 | K11: =+SUMIFS('מקבלי קצבה'!$B:$B,'מקבלי קצבה'!$C:$C,K$2) -> 123.221 | L11: =SUM('מקבלי קצבה'!I1394:I1400) -> 6.037 | M11: =+SUMIFS('14042 כהלכה'!$B:$B,'14042 כהלכה'!$C:$C,M$2) -> 924.989 | N11: =+SUMIFS('מקבלי קצבה'!$B:$B,'מקבלי קצבה'!$C:$C,N$2) -> 278.016 | O11: =SUM('מקבלי קצבה'!I1406:I1432) -> 6.037 | P11: =+SUMIFS('14042 כהלכה'!$B:$B,'14042 כהלכה'!$C:$C,P$2) -> 919.064 | Q11: =LOOKUP(2,1/('דוח תשואות מורחב'!A:A=בדיקות!B11),'דוח תשואות מורחב'!D:D)/1000 -> 2047.0908 | R11: =LOOKUP(2,1/('דוח תשואות מורחב'!A:A=בדיקות!B11),'דוח תשואות מורחב'!H:H)*100 -> 1.5157515 | S11: =(LOOKUP(2,1/('דוח תשואות מורחב'!A:A=B11),'דוח תשואות מורחב'!D:D)-VLOOKUP(B11,'דוח תשואות מורחב'!A:D,4,0)-SUMIFS('דוח תשואות מורחב'!D:D,'דוח תשואות מורחב'!A:A,B11,'דוח תשואות מורחב'!C:C,$N$26)-LOOKUP(2,1/('דוח תשואות מורחב'!A:A=B11),'דוח תשואות מורחב'!E:E)+LOOKUP(2,1/('דוח תשואות מורחב'!A:A=B11),'דוח תשואות מורחב'!F:F)+LOOKUP(2,1/('דוח תשואות מורחב'!A:A=B11),'דוח תשואות מורחב'!G:G))/1000 -> 30.71049 | T11: =D11-Q11 -> 0.00117 | U11: =E11-R11 -> 0.00024849689 | V11: =F11-S11 -> -0.00049 | W11: =+T11/Q11 -> 5.7154279e-07
J13: =+J4-I4 -> 50.044 | M13: =+M4-K4 -> 65.122 | P13: =+P4-N4 -> 68.341
J14: =+J5-I5 -> 0 | M14: =+M5-K5 -> 1.048 | P14: =+P5-N5 -> 0
J15: =+J6-I6 -> 0 | M15: =+M6-K6 -> 1.5 | P15: =+P6-N6 -> 0
J16: =+J7-I7 -> 0 | M16: =+M7-K7 -> 0 | P16: =+P7-N7 -> 0
J17: =+J8-I8 -> 0 | M17: =+M8-K8 -> 0 | P17: =+P8-N8 -> 0
J18: =+J9-I9 -> 0 | M18: =+M9-K9 -> 0 | P18: =+P9-N9 -> 0
J19: =+J11-I11 -> 4.413 | M19: =+M11-K11 -> 801.768 | P19: =+P11-N11 -> 641.048
M26: תאריך התחלה | N26: 45106
M27: תאריך סיום | N27: 45138

Sheet דוח תשואות מורחב
A2: דוח תשואה רוחבי לקופות גמל מ-30/06/2023 עד ל-31/07/2023
A4: דוח תשואה רוחבי לקופות גמל
A6: הופק ב 15:23 9/08/2023
A8: תאריך פעולה אחרון: 9/08/2023, תאריך עידכון שערים: 8/08/2023
A11: חברה | B11: מספר אישור | C11: תאריך | D11: סך נכסים | E11: הפקדות נטו | F11: משיכות | G11: דמי ניהול | H11: תשואה ברוטו | I11: תשואה נטו
A14: אינפיניטי מקיפה למקבלי קצבה | B14: 14043
A15: אינפיניטי מקיפה למקבלי קצבה | B15: 14043 | C15: 29/06/2023 | D15: 2027039.4
A16: אינפיניטי מקיפה למקבלי קצבה | B16: 14043 | C16: 2/07/2023 | D16: 2033127.8 | E16: 0 | F16: 0 | G16: 0 | H16: 0.0030035874 | I16: 0.0030035874
A17: אינפיניטי מקיפה למקבלי קצבה | B17: 14043 | C17: 3/07/2023 | D17: 2034084.3 | E17: 0 | F17: 0 | G17: 0 | H17: 0.00047048691 | I17: 0.00047048691
A18: אינפיניטי מקיפה למקבלי קצבה | B18: 14043 | C18: 4/07/2023 | D18: 2035139.5 | E18: 0 | F18: 0 | G18: 0 | H18: 0.00051873464 | I18: 0.00051873464
A19: אינפיניטי מקיפה למקבלי קצבה | B19: 14043 | C19: 5/07/2023 | D19: 2036056.8 | E19: 0 | F19: 0 | G19: 0 | H19: 0.00045071604 | I19: 0.00045071604
A20: אינפיניטי מקיפה למקבלי קצבה | B20: 14043 | C20: 6/07/2023 | D20: 2033000.2 | E20: 0 | F20: 0 | G20: 0 | H20: -0.0015012155 | I20: -0.0015012155
A21: אינפיניטי מקיפה למקבלי קצבה | B21: 14043 | C21: 9/07/2023 | D21: 2032020 | E21: 0 | F21: 0 | G21: 0 | H21: -0.00048215933 | I21: -0.00048215933
A22: אינפיניטי מקיפה למקבלי קצבה | B22: 14043 | C22: 10/07/2023 | D22: 2031989.5 | E22: 0 | F22: 0 | G22: 0 | H22: -1.4999853e-05 | I22: -1.4999853e-05
A23: אינפיניטי מקיפה למקבלי קצבה | B23: 14043 | C23: 11/07/2023 | D23: 2034356.7 | E23: 0 | F23: 0 | G23: 0 | H23: 0.0011649814 | I23: 0.0011649814
A24: אינפיניטי מקיפה למקבלי קצבה | B24: 14043 | C24: 12/07/2023 | D24: 2040790.4 | E24: 0 | F24: 0 | G24: 0 | H24: 0.0031625378 | I24: 0.0031625378
A25: אינפיניטי מקיפה למקבלי קצבה | B25: 14043 | C25: 13/07/2023 | D25: 2042723.7 | E25: 0 | F25: 0 | G25: 0 | H25: 0.00094732412 | I25: 0.00094732412
A26: אינפיניטי מקיפה למקבלי קצבה | B26: 14043 | C26: 16/07/2023 | D26: 2044473.7 | E26: 0 | F26: 0 | G26: 0 | H26: 0.00085669441 | I26: 0.00085669441
A27: אינפיניטי מקיפה למקבלי קצבה | B27: 14043 | C27: 17/07/2023 | D27: 2047089 | E27: 0 | F27: 0 | G27: 0 | H27: 0.0012792045 | I27: 0.0012792045
... A38: אינפיניטי מקיפה למקבלי קצבה | B38: 14043 | C38: סה"כ | D38: 2047090.8 | E38: 0 | F38: 10122.22 | G38: 536.82 | H38: 0.015157515 | I38: 0.014891374
A43: אינפיניטי מקיפה לבני 50 ומטה | B43: 14037
A44: אינפיניטי מקיפה לבני 50 ומטה | B44: 14037 | C44: 29/06/2023 | D44: 23866834
A45: אינפיניטי מקיפה לבני 50 ומטה | B45: 14037 | C45: 2/07/2023 | D45: 24181115 | E45: 151405.33 | F45: 0 | G45: 0 | H45: 0.0068243416 | I45: 0.0068243416
A46: אינפיניטי מקיפה לבני 50 ומטה | B46: 14037 | C46: 3/07/2023 | D46: 24254914 | E46: 60801.84 | F46: 0 | G46: 0 | H46: 0.0005374959 | I46: 0.0005374959
A47: אינפיניטי מקיפה לבני 50 ומטה | B47: 14037 | C47: 4/07/2023 | D47: 24347794 | E47: 49744.36 | F47: 0 | G47: 0 | H47: 0.0017784252 | I47: 0.0017784252
A48: אינפיניטי מקיפה לבני 50 ומטה | B48: 14037 | C48: 5/07/2023 | D48: 24717718 | E48: 371949.2 | F48: 15903.68 | G48: 0 | H48: 0.00057036588 | I48: 0.00057036588
A49: אינפיניטי מקיפה לבני 50 ומטה | B49: 14037 | C49: 6/07/2023 | D49: 24740432 | E49: 117820.96 | F49: 0 | G49: 0 | H49: -0.003847708 | I49: -0.003847708
A50: אינפיניטי מקיפה לבני 50 ומטה | B50: 14037 | C50: 9/07/2023 | D50: 24709596 | E50: 4618.39 | F50: 0 | G50: 0 | H50: -0.0014330558 | I50: -0.0014330558
A51: אינפיניטי מקיפה לבני 50 ומטה | B51: 14037 | C51: 10/07/2023 | D51: 24757058 | E51: 41407.54 | F51: 0 | G51: 0 | H51: 0.0002450465 | I51: 0.0002450465
A52: אינפיניטי מקיפה לבני 50 ומטה | B52: 14037 | C52: 11/07/2023 | D52: 24921252 | E52: 96998.69 | F52: 0 | G52: 0 | H52: 0.0027141516 | I52: 0.0027141516
A53: אינפיניטי מקיפה לבני 50 ומטה | B53: 14037 | C53: 12/07/2023 | D53: 25201356 | E53: 138785 | F53: 2881.61 | G53: 0 | H53: 0.0057869496 | I53: 0.0057869496
A54: אינפיניטי מקיפה לבני 50 ומטה | B54: 14037 | C54: 13/07/2023 | D54: 26137102 | E54: 933743.07 | F54: 287.1 | G54: 0 | H54: 9.0854082e-05 | I54: 9.0854082e-05
A55: אינפיניטי מקיפה לבני 50 ומטה | B55: 14037 | C55: 16/07/2023 | D55: 26699336 | E55: 549785.67 | F55: 8417.23 | G55: 0 | H55: 0.00079856795 | I55: 0.00079856795
A56: אינפיניטי מקיפה לבני 50 ומטה | B56: 14037 | C56: 17/07/2023 | D56: 26968498 | E56: 186502.11 | F56: 0 | G56: 0 | H56: 0.0030959489 | I56: 0.0030959489
... A65: אינפיניטי מקיפה לבני 50 ומטה | B65: 14037 | C65: 31/07/2023 | D65: 26496150 | E65: -54078.16 | F65: 96923.4 | G65: 4094.17 | H65: 0.0018686041 | I65: 0.0017141351
A67: אינפיניטי מקיפה לבני 50 ומטה | B67: 14037 | C67: סה"כ | D67: 26496150 | E67: 2284016.2 | F67: 401219.39 | G67: 4094.17 | H67: 0.029550346 | I67: 0.029391609 | J67: =+D67-E67+F67+G67-D44 -> 750613.15
A72: אינפיניטי מקיפה לבני 50-60 | B72: 14038
A73: אינפיניטי מקיפה לבני 50-60 | B73: 14038 | C73: 29/06/2023 | D73: 4342250.7
A74: אינפיניטי מקיפה לבני 50-60 | B74: 14038 | C74: 2/07/2023 | D74: 4369034.3 | E74: 0 | F74: 0 | G74: 0 | H74: 0.0061681446 | I74: 0.0061681446
A75: אינפיניטי מקיפה לבני 50-60 | B75: 14038 | C75: 3/07/2023 | D75: 4372225.6 | E75: 0 | F75: 0 | G75: 0 | H75: 0.00073044059 | I75: 0.00073044059
...

Sheet 14036 מקיפה
A2: קרן פנסיה מקיפה אינפיניטי מספר אישור 14036
A3: דוח חודשי לחודש 2023 / 7
A7: ערך משוערך של נכסי הקופה
A10: דוח תקבולים ותשלומים
A12: תקבולים מחיצוניים | B12: סכום באלפי ש"ח
A13: 1. הפקדות
A15: סה"כ הפקדות | B15: 2351.5408 | C15: AT411
A25: ג. תקבולים נוספים
A26: רכישת זכויות רטרואקטיבית | B26: 0 | C26: AT86
A27: תקבולים ממעבידים בגין פרישה מוקדמת | B27: 0 | C27: AT87
A28: תקבולים במסגרת הסכם שלמות | B28: 0 | C28: AT88
A31: הפקדות בגין פנסיה תקציבית | B31: 0 | C31: AT369
A33: 2. העברות
A34: א. העברות מקרן ותיקה
A35: העברות מקרן ותיקה - במזומן | B35: 0 | C35: AT251
A36: העברות מקרן ותיקה - בנכסים אחרים | B36: 0 | C36: AT574
A37: ב. העברות מקרנות פנסיה
A38: העברות מקרן חדשה - במזומן | B38: 1799.481 | C38: AT252
A39: העברות מקרן כללית - במזומן | B39: 0 | C39: AT253
A40: העברות מקרן פנסיה - בנכסים אחרים | B40: 0 | C40: AT575
A41: ג. העברות מקופות גמל
A42: העברות מקופת גמל לא משלמת לקצבה | B42: 58.674 | C42: AT749
A43: העברות מקרן השתלמות | B43: 0 | C43: AT750
A44: העברות מקופת גמל לתגמולים או מקופת גמל אישית לפיצויים | B44: 0 | C44: AT751
A45: העברות מקופת גמל בנכסים אחרים | B45: 0 | C45: AT7
A46: ד. העברות מחברות ביטוח
A47: העברה מקופת ביטוח הונית | B47: 91.40872 | C47: AT641
A48: העברות מקופת ביטוח משלמת/לא משלמת לקצבה | B48: 0 | C48: AT642
A49: העברות מקופת ביטוח בנכסים אחרים | B49: 0 | C49: AT753
A51: ה. קבלת כספים מקרנות פנסיה במסגרת הסדרי רציפות | B51: 0 | C51: AT255
A52: ו. תקבולים ממדינת ישראל ומגופים אחרים במסגרת הסדרי רציפות | B52: 0 | C52: AT92
A53: ז. תקבולים שטרם זוהו | B53: -371.675 | C53: AA9
A54: ח. תקבולים לאפיק מובטח תשואה | B54: 0 | C54: AT905
A56: 3. תקבולים אחרים
A57: השתתפות בריווחי מבטחי משנה | B57: 0 | C57: AT65
A58: תקבולים ממבטחי משנה - השתתפות בתשלומים | B58: 0 | C58: AT66
A59: תקבולים שאינם קשורים לקרן הפנסיה והמיועדים להעברה | B59: 0 | C59: AT102
A60: תקבולים בגין תביעות משפטיות | B60: 0 | C60: AT108
A61: תקבולים אחרים | B61: 132.29518 | C61: AT72
A62: תקבולים מהמדינה בגין סיוע כספי | B62: 0 | C62: AT576
...

Sheet 14037 50 ומטה
A2: אינפיניטי מקיפה לבני 50 ומטה ____________ מספר אישור 14037
A3: דוח חודשי לחודש 2023 / 7
A7: ערך משוערך של נכסי הקופה
A9: נכסים | B9: סכום באלפי ש"ח
A10: א. מזומנים ושווי מזומנים
A11: בישראל
A12: מזומן בש"ח | B12: 1108.757 | C12: DA12
A13: מזומן מט"ח | B13: 41.927 | C13: DT11
A14: פרי / פחק | B14: 0 | C14: DA10
A15: פקמ לתקופה של עד שלושה חודשים | B15: 0 | C15: DT420
A16: פקדון צמוד מדד לתקופה של עד שלושה חודשים | B16: 0 | C16: DT421
A17: פקדון צמוד מט"ח לתקופה של עד שלושה חודשים | B17: 0 | C17: DT422
A18: פקדון במט"ח לתקופה של עד שלושה חודשים | B18: 0 | C18: DT423
A19: בחו"ל
A20: מזומן מט"ח | B20: 0 | C20: DT191
A21: פקדון לתקופה של עד שלושה חודשים בחול | B21: 0 | C21: DT424
A22: ב. ניירות ערך
A23: 1. אגרות חוב ממשלתיות
A24: בישראל - סחיר
A25: ממשלתי צמוד | B25: 700.122 | C25: DT13
A26: ממשלתי צמוד מט"ח | B26: 0 | C26: DT14
A27: ממשלתי לא צמוד קבוע | B27: 542.419 | C27: DT15
A28: ממשלתי לא צמוד משתנה | B28: 0 | C28: DT16
A29: מק"מ | B29: 66.302 | C29: DA9
A30: בישראל - לא סחיר
A31: אג"ח מיועדות מרון | B31: 0 | C31: DT1
A32: אג"ח מיועדות ערד (ריבית 4.86%) | B32: 700.56 | C32: DT400
A33: אג"ח מיועדות ערד (ריבית 5.05%) | B33: 0 | C33: DT401
A34: אג"ח מיועדות | B34: 0 | C34: DT3
A35: פקדונות חשכל | B35: 0 | C35: DA8
A36: אפיק השקעה מובטח תשואה | B36: 6165.104 | C36: DT901
A37: בחו"ל - סחיר
A38: ממשלתי בחו"ל | B38: 0 | C38: DT17
A39: ממשלתי זר בחו"ל | B39: 0 | C39: DT26
A40: בחו"ל - לא סחיר
A41: ממשלתי לא סחיר בחו"ל | B41: 0 | C41: DT425
A42: ממשלתי זר לא סחיר בחו"ל | B42: 0 | C42: DT426
A43: תעודות חוב מסחריות
A44: בישראל - סחיר
A45: תעודות חוב צמוד מדד בדרוג AA- ומעלה | B45: 0 | C45: DT427
...

Sheet 14038 50-60
A2: אינפיניטי מקיפה לבני 50-60 ____________ מספר אישור 14038
A3: דוח חודשי לחודש 2023 / 7
A7: ערך משוערך של נכסי הקופה
A9: נכסים | B9: סכום באלפי ש"ח
A10: א. מזומנים ושווי מזומנים
A11: בישראל
A12: מזומן בש"ח | B12: 265.229 | C12: DA12
A13: מזומן מט"ח | B13: 10.799 | C13: DT11
A14: פרי / פחק | B14: 0 | C14: DA10
A15: פקמ לתקופה של עד שלושה חודשים | B15: 0 | C15: DT420
A16: פקדון צמוד מדד לתקופה של עד שלושה חודשים | B16: 0 | C16: DT421
A17: פקדון צמוד מט"ח לתקופה של עד שלושה חודשים | B17: 0 | C17: DT422
A18: פקדון במט"ח לתקופה של עד שלושה חודשים | B18: 0 | C18: DT423
A19: בחו"ל
A20: מזומן מט"ח | B20: 0 | C20: DT191
A21: פקדון לתקופה של עד שלושה חודשים בחול | B21: 0 | C21: DT424
A22: ב. ניירות ערך
A23: 1. אגרות חוב ממשלתיות
A24: בישראל - סחיר
A25: ממשלתי צמוד | B25: 101.504 | C25: DT13
A26: ממשלתי צמוד מט"ח | B26: 0 | C26: DT14
A27: ממשלתי לא צמוד קבוע | B27: 86.016 | C27: DT15
A28: ממשלתי לא צמוד משתנה | B28: 0 | C28: DT16
A29: מק"מ | B29: 0 | C29: DA9
A30: בישראל - לא סחיר
A31: אג"ח מיועדות מרון | B31: 0 | C31: DT1
A32: אג"ח מיועדות ערד (ריבית 4.86%) | B32: 418.106 | C32: DT400
A33: אג"ח מיועדות ערד (ריבית 5.05%) | B33: 0 | C33: DT401
A34: אג"ח מיועדות | B34: 0 | C34: DT3
A35: פקדונות חשכל | B35: 0 | C35: DA8
A36: אפיק השקעה מובטח תשואה | B36: 781.607 | C36: DT901
A37: בחו"ל - סחיר
A38: ממשלתי בחו"ל | B38: 0 | C38: DT17
A39: ממשלתי זר בחו"ל | B39: 0 | C39: DT26
A40: בחו"ל - לא סחיר
A41: ממשלתי לא סחיר בחו"ל | B41: 0 | C41: DT425
A42: ממשלתי זר לא סחיר בחו"ל | B42: 0 | C42: DT426
A43: תעודות חוב מסחריות
A44: בישראל - סחיר
A45: תעודות חוב צמוד מדד בדרוג AA- ומעלה | B45: 0 | C45: DT427
...

Sheet 14039 60 ומעלה
A2: אינפיניטי מקיפה לבני 60 ומעלה ____________ מספר אישור 14039
A3: דוח חודשי לחודש 2023 / 7
A7: ערך משוערך של נכסי הקופה
A9: נכסים | B9: סכום באלפי ש"ח
A10: א. מזומנים ושווי מזומנים
A11: בישראל
A12: מזומן בש"ח | B12: 186.677 | C12: DA12
A13: מזומן מט"ח | B13: 16.615 | C13: DT11
A14: פרי / פחק | B14: 0 | C14: DA10
A15: פקמ לתקופה של עד שלושה חודשים | B15: 0 | C15: DT420
A16: פקדון צמוד מדד לתקופה של עד שלושה חודשים | B16: 0 | C16: DT421
A17: פקדון צמוד מט"ח לתקופה של עד שלושה חודשים | B17: 0 | C17: DT422
A18: פקדון במט"ח לתקופה של עד שלושה חודשים | B18: 0 | C18: DT423
A19: בחו"ל
A20: מזומן מט"ח | B20: 0 | C20: DT191
A21: פקדון לתקופה של עד שלושה חודשים בחול | B21: 0 | C21: DT424
A22: ב. ניירות ערך
A23: 1. אגרות חוב ממשלתיות
A24: בישראל - סחיר
A25: ממשלתי צמוד | B25: 92.719 | C25: DT13
A26: ממשלתי צמוד מט"ח | B26: 0 | C26: DT14
A27: ממשלתי לא צמוד קבוע | B27: 73.77 | C27: DT15
A28: ממשלתי לא צמוד משתנה | B28: 0 | C28: DT16
A29: מק"מ | B29: 0 | C29: DA9
A30: בישראל - לא סחיר
A31: אג"ח מיועדות מרון | B31: 0 | C31: DT1
A32: אג"ח מיועדות ערד (ריבית 4.86%) | B32: 26.545 | C32: DT400
A33: אג"ח מיועדות ערד (ריבית 5.05%) | B33: 0 | C33: DT401
A34: אג"ח מיועדות | B34: 0 | C34: DT3
A35: פקדונות חשכל | B35: 0 | C35: DA8
A36: אפיק השקעה מובטח תשואה | B36: 1223.991 | C36: DT901
A37: בחו"ל - סחיר
A38: ממשלתי בחו"ל | B38: 0 | C38: DT17
A39: ממשלתי זר בחו"ל | B39: 0 | C39: DT26
A40: בחו"ל - לא סחיר
A41: ממשלתי לא סחיר בחו"ל | B41: 0 | C41: DT425
A42: ממשלתי זר לא סחיר בחו"ל | B42: 0 | C42: DT426
A43: תעודות חוב מסחריות
A44: בישראל - סחיר
A45: תעודות חוב צמוד מדד בדרוג AA- ומעלה | B45: 0 | C45: DT427
...

Sheet 14054 SP500
A2: אינפיניטי מקיפה מחקה מדד S&P 500 ____________ מספר אישור 14054
A3: דוח חודשי לחודש 2023 / 7
A7: ערך משוערך של נכסי הקופה
A9: נכסים | B9: סכום באלפי ש"ח
A10: א. מזומנים ושווי מזומנים
A11: בישראל
A12: מזומן בש"ח | B12: 637.533 | C12: DA12
A13: מזומן מט"ח | B13: -155.088 | C13: DT11
A14: פרי / פחק | B14: 0 | C14: DA10
A15: פקמ לתקופה של עד שלושה חודשים | B15: 0 | C15: DT420
A16: פקדון צמוד מדד לתקופה של עד שלושה חודשים | B16: 0 | C16: DT421
A17: פקדון צמוד מט"ח לתקופה של עד שלושה חודשים | B17: 0 | C17: DT422
A18: פקדון במט"ח לתקופה של עד שלושה חודשים | B18: 0 | C18: DT423
A19: בחו"ל
A20: מזומן מט"ח | B20: 0 | C20: DT191
A21: פקדון לתקופה של עד שלושה חודשים בחול | B21: 0 | C21: DT424
A22: ב. ניירות ערך
A23: 1. אגרות חוב ממשלתיות
A24: בישראל - סחיר
A25: ממשלתי צמוד | B25: 0 | C25: DT13
A26: ממשלתי צמוד מט"ח | B26: 0 | C26: DT14
A27: ממשלתי לא צמוד קבוע | B27: 0 | C27: DT15
A28: ממשלתי לא צמוד משתנה | B28: 0 | C28: DT16
A29: מק"מ | B29: 0 | C29: DA9
A30: בישראל - לא סחיר
A31: אג"ח מיועדות מרון | B31: 0 | C31: DT1
A32: אג"ח מיועדות ערד (ריבית 4.86%) | B32: 66.733 | C32: DT400
A33: אג"ח מיועדות ערד (ריבית 5.05%) | B33: 0 | C33: DT401
A34: אג"ח מיועדות | B34: 0 | C34: DT3
A35: פקדונות חשכל | B35: 0 | C35: DA8
A36: אפיק השקעה מובטח תשואה | B36: 920.331 | C36: DT901
A37: בחו"ל - סחיר
A38: ממשלתי בחו"ל | B38: 0 | C38: DT17
A39: ממשלתי זר בחו"ל | B39: 0 | C39: DT26
A40: בחו"ל - לא סחיר
A41: ממשלתי לא סחיר בחו"ל | B41: 0 | C41: DT425
A42: ממשלתי זר לא סחיר בחו"ל | B42: 0 | C42: DT426
A43: תעודות חוב מסחריות
A44: בישראל - סחיר
A45: תעודות חוב צמוד מדד בדרוג AA- ומעלה | B45: 0 | C45: DT427
...

Sheet מקבלי קצבה
A2: אינפיניטי מקיפה למקבלי קצבה ____________ מספר אישור 14043
A3: דוח חודשי לחודש 2023 / 7
A7: ערך משוערך של נכסי הקופה
A9: נכסים | B9: סכום באלפי ש"ח
A10: א. מזומנים ושווי מזומנים
A11: בישראל
A12: מזומן בש"ח | B12: 24.393 | C12: DA12
A13: מזומן מט"ח | B13: 0.618 | C13: DT11
A14: פרי / פחק | B14: 0 | C14: DA10
A15: פקמ לתקופה של עד שלושה חודשים | B15: 0 | C15: DT420
A16: פקדון צמוד מדד לתקופה של עד שלושה חודשים | B16: 0 | C16: DT421
A17: פקדון צמוד מט"ח לתקופה של עד שלושה חודשים | B17: 0 | C17: DT422
A18: פקדון במט"ח לתקופה של עד שלושה חודשים | B18: 0 | C18: DT423
A19: בחו"ל
A20: מזומן מט"ח | B20: 0 | C20: DT191
A21: פקדון לתקופה של עד שלושה חודשים בחול | B21: 0 | C21: DT424
A22: ב. ניירות ערך
A23: 1. אגרות חוב ממשלתיות
A24: בישראל - סחיר
A25: ממשלתי צמוד | B25: 32.281 | C25: DT13
A26: ממשלתי צמוד מט"ח | B26: 0 | C26: DT14
A27: ממשלתי לא צמוד קבוע | B27: 31.443 | C27: DT15
A28: ממשלתי לא צמוד משתנה | B28: 0 | C28: DT16
A29: מק"מ | B29: 0 | C29: DA9
A30: בישראל - לא סחיר
A31: אג"ח מיועדות מרון | B31: 0 | C31: DT1
A32: אג"ח מיועדות ערד (ריבית 4.86%) | B32: 66.477 | C32: DT400
A33: אג"ח מיועדות ערד (ריבית 5.05%) | B33: 0 | C33: DT401
A34: אג"ח מיועדות | B34: 0 | C34: DT3
A35: פקדונות חשכל | B35: 0 | C35: DA8
A36: אפיק השקעה מובטח תשואה | B36: 1180.215 | C36: DT901
A37: בחו"ל - סחיר
A38: ממשלתי בחו"ל | B38: 0 | C38: DT17
A39: ממשלתי זר בחו"ל | B39: 0 | C39: DT26
A40: בחו"ל - לא סחיר
A41: ממשלתי לא סחיר בחו"ל | B41: 0 | C41: DT425
A42: ממשלתי זר לא סחיר בחו"ל | B42: 0 | C42: DT426
A43: תעודות חוב מסחריות
A44: בישראל - סחיר
A45: תעודות חוב צמוד מדד בדרוג AA- ומעלה | B45: 0 | C45: DT427
...

Sheet מניות 14040
A2: אינפיניטי מקיפה פאסיבי - מדדי מניות ____________ מספר אישור 14040
A3: דוח חודשי לחודש 2023 / 7
A7: ערך משוערך של נכסי הקופה
A9: נכסים | B9: סכום באלפי ש"ח
A10: א. מזומנים ושווי מזומנים
A11: בישראל
A12: מזומן בש"ח | B12: 73.318 | C12: DA12
A13: מזומן מט"ח | B13: 8.984 | C13: DT11
A14: פרי / פחק | B14: 0 | C14: DA10
A15: פקמ לתקופה של עד שלושה חודשים | B15: 0 | C15: DT420
A16: פקדון צמוד מדד לתקופה של עד שלושה חודשים | B16: 0 | C16: DT421
A17: פקדון צמוד מט"ח לתקופה של עד שלושה חודשים | B17: 0 | C17: DT422
A18: פקדון במט"ח לתקופה של עד שלושה חודשים | B18: 0 | C18: DT423
A19: בחו"ל
A20: מזומן מט"ח | B20: 0 | C20: DT191
A21: פקדון לתקופה של עד שלושה חודשים בחול | B21: 0 | C21: DT424
A22: ב. ניירות ערך
A23: 1. אגרות חוב ממשלתיות
A24: בישראל - סחיר
A25: ממשלתי צמוד | B25: 0 | C25: DT13
A26: ממשלתי צמוד מט"ח | B26: 0 | C26: DT14
A27: ממשלתי לא צמוד קבוע | B27: 0 | C27: DT15
A28: ממשלתי לא צמוד משתנה | B28: 0 | C28: DT16
A29: מק"מ | B29: 0 | C29: DA9
A30: בישראל - לא סחיר
A31: אג"ח מיועדות מרון | B31: 0 | C31: DT1
A32: אג"ח מיועדות ערד (ריבית 4.86%) | B32: 51.259 | C32: DT400
A33: אג"ח מיועדות ערד (ריבית 5.05%) | B33: 0 | C33: DT401
A34: אג"ח מיועדות | B34: 0 | C34: DT3
A35: פקדונות חשכל | B35: 0 | C35: DA8
A36: אפיק השקעה מובטח תשואה | B36: 938.448 | C36: DT901
A37: בחו"ל - סחיר
A38: ממשלתי בחו"ל | B38: 0 | C38: DT17
A39: ממשלתי זר בחו"ל | B39: 0 | C39: DT26
A40: בחו"ל - לא סחיר
A41: ממשלתי לא סחיר בחו"ל | B41: 0 | C41: DT425
A42: ממשלתי זר לא סחיר בחו"ל | B42: 0 | C42: DT426
A43: תעודות חוב מסחריות
A44: בישראל - סחיר
A45: תעודות חוב צמוד מדד בדרוג AA- ומעלה | B45: 0 | C45: DT427
...

Sheet 14042 כהלכה
A2: אינפיניטי מקיפה כהלכה ____________ מספר אישור 14042
A3: דוח חודשי לחודש 2023 / 7
A7: ערך משוערך של נכסי הקופה
A9: נכסים | B9: סכום באלפי ש"ח
A10: א. מזומנים ושווי מזומנים
A11: בישראל
A12: מזומן בש"ח | B12: 169.847 | C12: DA12
A13: מזומן מט"ח | B13: 5.925 | C13: DT11
A14: פרי / פחק | B14: 0 | C14: DA10
A15: פקמ לתקופה של עד שלושה חודשים | B15: 0 | C15: DT420
A16: פקדון צמוד מדד לתקופה של עד שלושה חודשים | B16: 0 | C16: DT421
A17: פקדון צמוד מט"ח לתקופה של עד שלושה חודשים | B17: 0 | C17: DT422
A18: פקדון במט"ח לתקופה של עד שלושה חודשים | B18: 0 | C18: DT423
A19: בחו"ל
A20: מזומן מט"ח | B20: 0 | C20: DT191
A21: פקדון לתקופה של עד שלושה חודשים בחול | B21: 0 | C21: DT424
A22: ב. ניירות ערך
A23: 1. אגרות חוב ממשלתיות
A24: בישראל - סחיר
A25: ממשלתי צמוד | B25: 0 | C25: DT13
A26: ממשלתי צמוד מט"ח | B26: 0 | C26: DT14
A27: ממשלתי לא צמוד קבוע | B27: 0 | C27: DT15
A28: ממשלתי לא צמוד משתנה | B28: 0 | C28: DT16
A29: מק"מ | B29: 0 | C29: DA9
A30: בישראל - לא סחיר
A31: אג"ח מיועדות מרון | B31: 0 | C31: DT1
A32: אג"ח מיועדות ערד (ריבית 4.86%) | B32: 9.416 | C32: DT400
A33: אג"ח מיועדות ערד (ריבית 5.05%) | B33: 0 | C33: DT401
A34: אג"ח מיועדות | B34: 0 | C34: DT3
A35: פקדונות חשכל | B35: 0 | C35: DA8
A36: אפיק השקעה מובטח תשואה | B36: 222.866 | C36: DT901
A37: בחו"ל - סחיר
A38: ממשלתי בחו"ל | B38: 0 | C38: DT17
A39: ממשלתי זר בחו"ל | B39: 0 | C39: DT26
A40: בחו"ל - לא סחיר
A41: ממשלתי לא סחיר בחו"ל | B41: 0 | C41: DT425
A42: ממשלתי זר לא סחיר בחו"ל | B42: 0 | C42: DT426
A43: תעודות חוב מסחריות
A44: בישראל - סחיר
A45: תעודות חוב צמוד מדד בדרוג AA- ומעלה | B45: 0 | C45: DT427
...

Sheet 14334 מחקה מדדי מניות
A2: אינפיניטי מקיפה עוקב מדדים גמיש ____________ מספר אישור 14334
A3: דוח חודשי לחודש 2023 / 7
A7: ערך משוערך של נכסי הקופה
A9: נכסים | B9: סכום באלפי ש"ח
A10: א. מזומנים ושווי מזומנים
A11: בישראל
A12: מזומן בש"ח | B12: 0.18 | C12: DA12
A13: מזומן מט"ח | B13: 0 | C13: DT11
A14: פרי / פחק | B14: 0 | C14: DA10
A15: פקמ לתקופה של עד שלושה חודשים | B15: 0 | C15: DT420
A16: פקדון צמוד מדד לתקופה של עד שלושה חודשים | B16: 0 | C16: DT421
A17: פקדון צמוד מט"ח לתקופה של עד שלושה חודשים | B17: 0 | C17: DT422
A18: פקדון במט"ח לתקופה של עד שלושה חודשים | B18: 0 | C18: DT423
A19: בחו"ל
A20: מזומן מט"ח | B20: 0 | C20: DT191
A21: פקדון לתקופה של עד שלושה חודשים בחול | B21: 0 | C21: DT424
A22: ב. ניירות ערך
A23: 1. אגרות חוב ממשלתיות
A24: בישראל - סחיר
A25: ממשלתי צמוד | B25: 0 | C25: DT13
A26: ממשלתי צמוד מט"ח | B26: 0 | C26: DT14
A27: ממשלתי לא צמוד קבוע | B27: 0 | C27: DT15
A28: ממשלתי לא צמוד משתנה | B28: 0 | C28: DT16
A29: מק"מ | B29: 0 | C29: DA9
A30: בישראל - לא סחיר
A31: אג"ח מיועדות מרון | B31: 0 | C31: DT1
A32: אג"ח מיועדות ערד (ריבית 4.86%) | B32: 0 | C32: DT400
A33: אג"ח מיועדות ערד (ריבית 5.05%) | B33: 0 | C33: DT401
A34: אג"ח מיועדות | B34: 0 | C34: DT3
A35: פקדונות חשכל | B35: 0 | C35: DA8
A36: אפיק השקעה מובטח תשואה | B36: 0.268 | C36: DT901
A37: בחו"ל - סחיר
A38: ממשלתי בחו"ל | B38: 0 | C38: DT17
A39: ממשלתי זר בחו"ל | B39: 0 | C39: DT26
A40: בחו"ל - לא סחיר
A41: ממשלתי לא סחיר בחו"ל | B41: 0 | C41: DT425
A42: ממשלתי זר לא סחיר בחו"ל | B42: 0 | C42: DT426
A43: תעודות חוב מסחריות
A44: בישראל - סחיר
A45: תעודות חוב צמוד מדד בדרוג AA- ומעלה | B45: 0 | C45: DT427
...
