Workbook

Sheet פרסום מרכיבי תשואה
B1: פירוט תרומת אפיקי ההשקעה לתשואה הכוללת
B2: אינפיניטי השתלמות, גמל ופנסיה
B3: אינפיניטי מקיפה משולב סחיר
B4: 2023
B5: אפיקי השקעה: | C5: התרומה לתשואה ינואר 2023 | D5: שיעור מסך הנכסים ינואר 2023 | E5: התרומה לתשואה פברואר 2023 | F5: שיעור מסך הנכסים פברואר 2023 | G5: התרומה לתשואה מרץ 2023 | H5: שיעור מסך הנכסים מרץ 2023 | I5: התרומה לתשואה אפריל 2023 | J5: שיעור מסך הנכסים אפריל 2023 | K5: התרומה לתשואה מאי 2023 | L5: שיעור מסך הנכסים מאי 2023 | M5: התרומה לתשואה יוני 2023 | N5: שיעור מסך הנכסים יוני 2023 | O5: התרומה לתשואה יולי 2023 | P5: שיעור מסך הנכסים יולי 2023 | Q5: התרומה לתשואה אוגוסט 2023 | R5: שיעור מסך הנכסים אוגוסט 2023 | S5: התרומה לתשואה ספטמבר 2023 | T5: שיעור מסך הנכסים ספטמבר 2023 | U5: התרומה לתשואה אוקטובר 2023 | V5: שיעור מסך הנכסים אוקטובר 2023 | W5: התרומה לתשואה נובמבר 2023 | X5: שיעור מסך הנכסים נובמבר 2023 | Y5: התרומה לתשואה דצמבר 2023 | Z5: שיעור מסך הנכסים דצמבר 2023
B6: מזומנים ושווי מזומנים | C6: 0 | D6: 0 | E6: 0 | F6: 0 | G6: 0 | H6: 0 | I6: 0 | J6: 0 | K6: 0 | L6: 0 | M6: 0 | N6: 0 | O6: 0 | P6: 0 | Q6: 0 | R6: 0 | S6: 0 | T6: 0 | U6: 0 | V6: 0 | W6: 0 | X6: 0 | Y6: 0 | Z6: 0.363621
B7: אגרות חוב ממשלתיות | C7: 0 | D7: 0 | E7: 0 | F7: 0 | G7: 0 | H7: 0 | I7: 0 | J7: 0 | K7: 0 | L7: 0 | M7: 0 | N7: 0 | O7: 0 | P7: 0 | Q7: 0 | R7: 0 | S7: 0 | T7: 0 | U7: 0 | V7: 0 | W7: 0 | X7: 0 | Y7: -0.000116 | Z7: 0.085831
B8: תעודות חוב מסחריות סחירות | C8: 0 | D8: 0 | E8: 0 | F8: 0 | G8: 0 | H8: 0 | I8: 0 | J8: 0 | K8: 0 | L8: 0 | M8: 0 | N8: 0 | O8: 0 | P8: 0 | Q8: 0 | R8: 0 | S8: 0 | T8: 0 | U8: 0 | V8: 0 | W8: 0 | X8: 0 | Y8: 0 | Z8: 0
B9: תעודות חוב מסחריות לא סחירות | C9: 0 | D9: 0 | E9: 0 | F9: 0 | G9: 0 | H9: 0 | I9: 0 | J9: 0 | K9: 0 | L9: 0 | M9: 0 | N9: 0 | O9: 0 | P9: 0 | Q9: 0 | R9: 0 | S9: 0 | T9: 0 | U9: 0 | V9: 0 | W9: 0 | X9: 0 | Y9: 0 | Z9: 0
B10: אגרות חוב קונצרניות סחירות | C10: 0 | D10: 0 | E10: 0 | F10: 0 | G10: 0 | H10: 0 | I10: 0 | J10: 0 | K10: 0 | L10: 0 | M10: 0 | N10: 0 | O10: 0 | P10: 0 | Q10: 0 | R10: 0 | S10: 0 | T10: 0 | U10: 0 | V10: 0 | W10: 0 | X10: 0 | Y10: 0 | Z10: 0
B11: אגרות חוב קונצרניות לא סחירות | C11: 0 | D11: 0 | E11: 0 | F11: 0 | G11: 0 | H11: 0 | I11: 0 | J11: 0 | K11: 0 | L11: 0 | M11: 0 | N11: 0 | O11: 0 | P11: 0 | Q11: 0 | R11: 0 | S11: 0 | T11: 0 | U11: 0 | V11: 0 | W11: 0 | X11: 0 | Y11: 0 | Z11: 0
B12: מניות | C12: 0 | D12: 0 | E12: 0 | F12: 0 | G12: 0 | H12: 0 | I12: 0 | J12: 0 | K12: 0 | L12: 0 | M12: 0 | N12: 0 | O12: 0 | P12: 0 | Q12: 0 | R12: 0 | S12: 0 | T12: 0 | U12: 0 | V12: 0 | W12: 0 | X12: 0 | Y12: 0 | Z12: 0
B13: קרנות סל | C13: 0 | D13: 0 | E13: 0 | F13: 0 | G13: 0 | H13: 0 | I13: 0 | J13: 0 | K13: 0 | L13: 0 | M13: 0 | N13: 0 | O13: 0 | P13: 0 | Q13: 0 | R13: 0 | S13: 0 | T13: 0 | U13: 0 | V13: 0 | W13: 0 | X13: 0 | Y13: -0.001796 | Z13: 0.511169
B14: קרנות נאמנות | C14: 0 | D14: 0 | E14: 0 | F14: 0 | G14: 0 | H14: 0 | I14: 0 | J14: 0 | K14: 0 | L14: 0 | M14: 0 | N14: 0 | O14: 0 | P14: 0 | Q14: 0 | R14: 0 | S14: 0 | T14: 0 | U14: 0 | V14: 0 | W14: 0 | X14: 0 | Y14: -3.6e-05 | Z14: 0.00746
B15: קרנות השקעה | C15: 0 | D15: 0 | E15: 0 | F15: 0 | G15: 0 | H15: 0 | I15: 0 | J15: 0 | K15: 0 | L15: 0 | M15: 0 | N15: 0 | O15: 0 | P15: 0 | Q15: 0 | R15: 0 | S15: 0 | T15: 0 | U15: 0 | V15: 0 | W15: 0 | X15: 0 | Y15: 0 | Z15: 0
B16: כתבי אופציה | C16: 0 | D16: 0 | E16: 0 | F16: 0 | G16: 0 | H16: 0 | I16: 0 | J16: 0 | K16: 0 | L16: 0 | M16: 0 | N16: 0 | O16: 0 | P16: 0 | Q16: 0 | R16: 0 | S16: 0 | T16: 0 | U16: 0 | V16: 0 | W16: 0 | X16: 0 | Y16: 0 | Z16: 0
B17: חוזים עתידיים | C17: 0 | D17: 0 | E17: 0 | F17: 0 | G17: 0 | H17: 0 | I17: 0 | J17: 0 | K17: 0 | L17: 0 | M17: 0 | N17: 0 | O17: 0 | P17: 0 | Q17: 0 | R17: 0 | S17: 0 | T17: 0 | U17: 0 | V17: 0 | W17: 0 | X17: 0 | Y17: 0 | Z17: 0
... B25: תשואה חודשית | C25: 0 | D25: 0 | E25: 0 | F25: 0 | G25: 0 | H25: 0 | I25: 0 | J25: 0 | K25: 0 | L25: 0 | M25: 0 | N25: 0 | O25: 0 | P25: 0 | Q25: 0 | R25: 0 | S25: 0 | T25: 0 | U25: 0 | V25: 0 | W25: 0 | X25: 0 | Y25: -0.001947 | Z25: 1
B26: סה"כ רווח השקעתי לתקופה (אלפי ש"ח) | C26: 0 | E26: 0 | G26: 0 | I26: 0 | K26: 0 | M26: 0 | O26: 0 | Q26: 0 | S26: 0 | U26: 0 | W26: 0 | Y26: -0.00219
B28: נכסים בארץ | C28: 0 | D28: 0 | E28: 0 | F28: 0 | G28: 0 | H28: 0 | I28: 0 | J28: 0 | K28: 0 | L28: 0 | M28: 0 | N28: 0 | O28: 0 | P28: 0 | Q28: 0 | R28: 0 | S28: 0 | T28: 0 | U28: 0 | V28: 0 | W28: 0 | X28: 0 | Y28: -0.001947 | Z28: 1
B29: נכסים בחול | C29: 0 | D29: 0 | E29: 0 | F29: 0 | G29: 0 | H29: 0 | I29: 0 | J29: 0 | K29: 0 | L29: 0 | M29: 0 | N29: 0 | O29: 0 | P29: 0 | Q29: 0 | R29: 0 | S29: 0 | T29: 0 | U29: 0 | V29: 0 | W29: 0 | X29: 0 | Y29: 0 | Z29: 0
B30: תשואה חודשית | C30: 0 | D30: 0 | E30: 0 | F30: 0 | G30: 0 | H30: 0 | I30: 0 | J30: 0 | K30: 0 | L30: 0 | M30: 0 | N30: 0 | O30: 0 | P30: 0 | Q30: 0 | R30: 0 | S30: 0 | T30: 0 | U30: 0 | V30: 0 | W30: 0 | X30: 0 | Y30: -0.001947 | Z30: 1
B32: נכסים סחירים | C32: 0 | D32: 0 | E32: 0 | F32: 0 | G32: 0 | H32: 0 | I32: 0 | J32: 0 | K32: 0 | L32: 0 | M32: 0 | N32: 0 | O32: 0 | P32: 0 | Q32: 0 | R32: 0 | S32: 0 | T32: 0 | U32: 0 | V32: 0 | W32: 0 | X32: 0 | Y32: -0.001947 | Z32: 0.968081
B33: נכסים לא סחירים | C33: 0 | D33: 0 | E33: 0 | F33: 0 | G33: 0 | H33: 0 | I33: 0 | J33: 0 | K33: 0 | L33: 0 | M33: 0 | N33: 0 | O33: 0 | P33: 0 | Q33: 0 | R33: 0 | S33: 0 | T33: 0 | U33: 0 | V33: 0 | W33: 0 | X33: 0 | Y33: 0 | Z33: 0.031919
B34: תשואה חודשית | C34: 0 | D34: 0 | E34: 0 | F34: 0 | G34: 0 | H34: 0 | I34: 0 | J34: 0 | K34: 0 | L34: 0 | M34: 0 | N34: 0 | O34: 0 | P34: 0 | Q34: 0 | R34: 0 | S34: 0 | T34: 0 | U34: 0 | V34: 0 | W34: 0 | X34: 0 | Y34: -0.001947 | Z34: 1
B36: נתונים מצטברים | C36: התרומה לתשואה ינואר-מרץ 2023 | D36: שיעור מסך הנכסים ינואר-מרץ 2023 | E36: התרומה לתשואה ינואר-יוני 2023 | F36: שיעור מסך הנכסים ינואר-יוני 2023 | G36: התרומה לתשואה ינואר-ספטמבר 2023 | H36: שיעור מסך הנכסים ינואר-ספטמבר 2023 | I36: התרומה לתשואה ינואר-דצמבר 2023 | J36: שיעור מסך הנכסים ינואר-דצמבר 2023
B37: מזומנים ושווי מזומנים | C37: 0 | D37: 0 | E37: 0 | F37: 0 | G37: 0 | H37: 0 | I37: 0 | J37: 0.363621
B38: אגרות חוב ממשלתיות | C38: 0 | D38: 0 | E38: 0 | F38: 0 | G38: 0 | H38: 0 | I38: -0.000116 | J38: 0.085831
B39: תעודות חוב מסחריות סחירות | C39: 0 | D39: 0 | E39: 0 | F39: 0 | G39: 0 | H39: 0 | I39: 0 | J39: 0
B40: תעודות חוב מסחריות לא סחירות | C40: 0 | D40: 0 | E40: 0 | F40: 0 | G40: 0 | H40: 0 | I40: 0 | J40: 0
B41: אגרות חוב קונצרניות סחירות | C41: 0 | D41: 0 | E41: 0 | F41: 0 | G41: 0 | H41: 0 | I41: 0 | J41: 0
B42: אגרות חוב קונצרניות לא סחירות | C42: 0 | D42: 0 | E42: 0 | F42: 0 | G42: 0 | H42: 0 | I42: 0 | J42: 0
B43: מניות | C43: 0 | D43: 0 | E43: 0 | F43: 0 | G43: 0 | H43: 0 | I43: 0 | J43: 0
B44: קרנות סל | C44: 0 | D44: 0 | E44: 0 | F44: 0 | G44: 0 | H44: 0 | I44: -0.001796 | J44: 0.511169
B45: קרנות נאמנות | C45: 0 | D45: 0 | E45: 0 | F45: 0 | G45: 0 | H45: 0 | I45: -3.6e-05 | J45: 0.00746
B46: קרנות השקעה | C46: 0 | D46: 0 | E46: 0 | F46: 0 | G46: 0 | H46: 0 | I46: 0 | J46: 0
B47: כתבי אופציה | C47: 0 | D47: 0 | E47: 0 | F47: 0 | G47: 0 | H47: 0 | I47: 0 | J47: 0
B48: חוזים עתידיים | C48: 0 | D48: 0 | E48: 0 | F48: 0 | G48: 0 | H48: 0 | I48: 0 | J48: 0
... B56: תשואה מצטברת | C56: 0 | D56: 0 | E56: 0 | F56: 0 | G56: 0 | H56: 0 | I56: -0.001947 | J56: 1
B57: סה"כ רווח השקעתי לתקופה (אלפי ש"ח) | C57: 0 | E57: 0 | G57: 0 | I57: -0.00219
...

Sheet גיליון1
I12: שיעור תשואה מצטברת | J12: תשואה נומינלית מצטברת
H13: אינפיניטי מקיפה לבני 50 ומטה | I13: 13.775 | J13: 3217.772
H14: אינפיניטי מקיפה לבני 50-60 | I14: 15.571 | J14: 583.691
H15: אינפיניטי מקיפה לבני 60 ומעלה | I15: 9.568 | J15: 404.774
H16: אינפיניטי מקיפה מחקה מדד S&P 500 | I16: 22.25 | J16: 737.795
H17: אינפיניטי מקיפה פאסיבי - מדדי מניות | I17: 18.014 | J17: 546.144
H18: אינפיניטי מקיפה כהלכה | I18: 16.612 | J18: 157.977
H19: אינפיניטי מקיפה עוקב מדדים גמיש | I19: 5.179 | J19: 0.211
H20: אינפיניטי מקיפה למקבלי קצבה | I20: 10.57 | J20: 211.93
H22: ה | I22: מספר חשבון | J22: קוד אוצר | K22: יתרה לסוף חודש לפני דמ"נ(כולל נכסים לא משוייכים) | L22: הפקדות משוייכות | M22: ד"נ מהפקדות משוייכות | N22: ד"נ מצבירה | O22: סה"כ ד"נ | P22: יתרה לסוף חודש לאחר דמ"נ(כולל נכסים לא משוייכים)
H23: קרן מקיפה | J23: 14036 | K23: =+[1]מסכם!P23 -> 0.0014501772 | L23: =+[1]מסכם!Q23 -> 0 | M23: =+[1]מסכם!L23 -> 6980.53 | N23: =+[1]מסכם!M23 -> 862984.21 | O23: =M23+N23 -> 869964.74 | P23: =+[1]מסכם!O23 -> 0.010000673
H24: אינפיניטי מקיפה לבני 50 ומטה – השקעות | I24: 275554 | J24: 14037 | K24: =+[1]מסכם!P24 -> 0.001541179 | L24: =+[1]מסכם!Q24 -> 0 | M24: =+[1]מסכם!L24 -> 175 | N24: =+[1]מסכם!M24 -> 107138.75 | O24: =M24+N24 -> 107313.75 | P24: =+[1]מסכם!O24 -> 0.01
H25: אינפיניטי מקיפה לבני 50 עד 60 – השקעות | I25: 275597 | J25: 14038 | K25: =+[1]מסכם!P25 | L25: =+[1]מסכם!Q25 -> 0 | M25: =+[1]מסכם!L25 -> 0 | N25: =+[1]מסכם!M25 -> 0 | O25: =M25+N25 -> 0 | P25: =+[1]מסכם!O25 -> 0
H26: אינפיניטי מקיפה לבני 60 ומעלה – השקעות | I26: 275686 | J26: 14039 | K26: =+[1]מסכם!P26 -> 0.0019172495 | L26: =+[1]מסכם!Q26 -> 0 | M26: =+[1]מסכם!L26 -> 7293050.6 | N26: =+[1]מסכם!M26 -> 1.010686e+08 | O26: =M26+N26 -> 1.0836165e+08 | P26: =+[1]מסכם!O26 -> 0.010000002
H27: אינפיניטי מקיפה מחקה מדד S&P500 – השקעות | I27: 275805 | J27: 14054 | K27: =+[1]מסכם!P27 -> 0 | L27: =+[1]מסכם!Q27 -> 0 | M27: =+[1]מסכם!L27 -> 0 | N27: =+[1]מסכם!M27 -> 0 | O27: =M27+N27 -> 0 | P27: =+[1]מסכם!O27 -> 0
H28: אינפיניטי מקיפה פאסיבי – מדדי מניות – השקעות | I28: 275856 | J28: 14040 | K28: =+[1]מסכם!P28 -> 0 | L28: =+[1]מסכם!Q28 -> 0 | M28: =+[1]מסכם!L28 -> 0 | N28: =+[1]מסכם!M28 -> 0 | O28: =M28+N28 -> 0 | P28: =+[1]מסכם!O28 -> 0
H29: אינפיניטי מקיפה כהלכה – השקעות | I29: 275937 | J29: 14042 | K29: =+[1]מסכם!P29 -> 0 | L29: =+[1]מסכם!Q29 -> 0 | M29: =+[1]מסכם!L29 -> 0 | N29: =+[1]מסכם!M29 -> 0 | O29: =M29+N29 -> 0 | P29: =+[1]מסכם!O29 -> 0
H30: אינפיניטי מקיפה משולב סחיר | I30: 447916 | J30: 14333 | K30: =+[1]מסכם!P30 -> 0 | L30: =+[1]מסכם!Q30 -> 0 | M30: =+[1]מסכם!L30 -> 0 | N30: =+[1]מסכם!M30 -> 0 | O30: =M30+N30 -> 0 | P30: =+[1]מסכם!O30 -> 0
H31: אינפיניטי מקיפה עוקב מדדים גמיש | I31: 448165 | J31: 14334 | K31: =+[1]מסכם!P31 -> 0 | L31: =+[1]מסכם!Q31 -> 0 | M31: =+[1]מסכם!L31 -> 0 | N31: =+[1]מסכם!M31 -> 0 | O31: =M31+N31 -> 0 | P31: =+[1]מסכם!O31 -> 0
H32: אינפיניטי מקיפה אג"ח מיועדות | I32: 275953 | K32: =+[1]מסכם!P32 -> 0 | L32: =+[1]מסכם!Q32 -> 0 | M32: =+[1]מסכם!L32 -> 0 | N32: =+[1]מסכם!M32 -> 0 | O32: =M32+N32 -> 0 | P32: =+[1]מסכם!O32 -> 0
H33: אינפיניטי מקיפה למקבלי קצבה | I33: 273705 | J33: 14043 | K33: =+[1]מסכם!P33 -> 0 | L33: =+[1]מסכם!Q33 -> 0 | M33: =+[1]מסכם!L33 -> 10 | N33: =+[1]מסכם!M33 -> 11 | O33: =M33+N33 -> 21 | P33: =+[1]מסכם!O33 -> 0
